BEGIN:VCALENDAR
VERSION:2.0
PRODID:-//Rural Northeast Wisconsin Families - ECPv6.15.20//NONSGML v1.0//EN
CALSCALE:GREGORIAN
METHOD:PUBLISH
X-ORIGINAL-URL:https://ruralnewfamilies.com
X-WR-CALDESC:Events for Rural Northeast Wisconsin Families
REFRESH-INTERVAL;VALUE=DURATION:PT1H
X-Robots-Tag:noindex
X-PUBLISHED-TTL:PT1H
BEGIN:VTIMEZONE
TZID:America/Chicago
BEGIN:DAYLIGHT
TZOFFSETFROM:-0600
TZOFFSETTO:-0500
TZNAME:CDT
DTSTART:20240310T080000
END:DAYLIGHT
BEGIN:STANDARD
TZOFFSETFROM:-0500
TZOFFSETTO:-0600
TZNAME:CST
DTSTART:20241103T070000
END:STANDARD
BEGIN:DAYLIGHT
TZOFFSETFROM:-0600
TZOFFSETTO:-0500
TZNAME:CDT
DTSTART:20250309T080000
END:DAYLIGHT
BEGIN:STANDARD
TZOFFSETFROM:-0500
TZOFFSETTO:-0600
TZNAME:CST
DTSTART:20251102T070000
END:STANDARD
BEGIN:DAYLIGHT
TZOFFSETFROM:-0600
TZOFFSETTO:-0500
TZNAME:CDT
DTSTART:20260308T080000
END:DAYLIGHT
BEGIN:STANDARD
TZOFFSETFROM:-0500
TZOFFSETTO:-0600
TZNAME:CST
DTSTART:20261101T070000
END:STANDARD
END:VTIMEZONE
BEGIN:VEVENT
DTSTART;TZID=America/Chicago:20250317T000000
DTEND;TZID=America/Chicago:20250322T235959
DTSTAMP:20260424T205017
CREATED:20250316T070731Z
LAST-MODIFIED:20250316T072941Z
UID:10008513-1742169600-1742687999@ruralnewfamilies.com
SUMMARY:New Dublin 🍀 St Patrick's Week of Activities (New London)
DESCRIPTION:2025 New Dublin St Patrick’s Week ScheduleDownload
URL:https://ruralnewfamilies.com/event/new-dublin-%f0%9f%8d%80-st-patricks-week-of-activities-new-london/
LOCATION:St Joseph Residence\, 107 E Beckert Rd\, New London\, Wisconsin\, United States
CATEGORIES:Live Music,Parade,Plan Ahead,St Patrick's Day
GEO:44.3745544;-88.7377206
X-APPLE-STRUCTURED-LOCATION;VALUE=URI;X-ADDRESS=St Joseph Residence 107 E Beckert Rd New London Wisconsin United States;X-APPLE-RADIUS=500;X-TITLE=107 E Beckert Rd:geo:-88.7377206,44.3745544
END:VEVENT
BEGIN:VEVENT
DTSTART;TZID=America/Chicago:20250318T000000
DTEND;TZID=America/Chicago:20250318T235959
DTSTAMP:20260424T205017
CREATED:20250226T232526Z
LAST-MODIFIED:20250226T232528Z
UID:10008441-1742256000-1742342399@ruralnewfamilies.com
SUMMARY:🛍 Shop Small Support Local
DESCRIPTION:We are working on creating a new and improved Rural Northeast Wisconsin Families Restaurant Guide!  Let us help make the mealtime decisions easier. \n\n\n\nAs a hockey family\, knowing who is open after games and practices\, that serves something for my entire family is a MUST-HAVE!  (so any restaurants within a 90-minute drive of Shawano is ideal) \n\n\n\nWe know a lot of people love to support their local businesses\, but may not know all the services that are provided.  We’re working on closing that gap by offering a business directory. If you’re interested in becoming part of our business directory\, you can find out more here  \n\n\n\nWe have many affiliate partners where purchases you make with them\, will also help our small business.  (The following links are affiliate links and we may earn a commission on qualifying purchases at no additional cost to you.) \n\n\n\n\nPlant Therapy\n\n\n\nAmazon\n\n\n\nThink Board – use Code MarieVandenberg to save 20% off site-wide\n\n\n\nLehman’s\n\n\n\nTry The World – \n\n\n\nReally Good Stuff\n\n\n\nChess. com – my teenager recently discovered a love of chess.\n\n\n\nHockey Monkey\n\n\n\nSteve Spangler Science – Save up to 60% off with our Clearance Sale \n\n\n\nNaturally Nestled\n\n\n\nmSpy – what are your kids doing on their phone/tablet that you can’t see?\n\n\n\nMud/Wtr  – Save 20% sitewide with this link (first order only) (My Dr suggested trying this when I suffer consequences from drinking too much coffee.  I use both the Mud/Wtr latte and Rest to help at bedtime when I can’t shut my brain off)\n\n\n\n\nPurchases made through the above links allow us to earn commissions when you use our links which we will put towards our business expenses\, keep our lights on\, and keep our content FREE for YOU- our readers and LOW for our local advertisers\, and sponsors. \n\n\n\nWe are hosting one fundraiser.  This is an on-going fundraiser.    \n\n\n\n\nMabel’s Labels – (Select Rural Northeast Wisconsin Families as the organization) – NO MORE Lost Mittens (coats\, shoes\, hats\, water bottles\, jackets\, etc)\n\n\n\n\nThe funds earned through the fundraisers will be split.  Our portion will be used towards website/calendar upgrades\, community events\, giveaways\, and business expenses. \n\n\n\nWe will choose a new beneficiary for each distribution check.  We’ll take suggestions for our first check.  (We still have $50 to go before we’ll get our first check) \n\n\n\nIf you’d like to donate directly to our fundraisers instead of purchasing from our partners.  We can accept cash\, Square\, or Venmo. \n\n\n\nOne of the fundraisers is set up as an open-ended so we’ll be able to help several organizations for as long as there is interest in the products. \n\n\n\nThese are a few of my favorite products.  This is my “toolkit” for the Flu Season.  It also has some hints about getting started with essential oils. \n\n\n\nIf you are looking for the fundraising socks that we had available\, we do still have them\, but you’ll need to contact us to set up a time. \n\n\n\nThese are a few other ways to support us.  Prices range from Free to $30.
URL:https://ruralnewfamilies.com/event/%f0%9f%9b%8d-shop-small-support-local-23/2025-03-18/
LOCATION:Wisconsin
CATEGORIES:Fundraiser,Shopping
END:VEVENT
BEGIN:VEVENT
DTSTART;TZID=America/Chicago:20250318T093000
DTEND;TZID=America/Chicago:20250318T103000
DTSTAMP:20260424T205017
CREATED:20240322T221908Z
LAST-MODIFIED:20240322T221910Z
UID:10000616-1742290200-1742293800@ruralnewfamilies.com
SUMMARY:AA Meeting
DESCRIPTION:
URL:https://ruralnewfamilies.com/event/aa-meeting/2025-03-18/
LOCATION:Hope Community Church\, Tristan Drive 302\, Shawano\, Wisconsin\, 54166\, United States
CATEGORIES:AA/NA Meetings
GEO:44.7777864;-88.5480222
X-APPLE-STRUCTURED-LOCATION;VALUE=URI;X-ADDRESS=Hope Community Church Tristan Drive 302 Shawano Wisconsin 54166 United States;X-APPLE-RADIUS=500;X-TITLE=Tristan Drive 302:geo:-88.5480222,44.7777864
END:VEVENT
BEGIN:VEVENT
DTSTART;TZID=America/Chicago:20250318T103000
DTEND;TZID=America/Chicago:20250318T113000
DTSTAMP:20260424T205017
CREATED:20250224T222309Z
LAST-MODIFIED:20250224T222312Z
UID:10008302-1742293800-1742297400@ruralnewfamilies.com
SUMMARY:Storytime - Bonduel
DESCRIPTION:Join us at the library for severa fun activities.  Storytime is fun for our younger visitors.  Enjoy stories\, songs and more!
URL:https://ruralnewfamilies.com/event/storytime-bonduel/2025-03-18/
LOCATION:Bonduel Library\, North Washington Street 125\, Bonduel\, WI\, 54107\, United States
CATEGORIES:Library/Museum,Storytime
GEO:44.7384574;-88.4412828
X-APPLE-STRUCTURED-LOCATION;VALUE=URI;X-ADDRESS=Bonduel Library North Washington Street 125 Bonduel WI 54107 United States;X-APPLE-RADIUS=500;X-TITLE=North Washington Street 125:geo:-88.4412828,44.7384574
END:VEVENT
BEGIN:VEVENT
DTSTART;TZID=America/Chicago:20250318T130000
DTEND;TZID=America/Chicago:20250318T153000
DTSTAMP:20260424T205017
CREATED:20240409T192348Z
LAST-MODIFIED:20240409T192348Z
UID:10005202-1742302800-1742311800@ruralnewfamilies.com
SUMMARY:Cards for the Community
DESCRIPTION:Make cards. Play cards. Find Community. Intergenerational Program. All Ages Welcome.
URL:https://ruralnewfamilies.com/event/cards-for-the-community-12/
LOCATION:White Lake Community Center\, 615 School St\, White Lake\, WI\, 54491\, United States
GEO:45.156176;-88.7634604
X-APPLE-STRUCTURED-LOCATION;VALUE=URI;X-ADDRESS=White Lake Community Center 615 School St White Lake WI 54491 United States;X-APPLE-RADIUS=500;X-TITLE=615 School St:geo:-88.7634604,45.156176
END:VEVENT
BEGIN:VEVENT
DTSTART;TZID=America/Chicago:20250318T154500
DTEND;TZID=America/Chicago:20250318T164500
DTSTAMP:20260424T205017
CREATED:20240409T192348Z
LAST-MODIFIED:20240409T192348Z
UID:10005203-1742312700-1742316300@ruralnewfamilies.com
SUMMARY:Tail Waggin' Tutors: Read to Jack at White Lake
DESCRIPTION:The White Lake Branch Library is excited to offer Tail-Waggin’ Tutors with Jack and his human partner Dodi. He comes to White Lake Library every third Tuesday from 3:45 – 4:45 p.m. To sign up to read to Jack\, call 715-623-3724.\nOur Tail-Waggin’ Tutors program is designed to help young readers become fluent and confident in their reading. The dogs are registered therapy dogs and their human partner has received additional training to help them be awesome literacy coaches for our young readers.
URL:https://ruralnewfamilies.com/event/tail-waggin-tutors-read-to-jack-at-white-lake-12/
LOCATION:Wisconsin
END:VEVENT
BEGIN:VEVENT
DTSTART;TZID=America/Chicago:20250318T163000
DTEND;TZID=America/Chicago:20250318T183000
DTSTAMP:20260424T205017
CREATED:20241115T031129Z
LAST-MODIFIED:20241115T031132Z
UID:10007843-1742315400-1742322600@ruralnewfamilies.com
SUMMARY:Learn English - Free Class
DESCRIPTION:We are thrilled to announce we will be offering ELL classes again in Clintonville starting January 7. No cost! Help spread the word. A skills test is required prior to registering. Call 715-823-1555 for more information.
URL:https://ruralnewfamilies.com/event/learn-english-free-class/2025-03-18/
LOCATION:FVTC Clintonville\, South Main Street 525\, Clintonville\, WI\, 54929\, United States
CATEGORIES:Class,Plan Ahead,RSVP - Pre-Registration Required
GEO:44.6011221;-88.7646531
X-APPLE-STRUCTURED-LOCATION;VALUE=URI;X-ADDRESS=FVTC Clintonville South Main Street 525 Clintonville WI 54929 United States;X-APPLE-RADIUS=500;X-TITLE=South Main Street 525:geo:-88.7646531,44.6011221
END:VEVENT
BEGIN:VEVENT
DTSTART;TZID=America/Chicago:20250318T170000
DTEND;TZID=America/Chicago:20250318T190000
DTSTAMP:20260424T205017
CREATED:20250316T064924Z
LAST-MODIFIED:20250316T064925Z
UID:10008511-1742317200-1742324400@ruralnewfamilies.com
SUMMARY:Tigerton Library Cooking Night
DESCRIPTION:
URL:https://ruralnewfamilies.com/event/tigerton-library-cooking-night/
LOCATION:Tigerton Branch Library\, Birch Street 221\, Tigerton\, Wisconsin\, 54486\, United States
CATEGORIES:Class,FREE,Library/Museum,Plan Ahead,Plan Ahead- RSVP Suggested- not required,RSVP - Pre-Registration Required
GEO:44.7412043;-89.0623241
X-APPLE-STRUCTURED-LOCATION;VALUE=URI;X-ADDRESS=Tigerton Branch Library Birch Street 221 Tigerton Wisconsin 54486 United States;X-APPLE-RADIUS=500;X-TITLE=Birch Street 221:geo:-89.0623241,44.7412043
END:VEVENT
BEGIN:VEVENT
DTSTART;TZID=America/Chicago:20250318T180000
DTEND;TZID=America/Chicago:20250318T193000
DTSTAMP:20260424T205017
CREATED:20250315T125117Z
LAST-MODIFIED:20250316T020543Z
UID:10008502-1742320800-1742326200@ruralnewfamilies.com
SUMMARY:Spring General Election 🇺🇸- Moderated Q&A Event - (Clintonville)
DESCRIPTION:Come learn about the 4 school board candidates currently running for Clintonville Board of Education in a moderated Q&A session. \n\n\n\nGoal: To create a positive and productive experience that will help voters make an educated decision on Election Day.  Questions submitted from the audience will be asked to each of the candidates running for the Clintonville Board of Education.  Limited time will be provided for each candidates’ responses.   \n\n\n\nThere will be time to meet and talk directly to each candidate after the debate. \n\n\n\nEvent will be moderated by Kathy Dins  \n\n\n\n4  School Board candidates\, 2 seats. \n\n\n\nChristopher HoffmanDavid BattenbergMark ZachowLaurie Vollrath \n\n\n\n\n\n\nSpring General Election – Clintonville
URL:https://ruralnewfamilies.com/event/spring-general-election-%f0%9f%87%ba%f0%9f%87%b8-moderated-qa-event-clintonville/
LOCATION:Memory Lanes\, County Highway I 250\, Clintonville\, Wisconsin\, 54929\, United States
CATEGORIES:Election,FREE,School Board
GEO:44.6057597;-88.7605982
X-APPLE-STRUCTURED-LOCATION;VALUE=URI;X-ADDRESS=Memory Lanes County Highway I 250 Clintonville Wisconsin 54929 United States;X-APPLE-RADIUS=500;X-TITLE=County Highway I 250:geo:-88.7605982,44.6057597
END:VEVENT
BEGIN:VEVENT
DTSTART;TZID=America/Chicago:20250318T190000
DTEND;TZID=America/Chicago:20250318T210000
DTSTAMP:20260424T205017
CREATED:20240404T152054Z
LAST-MODIFIED:20240404T153249Z
UID:10003064-1742324400-1742331600@ruralnewfamilies.com
SUMMARY:AA Meeting
DESCRIPTION:
URL:https://ruralnewfamilies.com/event/aa-meeting-2/2025-03-18/
LOCATION:Clintonville United Methodist Church\, 13th Street 24\, Clintonville\, Wisconsin\, 54929\, United States
CATEGORIES:AA/NA Meetings
GEO:44.6252503;-88.7595837
X-APPLE-STRUCTURED-LOCATION;VALUE=URI;X-ADDRESS=Clintonville United Methodist Church 13th Street 24 Clintonville Wisconsin 54929 United States;X-APPLE-RADIUS=500;X-TITLE=13th Street 24:geo:-88.7595837,44.6252503
END:VEVENT
END:VCALENDAR