BEGIN:VCALENDAR
VERSION:2.0
PRODID:-//Rural Northeast Wisconsin Families - ECPv6.15.20//NONSGML v1.0//EN
CALSCALE:GREGORIAN
METHOD:PUBLISH
X-ORIGINAL-URL:https://ruralnewfamilies.com
X-WR-CALDESC:Events for Rural Northeast Wisconsin Families
REFRESH-INTERVAL;VALUE=DURATION:PT1H
X-Robots-Tag:noindex
X-PUBLISHED-TTL:PT1H
BEGIN:VTIMEZONE
TZID:America/Chicago
BEGIN:DAYLIGHT
TZOFFSETFROM:-0600
TZOFFSETTO:-0500
TZNAME:CDT
DTSTART:20240310T080000
END:DAYLIGHT
BEGIN:STANDARD
TZOFFSETFROM:-0500
TZOFFSETTO:-0600
TZNAME:CST
DTSTART:20241103T070000
END:STANDARD
BEGIN:DAYLIGHT
TZOFFSETFROM:-0600
TZOFFSETTO:-0500
TZNAME:CDT
DTSTART:20250309T080000
END:DAYLIGHT
BEGIN:STANDARD
TZOFFSETFROM:-0500
TZOFFSETTO:-0600
TZNAME:CST
DTSTART:20251102T070000
END:STANDARD
BEGIN:DAYLIGHT
TZOFFSETFROM:-0600
TZOFFSETTO:-0500
TZNAME:CDT
DTSTART:20260308T080000
END:DAYLIGHT
BEGIN:STANDARD
TZOFFSETFROM:-0500
TZOFFSETTO:-0600
TZNAME:CST
DTSTART:20261101T070000
END:STANDARD
END:VTIMEZONE
BEGIN:VEVENT
DTSTART;TZID=America/Chicago:20250317T000000
DTEND;TZID=America/Chicago:20250322T235959
DTSTAMP:20260424T204841
CREATED:20250316T070731Z
LAST-MODIFIED:20250316T072941Z
UID:10008513-1742169600-1742687999@ruralnewfamilies.com
SUMMARY:New Dublin 🍀 St Patrick's Week of Activities (New London)
DESCRIPTION:2025 New Dublin St Patrick’s Week ScheduleDownload
URL:https://ruralnewfamilies.com/event/new-dublin-%f0%9f%8d%80-st-patricks-week-of-activities-new-london/
LOCATION:St Joseph Residence\, 107 E Beckert Rd\, New London\, Wisconsin\, United States
CATEGORIES:Live Music,Parade,Plan Ahead,St Patrick's Day
GEO:44.3745544;-88.7377206
X-APPLE-STRUCTURED-LOCATION;VALUE=URI;X-ADDRESS=St Joseph Residence 107 E Beckert Rd New London Wisconsin United States;X-APPLE-RADIUS=500;X-TITLE=107 E Beckert Rd:geo:-88.7377206,44.3745544
END:VEVENT
BEGIN:VEVENT
DTSTART;TZID=America/Chicago:20250322T000000
DTEND;TZID=America/Chicago:20250322T235959
DTSTAMP:20260424T204841
CREATED:20250226T232526Z
LAST-MODIFIED:20250226T232528Z
UID:10008443-1742601600-1742687999@ruralnewfamilies.com
SUMMARY:🛍 Shop Small Support Local
DESCRIPTION:We are working on creating a new and improved Rural Northeast Wisconsin Families Restaurant Guide!  Let us help make the mealtime decisions easier. \n\n\n\nAs a hockey family\, knowing who is open after games and practices\, that serves something for my entire family is a MUST-HAVE!  (so any restaurants within a 90-minute drive of Shawano is ideal) \n\n\n\nWe know a lot of people love to support their local businesses\, but may not know all the services that are provided.  We’re working on closing that gap by offering a business directory. If you’re interested in becoming part of our business directory\, you can find out more here  \n\n\n\nWe have many affiliate partners where purchases you make with them\, will also help our small business.  (The following links are affiliate links and we may earn a commission on qualifying purchases at no additional cost to you.) \n\n\n\n\nPlant Therapy\n\n\n\nAmazon\n\n\n\nThink Board – use Code MarieVandenberg to save 20% off site-wide\n\n\n\nLehman’s\n\n\n\nTry The World – \n\n\n\nReally Good Stuff\n\n\n\nChess. com – my teenager recently discovered a love of chess.\n\n\n\nHockey Monkey\n\n\n\nSteve Spangler Science – Save up to 60% off with our Clearance Sale \n\n\n\nNaturally Nestled\n\n\n\nmSpy – what are your kids doing on their phone/tablet that you can’t see?\n\n\n\nMud/Wtr  – Save 20% sitewide with this link (first order only) (My Dr suggested trying this when I suffer consequences from drinking too much coffee.  I use both the Mud/Wtr latte and Rest to help at bedtime when I can’t shut my brain off)\n\n\n\n\nPurchases made through the above links allow us to earn commissions when you use our links which we will put towards our business expenses\, keep our lights on\, and keep our content FREE for YOU- our readers and LOW for our local advertisers\, and sponsors. \n\n\n\nWe are hosting one fundraiser.  This is an on-going fundraiser.    \n\n\n\n\nMabel’s Labels – (Select Rural Northeast Wisconsin Families as the organization) – NO MORE Lost Mittens (coats\, shoes\, hats\, water bottles\, jackets\, etc)\n\n\n\n\nThe funds earned through the fundraisers will be split.  Our portion will be used towards website/calendar upgrades\, community events\, giveaways\, and business expenses. \n\n\n\nWe will choose a new beneficiary for each distribution check.  We’ll take suggestions for our first check.  (We still have $50 to go before we’ll get our first check) \n\n\n\nIf you’d like to donate directly to our fundraisers instead of purchasing from our partners.  We can accept cash\, Square\, or Venmo. \n\n\n\nOne of the fundraisers is set up as an open-ended so we’ll be able to help several organizations for as long as there is interest in the products. \n\n\n\nThese are a few of my favorite products.  This is my “toolkit” for the Flu Season.  It also has some hints about getting started with essential oils. \n\n\n\nIf you are looking for the fundraising socks that we had available\, we do still have them\, but you’ll need to contact us to set up a time. \n\n\n\nThese are a few other ways to support us.  Prices range from Free to $30.
URL:https://ruralnewfamilies.com/event/%f0%9f%9b%8d-shop-small-support-local-23/2025-03-22/
LOCATION:Wisconsin
CATEGORIES:Fundraiser,Shopping
END:VEVENT
BEGIN:VEVENT
DTSTART;TZID=America/Chicago:20250322T090000
DTEND;TZID=America/Chicago:20250322T120000
DTSTAMP:20260424T204841
CREATED:20250316T075401Z
LAST-MODIFIED:20250316T075403Z
UID:10008328-1742634000-1742644800@ruralnewfamilies.com
SUMMARY:Sun Catcher Craft ☀️
DESCRIPTION:Don’t miss our FREE Sun Catcher Craft\, where you can come and create your very own beautiful sun catcher to display and add a fun pop of color to your home! No sign-ups or registrations are required\, simply bring your family to the store during the event and we’ll see you there!Visit our events page for more information: https://www.fleetfarm.com/c/events
URL:https://ruralnewfamilies.com/event/sun-catcher-craft-%e2%98%80%ef%b8%8f/
LOCATION:Fleet Farm – Clintonville\, South Main Street 500\, Clintonville\, Wisconsin\, 54929\, United States
CATEGORIES:DIY Crafts,FREE
GEO:44.6005772;-88.7664355
X-APPLE-STRUCTURED-LOCATION;VALUE=URI;X-ADDRESS=Fleet Farm – Clintonville South Main Street 500 Clintonville Wisconsin 54929 United States;X-APPLE-RADIUS=500;X-TITLE=South Main Street 500:geo:-88.7664355,44.6005772
END:VEVENT
BEGIN:VEVENT
DTSTART;TZID=America/Chicago:20250322T090000
DTEND;TZID=America/Chicago:20250322T143000
DTSTAMP:20260424T204841
CREATED:20250226T035354Z
LAST-MODIFIED:20250226T035356Z
UID:10008134-1742634000-1742653800@ruralnewfamilies.com
SUMMARY:2025 Shawano FlavorFest Cooking School & Expo
DESCRIPTION:Rhonda Strebel is our headliner this year as she presents a Wisconsin Supper Club theme with guest presenter Terri Brown Dallas!Immerse yourself in a day of culinary delight as our talented cooks take the stage for live cooking demonstrations and engaging Q & A sessions. Learn their secrets\, ask your burning questions\, and gain inspiration for your own kitchen.Pair this with an exciting vendor fair\, where you’ll enjoy browsing unique products and sampling delectable treats from an array of local and regional vendors. Don’t miss out on this unforgettable day of food\, fun\, and flavor! \n\n\n\nMark your calendars for March 22\, 2025 and join us for the ultimate culinary experience. See below for registration information!Vendor Fair: 9 am – Noon\, Open HouseCooking School: 12:30 pm – 2:30 pm – SCHS AuditoriumThere will be an opportunity to submit your favorite recipe for a chance to be featured in our cookbook and have your name included in a drawing for a new FREEZER compliments of Heins Appliance!
URL:https://ruralnewfamilies.com/event/2025-shawano-flavorfest-cooking-school-expo/
LOCATION:Shawano High School\, County Road B 220\, Shawano\, WI\, 54166\, United States
CATEGORIES:Class,Craft/Vendor Shows,Expo,Plan Ahead,RSVP - Pre-Registration Required
GEO:44.7597082;-88.6014084
X-APPLE-STRUCTURED-LOCATION;VALUE=URI;X-ADDRESS=Shawano High School County Road B 220 Shawano WI 54166 United States;X-APPLE-RADIUS=500;X-TITLE=County Road B 220:geo:-88.6014084,44.7597082
END:VEVENT
BEGIN:VEVENT
DTSTART;TZID=America/Chicago:20250322T110000
DTEND;TZID=America/Chicago:20250322T120000
DTSTAMP:20260424T204841
CREATED:20250222T190140Z
LAST-MODIFIED:20250222T190143Z
UID:10008228-1742641200-1742644800@ruralnewfamilies.com
SUMMARY:🐊Doc's Zoo - Alligator Feeding
DESCRIPTION:Come on out and visit Doc’s Zoo!  Alligators get fed every Saturday at 11am (sharp).  You’ll want to get there early enough to park and find your spot.  Leave enough time to wander around the zoo and see ALL the amazing animals.  If you run early – check out Doc’s Amazing Breakfast at Doc’s Timeline Saloon served from 7-11. \n\n\n\nBe sure to visit the indoor and outdoor animals.  If you have older kids\, be sure to check out Doc’s Museum as well.
URL:https://ruralnewfamilies.com/event/%f0%9f%90%8adocs-zoo-alligator-feeding-18/2025-03-22/
LOCATION:Doc’s Harley-Davidson\, Wisconsin 29 w2709\, Bonduel\, WI\, 54107\, United States
CATEGORIES:FREE,Kids Outdoors
GEO:44.704505;-88.374849
X-APPLE-STRUCTURED-LOCATION;VALUE=URI;X-ADDRESS=Doc’s Harley-Davidson Wisconsin 29 w2709 Bonduel WI 54107 United States;X-APPLE-RADIUS=500;X-TITLE=Wisconsin 29 w2709:geo:-88.374849,44.704505
END:VEVENT
BEGIN:VEVENT
DTSTART;TZID=America/Chicago:20250322T190000
DTEND;TZID=America/Chicago:20250322T210000
DTSTAMP:20260424T204841
CREATED:20240404T152054Z
LAST-MODIFIED:20240404T153249Z
UID:10003068-1742670000-1742677200@ruralnewfamilies.com
SUMMARY:AA Meeting
DESCRIPTION:
URL:https://ruralnewfamilies.com/event/aa-meeting-2/2025-03-22/
LOCATION:Clintonville United Methodist Church\, 13th Street 24\, Clintonville\, Wisconsin\, 54929\, United States
CATEGORIES:AA/NA Meetings
GEO:44.6252503;-88.7595837
X-APPLE-STRUCTURED-LOCATION;VALUE=URI;X-ADDRESS=Clintonville United Methodist Church 13th Street 24 Clintonville Wisconsin 54929 United States;X-APPLE-RADIUS=500;X-TITLE=13th Street 24:geo:-88.7595837,44.6252503
END:VEVENT
END:VCALENDAR