BEGIN:VCALENDAR
VERSION:2.0
PRODID:-//Rural Northeast Wisconsin Families - ECPv6.15.20//NONSGML v1.0//EN
CALSCALE:GREGORIAN
METHOD:PUBLISH
X-ORIGINAL-URL:https://ruralnewfamilies.com
X-WR-CALDESC:Events for Rural Northeast Wisconsin Families
REFRESH-INTERVAL;VALUE=DURATION:PT1H
X-Robots-Tag:noindex
X-PUBLISHED-TTL:PT1H
BEGIN:VTIMEZONE
TZID:America/Chicago
BEGIN:DAYLIGHT
TZOFFSETFROM:-0600
TZOFFSETTO:-0500
TZNAME:CDT
DTSTART:20240310T080000
END:DAYLIGHT
BEGIN:STANDARD
TZOFFSETFROM:-0500
TZOFFSETTO:-0600
TZNAME:CST
DTSTART:20241103T070000
END:STANDARD
BEGIN:DAYLIGHT
TZOFFSETFROM:-0600
TZOFFSETTO:-0500
TZNAME:CDT
DTSTART:20250309T080000
END:DAYLIGHT
BEGIN:STANDARD
TZOFFSETFROM:-0500
TZOFFSETTO:-0600
TZNAME:CST
DTSTART:20251102T070000
END:STANDARD
BEGIN:DAYLIGHT
TZOFFSETFROM:-0600
TZOFFSETTO:-0500
TZNAME:CDT
DTSTART:20260308T080000
END:DAYLIGHT
BEGIN:STANDARD
TZOFFSETFROM:-0500
TZOFFSETTO:-0600
TZNAME:CST
DTSTART:20261101T070000
END:STANDARD
END:VTIMEZONE
BEGIN:VEVENT
DTSTART;TZID=America/Chicago:20250325T093000
DTEND;TZID=America/Chicago:20250325T103000
DTSTAMP:20260424T221725
CREATED:20240322T221908Z
LAST-MODIFIED:20240322T221910Z
UID:10000618-1742895000-1742898600@ruralnewfamilies.com
SUMMARY:AA Meeting
DESCRIPTION:
URL:https://ruralnewfamilies.com/event/aa-meeting/2025-03-25/
LOCATION:Hope Community Church\, Tristan Drive 302\, Shawano\, Wisconsin\, 54166\, United States
CATEGORIES:AA/NA Meetings
GEO:44.7777864;-88.5480222
X-APPLE-STRUCTURED-LOCATION;VALUE=URI;X-ADDRESS=Hope Community Church Tristan Drive 302 Shawano Wisconsin 54166 United States;X-APPLE-RADIUS=500;X-TITLE=Tristan Drive 302:geo:-88.5480222,44.7777864
END:VEVENT
BEGIN:VEVENT
DTSTART;TZID=America/Chicago:20250325T103000
DTEND;TZID=America/Chicago:20250325T113000
DTSTAMP:20260424T221725
CREATED:20250224T222309Z
LAST-MODIFIED:20250224T222312Z
UID:10008303-1742898600-1742902200@ruralnewfamilies.com
SUMMARY:Storytime - Bonduel
DESCRIPTION:Join us at the library for severa fun activities.  Storytime is fun for our younger visitors.  Enjoy stories\, songs and more!
URL:https://ruralnewfamilies.com/event/storytime-bonduel/2025-03-25/
LOCATION:Bonduel Library\, North Washington Street 125\, Bonduel\, WI\, 54107\, United States
CATEGORIES:Library/Museum,Storytime
GEO:44.7384574;-88.4412828
X-APPLE-STRUCTURED-LOCATION;VALUE=URI;X-ADDRESS=Bonduel Library North Washington Street 125 Bonduel WI 54107 United States;X-APPLE-RADIUS=500;X-TITLE=North Washington Street 125:geo:-88.4412828,44.7384574
END:VEVENT
BEGIN:VEVENT
DTSTART;TZID=America/Chicago:20250325T163000
DTEND;TZID=America/Chicago:20250325T170000
DTSTAMP:20260424T221725
CREATED:20240409T192349Z
LAST-MODIFIED:20240409T192349Z
UID:10005204-1742920200-1742922000@ruralnewfamilies.com
SUMMARY:Library Board Policy Committee Meeting
DESCRIPTION:
URL:https://ruralnewfamilies.com/event/library-board-policy-committee-meeting-12/
LOCATION:Wisconsin
END:VEVENT
BEGIN:VEVENT
DTSTART;TZID=America/Chicago:20250325T163000
DTEND;TZID=America/Chicago:20250325T183000
DTSTAMP:20260424T221725
CREATED:20241115T031129Z
LAST-MODIFIED:20241115T031132Z
UID:10007844-1742920200-1742927400@ruralnewfamilies.com
SUMMARY:Learn English - Free Class
DESCRIPTION:We are thrilled to announce we will be offering ELL classes again in Clintonville starting January 7. No cost! Help spread the word. A skills test is required prior to registering. Call 715-823-1555 for more information.
URL:https://ruralnewfamilies.com/event/learn-english-free-class/2025-03-25/
LOCATION:FVTC Clintonville\, South Main Street 525\, Clintonville\, WI\, 54929\, United States
CATEGORIES:Class,Plan Ahead,RSVP - Pre-Registration Required
GEO:44.6011221;-88.7646531
X-APPLE-STRUCTURED-LOCATION;VALUE=URI;X-ADDRESS=FVTC Clintonville South Main Street 525 Clintonville WI 54929 United States;X-APPLE-RADIUS=500;X-TITLE=South Main Street 525:geo:-88.7646531,44.6011221
END:VEVENT
BEGIN:VEVENT
DTSTART;TZID=America/Chicago:20250325T181500
DTEND;TZID=America/Chicago:20250325T190000
DTSTAMP:20260424T221725
CREATED:20240409T192349Z
LAST-MODIFIED:20240409T192349Z
UID:10005205-1742926500-1742929200@ruralnewfamilies.com
SUMMARY:Library Board Buildings and Grounds Committee
DESCRIPTION:
URL:https://ruralnewfamilies.com/event/library-board-buildings-and-grounds-committee-12/
LOCATION:Wisconsin
END:VEVENT
BEGIN:VEVENT
DTSTART;TZID=America/Chicago:20250325T190000
DTEND;TZID=America/Chicago:20250325T210000
DTSTAMP:20260424T221725
CREATED:20240404T152054Z
LAST-MODIFIED:20240404T153249Z
UID:10003071-1742929200-1742936400@ruralnewfamilies.com
SUMMARY:AA Meeting
DESCRIPTION:
URL:https://ruralnewfamilies.com/event/aa-meeting-2/2025-03-25/
LOCATION:Clintonville United Methodist Church\, 13th Street 24\, Clintonville\, Wisconsin\, 54929\, United States
CATEGORIES:AA/NA Meetings
GEO:44.6252503;-88.7595837
X-APPLE-STRUCTURED-LOCATION;VALUE=URI;X-ADDRESS=Clintonville United Methodist Church 13th Street 24 Clintonville Wisconsin 54929 United States;X-APPLE-RADIUS=500;X-TITLE=13th Street 24:geo:-88.7595837,44.6252503
END:VEVENT
BEGIN:VEVENT
DTSTART;TZID=America/Chicago:20250326T000000
DTEND;TZID=America/Chicago:20250326T235959
DTSTAMP:20260424T221725
CREATED:20250226T232526Z
LAST-MODIFIED:20250226T232528Z
UID:10008445-1742947200-1743033599@ruralnewfamilies.com
SUMMARY:🛍 Shop Small Support Local
DESCRIPTION:We are working on creating a new and improved Rural Northeast Wisconsin Families Restaurant Guide!  Let us help make the mealtime decisions easier. \n\n\n\nAs a hockey family\, knowing who is open after games and practices\, that serves something for my entire family is a MUST-HAVE!  (so any restaurants within a 90-minute drive of Shawano is ideal) \n\n\n\nWe know a lot of people love to support their local businesses\, but may not know all the services that are provided.  We’re working on closing that gap by offering a business directory. If you’re interested in becoming part of our business directory\, you can find out more here  \n\n\n\nWe have many affiliate partners where purchases you make with them\, will also help our small business.  (The following links are affiliate links and we may earn a commission on qualifying purchases at no additional cost to you.) \n\n\n\n\nPlant Therapy\n\n\n\nAmazon\n\n\n\nThink Board – use Code MarieVandenberg to save 20% off site-wide\n\n\n\nLehman’s\n\n\n\nTry The World – \n\n\n\nReally Good Stuff\n\n\n\nChess. com – my teenager recently discovered a love of chess.\n\n\n\nHockey Monkey\n\n\n\nSteve Spangler Science – Save up to 60% off with our Clearance Sale \n\n\n\nNaturally Nestled\n\n\n\nmSpy – what are your kids doing on their phone/tablet that you can’t see?\n\n\n\nMud/Wtr  – Save 20% sitewide with this link (first order only) (My Dr suggested trying this when I suffer consequences from drinking too much coffee.  I use both the Mud/Wtr latte and Rest to help at bedtime when I can’t shut my brain off)\n\n\n\n\nPurchases made through the above links allow us to earn commissions when you use our links which we will put towards our business expenses\, keep our lights on\, and keep our content FREE for YOU- our readers and LOW for our local advertisers\, and sponsors. \n\n\n\nWe are hosting one fundraiser.  This is an on-going fundraiser.    \n\n\n\n\nMabel’s Labels – (Select Rural Northeast Wisconsin Families as the organization) – NO MORE Lost Mittens (coats\, shoes\, hats\, water bottles\, jackets\, etc)\n\n\n\n\nThe funds earned through the fundraisers will be split.  Our portion will be used towards website/calendar upgrades\, community events\, giveaways\, and business expenses. \n\n\n\nWe will choose a new beneficiary for each distribution check.  We’ll take suggestions for our first check.  (We still have $50 to go before we’ll get our first check) \n\n\n\nIf you’d like to donate directly to our fundraisers instead of purchasing from our partners.  We can accept cash\, Square\, or Venmo. \n\n\n\nOne of the fundraisers is set up as an open-ended so we’ll be able to help several organizations for as long as there is interest in the products. \n\n\n\nThese are a few of my favorite products.  This is my “toolkit” for the Flu Season.  It also has some hints about getting started with essential oils. \n\n\n\nIf you are looking for the fundraising socks that we had available\, we do still have them\, but you’ll need to contact us to set up a time. \n\n\n\nThese are a few other ways to support us.  Prices range from Free to $30.
URL:https://ruralnewfamilies.com/event/%f0%9f%9b%8d-shop-small-support-local-23/2025-03-26/
LOCATION:Wisconsin
CATEGORIES:Fundraiser,Shopping
END:VEVENT
END:VCALENDAR