BEGIN:VCALENDAR
VERSION:2.0
PRODID:-//Rural Northeast Wisconsin Families - ECPv6.15.20//NONSGML v1.0//EN
CALSCALE:GREGORIAN
METHOD:PUBLISH
X-ORIGINAL-URL:https://ruralnewfamilies.com
X-WR-CALDESC:Events for Rural Northeast Wisconsin Families
REFRESH-INTERVAL;VALUE=DURATION:PT1H
X-Robots-Tag:noindex
X-PUBLISHED-TTL:PT1H
BEGIN:VTIMEZONE
TZID:America/Chicago
BEGIN:DAYLIGHT
TZOFFSETFROM:-0600
TZOFFSETTO:-0500
TZNAME:CDT
DTSTART:20240310T080000
END:DAYLIGHT
BEGIN:STANDARD
TZOFFSETFROM:-0500
TZOFFSETTO:-0600
TZNAME:CST
DTSTART:20241103T070000
END:STANDARD
BEGIN:DAYLIGHT
TZOFFSETFROM:-0600
TZOFFSETTO:-0500
TZNAME:CDT
DTSTART:20250309T080000
END:DAYLIGHT
BEGIN:STANDARD
TZOFFSETFROM:-0500
TZOFFSETTO:-0600
TZNAME:CST
DTSTART:20251102T070000
END:STANDARD
BEGIN:DAYLIGHT
TZOFFSETFROM:-0600
TZOFFSETTO:-0500
TZNAME:CDT
DTSTART:20260308T080000
END:DAYLIGHT
BEGIN:STANDARD
TZOFFSETFROM:-0500
TZOFFSETTO:-0600
TZNAME:CST
DTSTART:20261101T070000
END:STANDARD
END:VTIMEZONE
BEGIN:VEVENT
DTSTART;TZID=America/Chicago:20250328T000000
DTEND;TZID=America/Chicago:20250328T235959
DTSTAMP:20260424T204846
CREATED:20250226T232526Z
LAST-MODIFIED:20250226T232528Z
UID:10008446-1743120000-1743206399@ruralnewfamilies.com
SUMMARY:🛍 Shop Small Support Local
DESCRIPTION:We are working on creating a new and improved Rural Northeast Wisconsin Families Restaurant Guide!  Let us help make the mealtime decisions easier. \n\n\n\nAs a hockey family\, knowing who is open after games and practices\, that serves something for my entire family is a MUST-HAVE!  (so any restaurants within a 90-minute drive of Shawano is ideal) \n\n\n\nWe know a lot of people love to support their local businesses\, but may not know all the services that are provided.  We’re working on closing that gap by offering a business directory. If you’re interested in becoming part of our business directory\, you can find out more here  \n\n\n\nWe have many affiliate partners where purchases you make with them\, will also help our small business.  (The following links are affiliate links and we may earn a commission on qualifying purchases at no additional cost to you.) \n\n\n\n\nPlant Therapy\n\n\n\nAmazon\n\n\n\nThink Board – use Code MarieVandenberg to save 20% off site-wide\n\n\n\nLehman’s\n\n\n\nTry The World – \n\n\n\nReally Good Stuff\n\n\n\nChess. com – my teenager recently discovered a love of chess.\n\n\n\nHockey Monkey\n\n\n\nSteve Spangler Science – Save up to 60% off with our Clearance Sale \n\n\n\nNaturally Nestled\n\n\n\nmSpy – what are your kids doing on their phone/tablet that you can’t see?\n\n\n\nMud/Wtr  – Save 20% sitewide with this link (first order only) (My Dr suggested trying this when I suffer consequences from drinking too much coffee.  I use both the Mud/Wtr latte and Rest to help at bedtime when I can’t shut my brain off)\n\n\n\n\nPurchases made through the above links allow us to earn commissions when you use our links which we will put towards our business expenses\, keep our lights on\, and keep our content FREE for YOU- our readers and LOW for our local advertisers\, and sponsors. \n\n\n\nWe are hosting one fundraiser.  This is an on-going fundraiser.    \n\n\n\n\nMabel’s Labels – (Select Rural Northeast Wisconsin Families as the organization) – NO MORE Lost Mittens (coats\, shoes\, hats\, water bottles\, jackets\, etc)\n\n\n\n\nThe funds earned through the fundraisers will be split.  Our portion will be used towards website/calendar upgrades\, community events\, giveaways\, and business expenses. \n\n\n\nWe will choose a new beneficiary for each distribution check.  We’ll take suggestions for our first check.  (We still have $50 to go before we’ll get our first check) \n\n\n\nIf you’d like to donate directly to our fundraisers instead of purchasing from our partners.  We can accept cash\, Square\, or Venmo. \n\n\n\nOne of the fundraisers is set up as an open-ended so we’ll be able to help several organizations for as long as there is interest in the products. \n\n\n\nThese are a few of my favorite products.  This is my “toolkit” for the Flu Season.  It also has some hints about getting started with essential oils. \n\n\n\nIf you are looking for the fundraising socks that we had available\, we do still have them\, but you’ll need to contact us to set up a time. \n\n\n\nThese are a few other ways to support us.  Prices range from Free to $30.
URL:https://ruralnewfamilies.com/event/%f0%9f%9b%8d-shop-small-support-local-23/2025-03-28/
LOCATION:Wisconsin
CATEGORIES:Fundraiser,Shopping
END:VEVENT
BEGIN:VEVENT
DTSTART;TZID=America/Chicago:20250328T100000
DTEND;TZID=America/Chicago:20250328T130000
DTSTAMP:20260424T204846
CREATED:20250226T040244Z
LAST-MODIFIED:20250316T054907Z
UID:10008135-1743156000-1743166800@ruralnewfamilies.com
SUMMARY:6th Biennial Veterans Benefit Expo
DESCRIPTION:40 VENDORS AND SERVICE PROVIDERS IN ONE LOCATION READY TO ASSIST YOU WITH ALL THINGS VETERAN RELATED FROM VA COMPENSATION\, VA HOME LOANS\, VA HEALTH CARE\, TO EDUCATION\, FINANCIAL PLANNING\, AND MORE!
URL:https://ruralnewfamilies.com/event/6th-biennial-veterans-benefit-expo/
LOCATION:Par 4 Bistro at Par 4 Resort\, 201 Foxfire Dr\, Waupaca\, Wisconsin\, 54961\, United States
CATEGORIES:Community Resource,Expo,FREE,Veterans
GEO:44.3508866;-89.1307859
X-APPLE-STRUCTURED-LOCATION;VALUE=URI;X-ADDRESS=Par 4 Bistro at Par 4 Resort 201 Foxfire Dr Waupaca Wisconsin 54961 United States;X-APPLE-RADIUS=500;X-TITLE=201 Foxfire Dr:geo:-89.1307859,44.3508866
END:VEVENT
BEGIN:VEVENT
DTSTART;TZID=America/Chicago:20250328T160000
DTEND;TZID=America/Chicago:20250328T190000
DTSTAMP:20260424T204846
CREATED:20250315T184255Z
LAST-MODIFIED:20250315T184257Z
UID:10008505-1743177600-1743188400@ruralnewfamilies.com
SUMMARY:St Martin's Fish Fry
DESCRIPTION:Drive-thru only \n\n\n\nNo pre-orders \n\n\n\nMenu: \n\n\n\n\nCod and/or Chicken Strips\n\n\n\nFrench Fries\n\n\n\nColeslaw\n\n\n\nRye Bread
URL:https://ruralnewfamilies.com/event/st-martins-fish-fry/
LOCATION:St Martin’s\, 100 S Clinton Ave\, Clintonville\, Wisconsin\, United States
CATEGORIES:Fish Fry,Fundraiser
GEO:44.6208467;-88.7649443
X-APPLE-STRUCTURED-LOCATION;VALUE=URI;X-ADDRESS=St Martin’s 100 S Clinton Ave Clintonville Wisconsin United States;X-APPLE-RADIUS=500;X-TITLE=100 S Clinton Ave:geo:-88.7649443,44.6208467
END:VEVENT
BEGIN:VEVENT
DTSTART;TZID=America/Chicago:20250328T163000
DTEND;TZID=America/Chicago:20250328T193000
DTSTAMP:20260424T204846
CREATED:20250316T061754Z
LAST-MODIFIED:20250316T061757Z
UID:10008508-1743179400-1743190200@ruralnewfamilies.com
SUMMARY:St Francis Fish Fry
DESCRIPTION:
URL:https://ruralnewfamilies.com/event/st-francis-fish-fry/2025-03-28/
LOCATION:St Francis Xavier Merrill\, 1708 E 10th\, Merrill\, Wisconsin\, United States
CATEGORIES:Fish Fry,Fundraiser
GEO:45.1890914;-89.6749276
X-APPLE-STRUCTURED-LOCATION;VALUE=URI;X-ADDRESS=St Francis Xavier Merrill 1708 E 10th Merrill Wisconsin United States;X-APPLE-RADIUS=500;X-TITLE=1708 E 10th:geo:-89.6749276,45.1890914
END:VEVENT
BEGIN:VEVENT
DTSTART;TZID=America/Chicago:20250328T190000
DTEND;TZID=America/Chicago:20250328T210000
DTSTAMP:20260424T204846
CREATED:20240404T152054Z
LAST-MODIFIED:20240404T153249Z
UID:10003074-1743188400-1743195600@ruralnewfamilies.com
SUMMARY:AA Meeting
DESCRIPTION:
URL:https://ruralnewfamilies.com/event/aa-meeting-2/2025-03-28/
LOCATION:Clintonville United Methodist Church\, 13th Street 24\, Clintonville\, Wisconsin\, 54929\, United States
CATEGORIES:AA/NA Meetings
GEO:44.6252503;-88.7595837
X-APPLE-STRUCTURED-LOCATION;VALUE=URI;X-ADDRESS=Clintonville United Methodist Church 13th Street 24 Clintonville Wisconsin 54929 United States;X-APPLE-RADIUS=500;X-TITLE=13th Street 24:geo:-88.7595837,44.6252503
END:VEVENT
END:VCALENDAR