BEGIN:VCALENDAR
VERSION:2.0
PRODID:-//Rural Northeast Wisconsin Families - ECPv6.15.20//NONSGML v1.0//EN
CALSCALE:GREGORIAN
METHOD:PUBLISH
X-ORIGINAL-URL:https://ruralnewfamilies.com
X-WR-CALDESC:Events for Rural Northeast Wisconsin Families
REFRESH-INTERVAL;VALUE=DURATION:PT1H
X-Robots-Tag:noindex
X-PUBLISHED-TTL:PT1H
BEGIN:VTIMEZONE
TZID:America/Chicago
BEGIN:DAYLIGHT
TZOFFSETFROM:-0600
TZOFFSETTO:-0500
TZNAME:CDT
DTSTART:20240310T080000
END:DAYLIGHT
BEGIN:STANDARD
TZOFFSETFROM:-0500
TZOFFSETTO:-0600
TZNAME:CST
DTSTART:20241103T070000
END:STANDARD
BEGIN:DAYLIGHT
TZOFFSETFROM:-0600
TZOFFSETTO:-0500
TZNAME:CDT
DTSTART:20250309T080000
END:DAYLIGHT
BEGIN:STANDARD
TZOFFSETFROM:-0500
TZOFFSETTO:-0600
TZNAME:CST
DTSTART:20251102T070000
END:STANDARD
BEGIN:DAYLIGHT
TZOFFSETFROM:-0600
TZOFFSETTO:-0500
TZNAME:CDT
DTSTART:20260308T080000
END:DAYLIGHT
BEGIN:STANDARD
TZOFFSETFROM:-0500
TZOFFSETTO:-0600
TZNAME:CST
DTSTART:20261101T070000
END:STANDARD
END:VTIMEZONE
BEGIN:VEVENT
DTSTART;TZID=America/Chicago:20250424T100000
DTEND;TZID=America/Chicago:20250424T140000
DTSTAMP:20260424T151605
CREATED:20250414T081325Z
LAST-MODIFIED:20250414T081327Z
UID:10008780-1745488800-1745503200@ruralnewfamilies.com
SUMMARY:American Legion Post 63 2025 Brat Fry
DESCRIPTION:
URL:https://ruralnewfamilies.com/event/american-legion-post-63-2025-brat-fry/2025-04-24/
LOCATION:BP – Clintonville\, 325 S Main St\, Clintonville\, Wisconsin\, 54929\, United States
CATEGORIES:Fundraiser,Veterans
GEO:44.604443;-88.7641666
X-APPLE-STRUCTURED-LOCATION;VALUE=URI;X-ADDRESS=BP – Clintonville 325 S Main St Clintonville Wisconsin 54929 United States;X-APPLE-RADIUS=500;X-TITLE=325 S Main St:geo:-88.7641666,44.604443
END:VEVENT
END:VCALENDAR