BEGIN:VCALENDAR
VERSION:2.0
PRODID:-//Rural Northeast Wisconsin Families - ECPv6.15.20//NONSGML v1.0//EN
CALSCALE:GREGORIAN
METHOD:PUBLISH
X-ORIGINAL-URL:https://ruralnewfamilies.com
X-WR-CALDESC:Events for Rural Northeast Wisconsin Families
REFRESH-INTERVAL;VALUE=DURATION:PT1H
X-Robots-Tag:noindex
X-PUBLISHED-TTL:PT1H
BEGIN:VTIMEZONE
TZID:America/Chicago
BEGIN:DAYLIGHT
TZOFFSETFROM:-0600
TZOFFSETTO:-0500
TZNAME:CDT
DTSTART:20240310T080000
END:DAYLIGHT
BEGIN:STANDARD
TZOFFSETFROM:-0500
TZOFFSETTO:-0600
TZNAME:CST
DTSTART:20241103T070000
END:STANDARD
BEGIN:DAYLIGHT
TZOFFSETFROM:-0600
TZOFFSETTO:-0500
TZNAME:CDT
DTSTART:20250309T080000
END:DAYLIGHT
BEGIN:STANDARD
TZOFFSETFROM:-0500
TZOFFSETTO:-0600
TZNAME:CST
DTSTART:20251102T070000
END:STANDARD
BEGIN:DAYLIGHT
TZOFFSETFROM:-0600
TZOFFSETTO:-0500
TZNAME:CDT
DTSTART:20260308T080000
END:DAYLIGHT
BEGIN:STANDARD
TZOFFSETFROM:-0500
TZOFFSETTO:-0600
TZNAME:CST
DTSTART:20261101T070000
END:STANDARD
END:VTIMEZONE
BEGIN:VEVENT
DTSTART;TZID=America/Chicago:20250528T000000
DTEND;TZID=America/Chicago:20250528T235959
DTSTAMP:20260424T225033
CREATED:20250430T054349Z
LAST-MODIFIED:20250509T015600Z
UID:10009230-1748390400-1748476799@ruralnewfamilies.com
SUMMARY:🎳 Kids Bowl Free
DESCRIPTION:It’s that time when families start planning on what they’re going to do for the summer! \n\n\n\nLet Kids Bowl Free help!  Each registered child (check each center for age requirements) gets to bowl 2 games free every single day!  (Check individual bowling alleys for shoe rental details) all summer long at NO Cost to Parents!  (But plan for the concessions…. my kids LOVE bowling alley food\, just sayin’) \n\n\n\nParents\, do you want to bowl with your kids? Then you’ll want to check out the Family Pass! This allows parents\, older siblings and babysitters to bowl alongside the registered kids. This is a one-time payment that allows up to 4 adults to bowl 2 games free all summer long\, with your Kids Bowl Free registered children. (You can add the family pass on at any time during the season.) \n\n\n\nHow it works: \n\n\n\n\nLocate a Kids Bowl Free participating location near you (this is the only one covered all summer)\n\n\n\nRegister – Create your Kids Bowl Free account and register your kids.  Decide if the Family Pass is right for your family.\n\n\n\nHave Fun – Make Memories – Go Screen-Free — Make New Friends–  Bowl 2 games free every day\, all summer long! \n\n\n\n\nThings to Note: \n\n\n\n\nEach bowling alley determines the times the program is active. Program begins April 30th! You can find the details here when you choose a location near you. Dates and Times will vary! (I’ve seen some start as early as April 30th and as late as June 1st and end between August 30-Sept 2) I’ve seen only 1 with hours available 7 days a week.\n\n\n\nCheck each location for age requirements. I’ve seen them range from 2-18 with some ending as early as 15.\n\n\n\nI found at least 8 participating centers within 60 minutes of Clintonville. \n\n\n\nThe Registration is not transferrable between the different bowling centers.
URL:https://ruralnewfamilies.com/event/%f0%9f%8e%b3-kids-bowl-free/2025-05-28/
LOCATION:Wisconsin
CATEGORIES:FREE,Inclusive Events,Indoor Event,Plan Ahead,RSVP - Pre-Registration Required,Sporting Events,Teen
END:VEVENT
BEGIN:VEVENT
DTSTART;TZID=America/Chicago:20250528T070000
DTEND;TZID=America/Chicago:20250528T080000
DTSTAMP:20260424T225033
CREATED:20250423T170543Z
LAST-MODIFIED:20250423T170545Z
UID:10009031-1748415600-1748419200@ruralnewfamilies.com
SUMMARY:Walk Wednesdays
DESCRIPTION:WALK WEDNESDAYS at USAIRStarting April 16 | 7–8 AM | Every Wednesday | Free AdmissionLace up your sneakers and take a stroll on the track! Walk Wednesdays are your chance to experience USAIR Motorsports Raceway like never before—no engines\, just open pavement and peaceful morning vibes. Whether you’re getting your steps in\, walking with friends\, or exploring something new\, you’re welcome here.🚶‍♂️ Open to all ages🐾 Leashed dogs welcome🌅 Start your day at the track!No registration needed—just show up and walk!
URL:https://ruralnewfamilies.com/event/walk-wednesdays/2025-05-28/
LOCATION:USAirMotorsports\, County Road BE W5901\, Shawano\, Wisconsin\, 54166\, United States
CATEGORIES:FREE,Health and Safety,Outdoor Event,Pets
GEO:44.7727701;-88.5390088
X-APPLE-STRUCTURED-LOCATION;VALUE=URI;X-ADDRESS=USAirMotorsports County Road BE W5901 Shawano Wisconsin 54166 United States;X-APPLE-RADIUS=500;X-TITLE=County Road BE W5901:geo:-88.5390088,44.7727701
END:VEVENT
BEGIN:VEVENT
DTSTART;TZID=America/Chicago:20250528T100000
DTEND;TZID=America/Chicago:20250528T110000
DTSTAMP:20260424T225033
CREATED:20250226T150631Z
LAST-MODIFIED:20250527T163013Z
UID:10008352-1748426400-1748430000@ruralnewfamilies.com
SUMMARY:Playgroup
DESCRIPTION:Storytime\, free play\, snack\, music\, crafts\, fun activities. \n\n\n\nJust drop in!
URL:https://ruralnewfamilies.com/event/14693/2025-05-28/
LOCATION:Marion Public Library\, North Main Street 120\, Marion\, Wisconsin\, 54950\, United States
CATEGORIES:FREE,Indoor Event,Library/Museum,Storytime
GEO:44.6712452;-88.8889175
X-APPLE-STRUCTURED-LOCATION;VALUE=URI;X-ADDRESS=Marion Public Library North Main Street 120 Marion Wisconsin 54950 United States;X-APPLE-RADIUS=500;X-TITLE=North Main Street 120:geo:-88.8889175,44.6712452
END:VEVENT
BEGIN:VEVENT
DTSTART;TZID=America/Chicago:20250528T100000
DTEND;TZID=America/Chicago:20250528T110000
DTSTAMP:20260424T225033
CREATED:20250423T181559Z
LAST-MODIFIED:20250423T181601Z
UID:10009057-1748426400-1748430000@ruralnewfamilies.com
SUMMARY:Story Time
DESCRIPTION:A themed program of stories\, finger plays\, flannel board activities\, songs\, dancing and a simple craft.
URL:https://ruralnewfamilies.com/event/story-time-13/2025-05-28/
LOCATION:Shawano County Library\, 128 S Sawyer St\, Shawano\, WI 54166\, USA\, South Sawyer Street 128\, Shawano\, WI\, 54166\, United States
CATEGORIES:FREE,Library/Museum,Storytime
GEO:44.7810031;-88.6071624
X-APPLE-STRUCTURED-LOCATION;VALUE=URI;X-ADDRESS=Shawano County Library 128 S Sawyer St Shawano WI 54166 USA South Sawyer Street 128 Shawano WI 54166 United States;X-APPLE-RADIUS=500;X-TITLE=South Sawyer Street 128:geo:-88.6071624,44.7810031
END:VEVENT
BEGIN:VEVENT
DTSTART;TZID=America/Chicago:20250528T123000
DTEND;TZID=America/Chicago:20250528T123000
DTSTAMP:20260424T225033
CREATED:20250527T162254Z
LAST-MODIFIED:20250527T162257Z
UID:10009404-1748435400-1748435400@ruralnewfamilies.com
SUMMARY:🃏 Senior Card Games
DESCRIPTION:Senior Card Games – Come Join the Fun! \n\n\n\nLooking to meet new friends and enjoy a fun afternoon of cards? Join us at the Clintonville Community Center for Senior Card Games — happening the FOURTH WEDNESDAY of each month at 12:30 PM! \n\n\n\nPlay your favorites like Sheepshead\, Smear\, Back Alley\, Hand-N-Foot\, Bridge\, Cribbage & more! \n\n\n\n All ages 18+ welcome • All experience levels • Cash or non-cash games
URL:https://ruralnewfamilies.com/event/%f0%9f%83%8f-senior-card-games/2025-05-28/
LOCATION:Clintonville Community Center\, South Main Street 30\, Clintonville\, Wisconsin\, 54929\, United States
CATEGORIES:FREE
GEO:44.6221829;-88.7611618
X-APPLE-STRUCTURED-LOCATION;VALUE=URI;X-ADDRESS=Clintonville Community Center South Main Street 30 Clintonville Wisconsin 54929 United States;X-APPLE-RADIUS=500;X-TITLE=South Main Street 30:geo:-88.7611618,44.6221829
END:VEVENT
BEGIN:VEVENT
DTSTART;TZID=America/Chicago:20250528T170000
DTEND;TZID=America/Chicago:20250528T180000
DTSTAMP:20260424T225033
CREATED:20250526T052756Z
LAST-MODIFIED:20250526T052759Z
UID:10009393-1748451600-1748455200@ruralnewfamilies.com
SUMMARY:Community Grab and Go Meal
DESCRIPTION:
URL:https://ruralnewfamilies.com/event/community-grab-and-go-meal/2025-05-28/
LOCATION:Trinity Lutheran Church – New London\, 709 W Beckert Rd\, New London\, Wisconsin\, 54961\, United States
CATEGORIES:Community Meals,Community Resource,FREE
GEO:44.3744616;-88.7475863
X-APPLE-STRUCTURED-LOCATION;VALUE=URI;X-ADDRESS=Trinity Lutheran Church – New London 709 W Beckert Rd New London Wisconsin 54961 United States;X-APPLE-RADIUS=500;X-TITLE=709 W Beckert Rd:geo:-88.7475863,44.3744616
END:VEVENT
BEGIN:VEVENT
DTSTART;TZID=America/Chicago:20250528T180000
DTEND;TZID=America/Chicago:20250528T193000
DTSTAMP:20260424T225033
CREATED:20250525T093452Z
LAST-MODIFIED:20250525T093454Z
UID:10009388-1748455200-1748460600@ruralnewfamilies.com
SUMMARY:Pigeon Lake Protection and Rehabilitation District Meeting
DESCRIPTION:Special Guest: Elliot Hoffman\, DNR Fisheries Biologist – will present initial observations from the fish survey and answer some questions.
URL:https://ruralnewfamilies.com/event/pigeon-lake-protection-and-rehabilitation-district-meeting/
LOCATION:Clintonville Community Center\, South Main Street 30\, Clintonville\, Wisconsin\, 54929\, United States
CATEGORIES:Community Meetings,Natural Resources Protection
GEO:44.6221829;-88.7611618
X-APPLE-STRUCTURED-LOCATION;VALUE=URI;X-ADDRESS=Clintonville Community Center South Main Street 30 Clintonville Wisconsin 54929 United States;X-APPLE-RADIUS=500;X-TITLE=South Main Street 30:geo:-88.7611618,44.6221829
END:VEVENT
BEGIN:VEVENT
DTSTART;TZID=America/Chicago:20250528T190000
DTEND;TZID=America/Chicago:20250528T210000
DTSTAMP:20260424T225033
CREATED:20240404T152054Z
LAST-MODIFIED:20240404T153249Z
UID:10003135-1748458800-1748466000@ruralnewfamilies.com
SUMMARY:AA Meeting
DESCRIPTION:
URL:https://ruralnewfamilies.com/event/aa-meeting-2/2025-05-28/
LOCATION:Clintonville United Methodist Church\, 13th Street 24\, Clintonville\, Wisconsin\, 54929\, United States
CATEGORIES:AA/NA Meetings
GEO:44.6252503;-88.7595837
X-APPLE-STRUCTURED-LOCATION;VALUE=URI;X-ADDRESS=Clintonville United Methodist Church 13th Street 24 Clintonville Wisconsin 54929 United States;X-APPLE-RADIUS=500;X-TITLE=13th Street 24:geo:-88.7595837,44.6252503
END:VEVENT
BEGIN:VEVENT
DTSTART;TZID=America/Chicago:20250529T000000
DTEND;TZID=America/Chicago:20250529T235959
DTSTAMP:20260424T225033
CREATED:20250521T230624Z
LAST-MODIFIED:20250522T002627Z
UID:10009355-1748476800-1748563199@ruralnewfamilies.com
SUMMARY:🛍 Shop Small Support Local
DESCRIPTION:We are working on creating a new and improved Rural Northeast Wisconsin Families Restaurant Guide!  Let us help make the mealtime decisions easier. \n\n\n\nAs a hockey family\, knowing who is open after games and practices\, that serves something for my entire family is a MUST-HAVE!  (so any restaurants within a 90-minute drive of Shawano is ideal) \n\n\n\nWe know a lot of people love to support their local businesses\, but may not know all the services that are provided. We’re working on closing that gap by offering a business directory. If you’re interested in becoming part of our business directory\, you can find out more here  We are also rolling out a Farm Fresh Directory.  \n\n\n\nWe have many affiliate partners where purchases you make with them\, will also help our small business.  (The following links are affiliate links and we may earn a commission on qualifying purchases at no additional cost to you.) \n\n\n\n\nPlant Therapy \n\n\n\nAmazon\n\n\n\nThink Board – use Code MarieVandenberg to save 20% off site-wide\n\n\n\nLehman’s\n\n\n\nTry The World –\n\n\n\nReally Good Stuff\n\n\n\nChess. com – my teenager recently discovered a love of chess.\n\n\n\nHockey Monkey\n\n\n\nSteve Spangler Science – Save up to 60% off with our Clearance Sale \n\n\n\nNaturally Nestled\n\n\n\nmSpy – what are your kids doing on their phone/tablet that you can’t see?\n\n\n\nMud/Wtr – Save 20% sitewide with this link (first order only) (My Dr suggested trying this when I suffer consequences from drinking too much coffee. I use both the Mud/Wtr latte and Rest to help at bedtime when I can’t shut my brain off)\n\n\n\nZenni Optical – save $30 when you use my discount link. I’ve been ordering glasses from Zenni for over 15 years.  To order from Zenni\, you will need the PD number (pupillary distance).  For adults\, the number shouldn’t change.  It will change for kids.  Zenni accepts 1 and 2 number PDs.  \n\n\n\nTing Mobile – get a $25 credit on your first bill when you use this link.  Plans start as low as $10/month and you can bring your own phone (or in my case\, I just used an old phone.) For more details\, see my post regarding the Cellcom outage and my solutions to always stay connected.\n\n\n\nGabb Wireless – Code: 9203979786 (discount on your first order) Kids’ Phones and Watches with additional parental controls.  Are you thinking about getting your child a device?  Check these two resources.  Parent Guide Officer Gomez\n\n\n\n\nPurchases made through the above links allow us to earn commissions when you use our links which we will put towards our business expenses\, keep our lights on\, and keep our content FREE for YOU- our readers and LOW for our local advertisers\, and sponsors. \n\n\n\nWe are hosting one fundraiser.  This is an on-going fundraiser.    \n\n\n\n\nMabel’s Labels – (Select Rural Northeast Wisconsin Families as the organization) – NO MORE Lost Mittens (coats\, shoes\, hats\, water bottles\, jackets\, etc) Follow our Facebook Page– there are often sales and discounts.\n\n\n\n\nThe funds earned through the fundraisers will be split.  Our portion will be used towards website/calendar upgrades\, community events\, giveaways\, and business expenses. \n\n\n\nWe will choose a new beneficiary for each distribution check.  We’ll take suggestions for our first check.  (We still have $50 to go before we’ll get our first check) \n\n\n\nIf you’d like to donate directly to our fundraisers instead of purchasing from our partners.  We can accept cash\, Square\, or Venmo. \n\n\n\nOne of the fundraisers is set up as an open-ended so we’ll be able to help several organizations for as long as there is interest in the products. \n\n\n\nThese are a few of my favorite products.  This is my “toolkit” for the Flu Season.  It also has some hints about getting started with essential oils. \n\n\n\nIf you are looking for the fundraising socks that we had available\, we do still have them\, but you’ll need to make an appointment. \n\n\n\nThese are a few other ways to support us.  Prices range from Free to $30. \n\n\n\n\n\n\n\n\n\n\n\n\n\n\n\n\n\n\n\n\n\nLinks: Charger Cord Charger with Flashlight  without Flashlight  Slim Charger Keychain Flashlight Desk Accessory Clock\n\n\n\nICYMI– My dog locked himself in my car.  PD’s tools didn’t work for my car.  I bought this amazing tool the next day.   At under $6\, you really can’t beat it.  Definitely cheaper than a locksmith or a broken window. \n\n\n\nHere are a few more favorites that I’ve found.   How many of you are the keepers of the “road trip drinks” and chargers?  You’ll like the water bottle below. \n\n\n\n\n\n\n\n\n\n\n\n\n\n\n\n\n\n\n\n\n\nLinks: Green XL Stanley\,  White Travel Mug\, “Green” Air Purifier\,  Electronic Air Purifier\, Charger Water Bottle\, Wireless Camera (I highly suggest getting the extra battery.)\, Pan Cam\,  V4:
URL:https://ruralnewfamilies.com/event/%f0%9f%9b%8d-shop-small-support-local-28/2025-05-29/
LOCATION:Wisconsin
CATEGORIES:Fundraiser,Shopping
END:VEVENT
END:VCALENDAR