BEGIN:VCALENDAR
VERSION:2.0
PRODID:-//Rural Northeast Wisconsin Families - ECPv6.15.20//NONSGML v1.0//EN
CALSCALE:GREGORIAN
METHOD:PUBLISH
X-ORIGINAL-URL:https://ruralnewfamilies.com
X-WR-CALDESC:Events for Rural Northeast Wisconsin Families
REFRESH-INTERVAL;VALUE=DURATION:PT1H
X-Robots-Tag:noindex
X-PUBLISHED-TTL:PT1H
BEGIN:VTIMEZONE
TZID:America/Chicago
BEGIN:DAYLIGHT
TZOFFSETFROM:-0600
TZOFFSETTO:-0500
TZNAME:CDT
DTSTART:20240310T080000
END:DAYLIGHT
BEGIN:STANDARD
TZOFFSETFROM:-0500
TZOFFSETTO:-0600
TZNAME:CST
DTSTART:20241103T070000
END:STANDARD
BEGIN:DAYLIGHT
TZOFFSETFROM:-0600
TZOFFSETTO:-0500
TZNAME:CDT
DTSTART:20250309T080000
END:DAYLIGHT
BEGIN:STANDARD
TZOFFSETFROM:-0500
TZOFFSETTO:-0600
TZNAME:CST
DTSTART:20251102T070000
END:STANDARD
BEGIN:DAYLIGHT
TZOFFSETFROM:-0600
TZOFFSETTO:-0500
TZNAME:CDT
DTSTART:20260308T080000
END:DAYLIGHT
BEGIN:STANDARD
TZOFFSETFROM:-0500
TZOFFSETTO:-0600
TZNAME:CST
DTSTART:20261101T070000
END:STANDARD
END:VTIMEZONE
BEGIN:VEVENT
DTSTART;TZID=America/Chicago:20251231T000000
DTEND;TZID=America/Chicago:20251231T235959
DTSTAMP:20260424T215322
CREATED:20251216T063515Z
LAST-MODIFIED:20251216T064059Z
UID:10011927-1767139200-1767225599@ruralnewfamilies.com
SUMMARY:🛍 Shop Small Support Local
DESCRIPTION:We are working on creating a new and improved Rural Northeast Wisconsin Families Restaurant Guide!  Let us help make the mealtime decisions easier. \n\n\n\nAs a hockey family\, knowing who is open after games and practices\, that serves something for my entire family is a MUST-HAVE!  (so any restaurants within a 90-minute drive of Shawano is ideal) \n\n\n\nWe know a lot of people love to support their local businesses\, but may not know all the services that are provided. We’re working on closing that gap by offering a business directory. If you’re interested in becoming part of our business directory\, you can find out more here  We are also rolling out a Farm Fresh Directory.  \n\n\n\nWe have many affiliate partners where purchases you make with them\, will also help our small business.  (The following links are affiliate links and we may earn a commission on qualifying purchases at no additional cost to you.) \n\n\n\n\nPlant Therapy \n\n\n\nAmazon\n\n\n\nThink Board – use Code MarieVandenberg to save 20% off site-wide\n\n\n\nTry The World –\n\n\n\nReally Good Stuff\n\n\n\nChess. com – my teenager recently discovered a love of chess.\n\n\n\nHockey Monkey\n\n\n\nSteve Spangler Science – Save up to 60% off with our Clearance Sale \n\n\n\nNaturally Nestled\n\n\n\nmSpy – what are your kids doing on their phone/tablet that you can’t see?\n\n\n\nMud/Wtr – Save 20% sitewide with this link (first order only) (My Dr suggested trying this when I suffered consequences from drinking too much coffee. I use both the Mud/Wtr latte and Rest to help at bedtime when I can’t shut my brain off) I’ve recently added the Hot Cocoa and Nourish.\n\n\n\nZenni Optical – save $30 when you use my discount link. I’ve been ordering glasses from Zenni for over 15 years.  To order from Zenni\, you will need the PD number (pupillary distance).  For adults\, the number shouldn’t change.  It will change for kids.  Zenni accepts 1 and 2 number PDs.  \n\n\n\nTing Mobile – get a $25 credit on your first bill when you use this link.  Plans start as low as $10/month and you can bring your own phone (or in my case\, I just used an old phone.) For more details\, see my post regarding the Cellcom outage and my solutions to always stay connected.\n\n\n\nGabb Wireless – Code: 9203979786 (discount on your first order) Kids’ Phones and Watches with additional parental controls.  Are you thinking about getting your child a device?  Check these two resources.  Parent Guide Officer Gomez\n\n\n\n\nPurchases made through the above links allow us to earn commissions when you use our links which we will put towards our business expenses\, keep our lights on\, and keep our content FREE for YOU- our readers and LOW for our local advertisers\, and sponsors. \n\n\n\nWe are hosting one fundraiser.  This is an on-going fundraiser.    \n\n\n\n\nMabel’s Labels – (Select Rural Northeast Wisconsin Families as the organization) – NO MORE Lost Mittens (coats\, shoes\, hats\, water bottles\, jackets\, etc) Follow our Facebook Page– there are often sales and discounts.\n\n\n\n\nThe funds earned through the fundraisers will be split.  Our portion will be used towards website/calendar upgrades\, community events\, giveaways\, and business expenses. \n\n\n\nWe will choose a new beneficiary for each distribution check.  We’ll take suggestions for our first check.  (We still have $50 to go before we’ll get our first check) \n\n\n\nIf you’d like to donate directly to our fundraisers instead of purchasing from our partners.  We can accept cash\, Square\, or Venmo. \n\n\n\nOne of the fundraisers is set up as an open-ended so we’ll be able to help several organizations for as long as there is interest in the products. \n\n\n\nThese are a few of my favorite products.  This is my “toolkit” for the Flu Season.  It also has some hints about getting started with essential oils. \n\n\n\nIf you are looking for the fundraising socks that we had available\, we do still have them\, but you’ll need to make an appointment. \n\n\n\nThese are a few other ways to support us. Prices range from Free to $30.The links\, images\, and QR codes below are also affiliate links\, so we may earn a commission on qualifying purchases \n\n\n\n\n\n\n\n\n\n\n\n\n\n\n\n\n\n\n\n\n\nLinks: Charger Cord Charger with Flashlight  without Flashlight  Slim Charger Keychain Flashlight Desk Accessory Clock\n\n\n\nICYMI– My dog locked himself in my car.  PD’s tools didn’t work for my car.  I bought this amazing tool the next day.   At under $6\, you really can’t beat it.  Definitely cheaper than a locksmith or a broken window. \n\n\n\nHere are a few more favorites that I’ve found. How many of you are the keepers of the “road trip drinks” and chargers? You’ll love the water bottle and Beef Jerky below. \n\n\n\n\n\n\n\n\n\n\n\n\n\n\n\n\n\n\n\n\n\nLinks: Green XL Stanley\,  White Travel Mug\, “Green” Air Purifier\,  Electronic Air Purifier\, Charger Water Bottle\, Wireless Camera (I highly suggest getting the extra battery.)\, Pan Cam\,  V4:  \n\n\n\n\n\n\n\n\n\n\n\n\n\n\n\n\n\nLinks: Emergency Radio\, Charger \n\n\n\n\nVenmo\n\n\n\nSquare\n\n\n\nBuy Me A Coffee\n\n\n\n\n\n\n\n\nLinks: Beef Jerky  Gift Cards\, Boba Tea Kits\, Cordless Table Lamps \n\n\n\nGame Day Shirts\, School Spirit/Halloween Flannel \, All Things Halloween\, Tie-Dye Hoodies\, Magnetic\, Motion Sensor\, rechargeable lights\, Grinch Style Hoodie\, portable rechargeable handwarmers\, Inflatable Halloween Costume\, Emotional Support Dumpster Fire\, Dumpster Fire Socks \n\n\n\n\n\n\n\nPortable rechargeable handwarmers with light🎄🎁 Holiday Family Pajamas \n\n\n\n👚 Ugly Sweater Ideas \n\n\n\nChristmas Ornament Kits for all ages and abilitiesWinter Vehicle Prep and rechargeable handwarmersRechargeable “Night” LightsStocking Stuffer IdeaPocket-Sized Ice Scraper
URL:https://ruralnewfamilies.com/event/%f0%9f%9b%8d-shop-small-support-local-33/2025-12-31/
LOCATION:Wisconsin
CATEGORIES:Fundraiser,Shopping
END:VEVENT
BEGIN:VEVENT
DTSTART;TZID=America/Chicago:20251231T090000
DTEND;TZID=America/Chicago:20251231T123000
DTSTAMP:20260424T215322
CREATED:20251231T072926Z
LAST-MODIFIED:20251231T072928Z
UID:10011969-1767171600-1767184200@ruralnewfamilies.com
SUMMARY:🥳🎉🎊🥛 Lamers Dairy Countdown to Noon
DESCRIPTION:In partnership with Lamers Dairy\, join us for a New Year’s Eve celebration for families with young children.Leading up to noon\, enjoy a lively photobooth and get creative at our DIY noisemaker bar. At noon\, cheer as we drop magical balloons and raise our cups for a milk toast to welcome the year ahead! It’s a celebration you won’t want to miss! \n\n\n\nBuy Tickets online here
URL:https://ruralnewfamilies.com/event/%f0%9f%a5%b3%f0%9f%8e%89%f0%9f%8e%8a%f0%9f%a5%9b-lamers-dairy-countdown-to-noon/
LOCATION:Farm Wisconsin Discovery Center\, Gass Lake Road 7001\, Manitowoc\, WI\, 54220\, United States
CATEGORIES:Community Events & Parades,Holidays,New Year's Eve
GEO:44.0146997;-87.7209174
X-APPLE-STRUCTURED-LOCATION;VALUE=URI;X-ADDRESS=Farm Wisconsin Discovery Center Gass Lake Road 7001 Manitowoc WI 54220 United States;X-APPLE-RADIUS=500;X-TITLE=Gass Lake Road 7001:geo:-87.7209174,44.0146997
END:VEVENT
BEGIN:VEVENT
DTSTART;TZID=America/Chicago:20251231T100000
DTEND;TZID=America/Chicago:20251231T110000
DTSTAMP:20260424T215322
CREATED:20250820T034700Z
LAST-MODIFIED:20250820T034702Z
UID:10010918-1767175200-1767178800@ruralnewfamilies.com
SUMMARY:Drop In Playgroup
DESCRIPTION:Join Miss Kelly for drop-in playgroup!   \n\n\n\nStorytime\, free play\, snack\, music\, fun activities!
URL:https://ruralnewfamilies.com/event/drop-in-playgroup-2/2025-12-31/
LOCATION:Marion Public Library\, North Main Street 120\, Marion\, Wisconsin\, 54950\, United States
CATEGORIES:FREE,Indoor Event,Library/Museum,Storytime
GEO:44.6712452;-88.8889175
X-APPLE-STRUCTURED-LOCATION;VALUE=URI;X-ADDRESS=Marion Public Library North Main Street 120 Marion Wisconsin 54950 United States;X-APPLE-RADIUS=500;X-TITLE=North Main Street 120:geo:-88.8889175,44.6712452
END:VEVENT
BEGIN:VEVENT
DTSTART;TZID=America/Chicago:20251231T100000
DTEND;TZID=America/Chicago:20251231T123000
DTSTAMP:20260424T215322
CREATED:20251231T082355Z
LAST-MODIFIED:20251231T082358Z
UID:10011964-1767175200-1767184200@ruralnewfamilies.com
SUMMARY:🎊🎉 Noon Year’s Eve Bash!
DESCRIPTION:Join us for our annual Noon Year’s Eve Party — a kid-friendly New Year’s countdown to noon with crafts\, noisemakers\, snacks\, and a dance party. This is your family’s chance to welcome the new year in a fun\, energetic way with maximum excitement\, way before bedtime.Get the new year wiggles out with festive activities while we countdown to a dance party at noon!ACTIVITIES• Craft your own party crown• Make a noisemaker for the dance party• Shake up a cranberry apple Sparkling Sprayer• Enjoy a tasty snack to fuel up for dancingDETAILS• $10 per youth• $5 per adult• Members save 20%!• All ages\, activities designed for youth 3-10 years old• Parents do not need to be present• Admission does not include access to the exhibits \n\n\n\nTickets Available online and at the door
URL:https://ruralnewfamilies.com/event/%f0%9f%8e%8a%f0%9f%8e%89-noon-years-eve-bash/
LOCATION:Farm Exploration Center\, 3400 Innovation Dr\, Plover\, Wisconsin\, 54467\, United States
CATEGORIES:Holidays,New Year's Eve
GEO:44.4451338;-89.5229009
X-APPLE-STRUCTURED-LOCATION;VALUE=URI;X-ADDRESS=Farm Exploration Center 3400 Innovation Dr Plover Wisconsin 54467 United States;X-APPLE-RADIUS=500;X-TITLE=3400 Innovation Dr:geo:-89.5229009,44.4451338
END:VEVENT
BEGIN:VEVENT
DTSTART;TZID=America/Chicago:20251231T120000
DTEND;TZID=America/Chicago:20251231T163000
DTSTAMP:20260424T215322
CREATED:20251231T101858Z
LAST-MODIFIED:20251231T101901Z
UID:10011971-1767182400-1767198600@ruralnewfamilies.com
SUMMARY:📽️🎬🥤🍿 FREE MOVIES!!! - Final Showings - Final Good-Byes
DESCRIPTION:Thank you to all who came to support us over the years! It has been especially nice to see everyone coming to see us these last few weeks.As a thanks to the community\, we will be offering FREE MOVIES on our last day open:Wednesday\, December 31\, New Year’s Eve!This will be for for all showtimes for each movie. So if there is a movie playing you haven’t seen yet or you just wanna watch one again\, tomorrow is your last chance! Seating is limited\, so first come\, first served. Concession sales are encouraged to reduce inventory.Thanks again!💜Jenny GutsmiedlGCT Manager💙And the Staff:AdriannaLaneWhitneyCooper \n\n\n\nClick here for Movie and Show Times \n\n\n\nAnaconda \n\n\n\nAvatar Fire & Ash \n\n\n\nThe SpongeBob Movie: Search for SquarePants
URL:https://ruralnewfamilies.com/event/%f0%9f%93%bd%ef%b8%8f%f0%9f%8e%ac%f0%9f%a5%a4%f0%9f%8d%bf-free-movies-final-showings-final-good-byes/
LOCATION:Grand Cinema Theaters\, 208 Wolf River Plaza\, New London\, Wisconsin\, 54961\, United States
CATEGORIES:Community Events & Parades,Concert/Performances,FREE,Holidays,Indoor Event,Music, Arts, Culture, & Tours,New Year's Eve,Plan Ahead
GEO:44.3930282;-88.7423951
X-APPLE-STRUCTURED-LOCATION;VALUE=URI;X-ADDRESS=Grand Cinema Theaters 208 Wolf River Plaza New London Wisconsin 54961 United States;X-APPLE-RADIUS=500;X-TITLE=208 Wolf River Plaza:geo:-88.7423951,44.3930282
END:VEVENT
BEGIN:VEVENT
DTSTART;TZID=America/Chicago:20251231T190000
DTEND;TZID=America/Chicago:20251231T210000
DTSTAMP:20260424T215322
CREATED:20240404T152054Z
LAST-MODIFIED:20240404T153249Z
UID:10003352-1767207600-1767214800@ruralnewfamilies.com
SUMMARY:AA Meeting
DESCRIPTION:
URL:https://ruralnewfamilies.com/event/aa-meeting-2/2025-12-31/
LOCATION:Clintonville United Methodist Church\, 13th Street 24\, Clintonville\, Wisconsin\, 54929\, United States
CATEGORIES:AA/NA Meetings
GEO:44.6252503;-88.7595837
X-APPLE-STRUCTURED-LOCATION;VALUE=URI;X-ADDRESS=Clintonville United Methodist Church 13th Street 24 Clintonville Wisconsin 54929 United States;X-APPLE-RADIUS=500;X-TITLE=13th Street 24:geo:-88.7595837,44.6252503
END:VEVENT
BEGIN:VEVENT
DTSTART;TZID=America/Chicago:20251231T200000
DTEND;TZID=America/Chicago:20251231T230000
DTSTAMP:20260424T215322
CREATED:20251231T103544Z
LAST-MODIFIED:20251231T103547Z
UID:10011972-1767211200-1767222000@ruralnewfamilies.com
SUMMARY:🎉🎊 NYE 80TH ANNIVERSARY PARTY!
DESCRIPTION:GRAND UNION IS CELEBRATING OUR 80TH ANNIVERSARY PARTY WITH US ON NYE!!!Our C&E family invites all of your families of the public to join us for food\, fun\, drinks\, and dancing! Refreshments will be provided from 8PM-10PM (or gone). Free beer\, NYE party favors\, door prizes\, raffles\, and NO COVER CHARGE! FREE ADMISSION!NYE Dinner specials will be offered before the dance in the upper dining room from 4PM-8PM!
URL:https://ruralnewfamilies.com/event/%f0%9f%8e%89%f0%9f%8e%8a-nye-80th-anniversary-party/
LOCATION:Chet And Emil’s Ballroom\, 388 Main St\, Birnamwood\, Wisconsin\, United States
CATEGORIES:Concert/Performances,FREE,Holidays,New Year's Eve
GEO:44.9301504;-89.2079711
X-APPLE-STRUCTURED-LOCATION;VALUE=URI;X-ADDRESS=Chet And Emil’s Ballroom 388 Main St Birnamwood Wisconsin United States;X-APPLE-RADIUS=500;X-TITLE=388 Main St:geo:-89.2079711,44.9301504
END:VEVENT
END:VCALENDAR