BEGIN:VCALENDAR
VERSION:2.0
PRODID:-//Rural Northeast Wisconsin Families - ECPv6.15.20//NONSGML v1.0//EN
CALSCALE:GREGORIAN
METHOD:PUBLISH
X-WR-CALNAME:Rural Northeast Wisconsin Families
X-ORIGINAL-URL:https://ruralnewfamilies.com
X-WR-CALDESC:Events for Rural Northeast Wisconsin Families
REFRESH-INTERVAL;VALUE=DURATION:PT1H
X-Robots-Tag:noindex
X-PUBLISHED-TTL:PT1H
BEGIN:VTIMEZONE
TZID:America/Chicago
BEGIN:DAYLIGHT
TZOFFSETFROM:-0600
TZOFFSETTO:-0500
TZNAME:CDT
DTSTART:20250309T080000
END:DAYLIGHT
BEGIN:STANDARD
TZOFFSETFROM:-0500
TZOFFSETTO:-0600
TZNAME:CST
DTSTART:20251102T070000
END:STANDARD
BEGIN:DAYLIGHT
TZOFFSETFROM:-0600
TZOFFSETTO:-0500
TZNAME:CDT
DTSTART:20260308T080000
END:DAYLIGHT
BEGIN:STANDARD
TZOFFSETFROM:-0500
TZOFFSETTO:-0600
TZNAME:CST
DTSTART:20261101T070000
END:STANDARD
BEGIN:DAYLIGHT
TZOFFSETFROM:-0600
TZOFFSETTO:-0500
TZNAME:CDT
DTSTART:20270314T080000
END:DAYLIGHT
BEGIN:STANDARD
TZOFFSETFROM:-0500
TZOFFSETTO:-0600
TZNAME:CST
DTSTART:20271107T070000
END:STANDARD
END:VTIMEZONE
BEGIN:VEVENT
DTSTART;TZID=America/Chicago:20260120T090000
DTEND;TZID=America/Chicago:20260120T103000
DTSTAMP:20260424T173606
CREATED:20260120T234010Z
LAST-MODIFIED:20260121T001346Z
UID:10012125-1768899600-1768905000@ruralnewfamilies.com
SUMMARY:Waupaca County Board of Supervisors Meeting
DESCRIPTION:Waupaca COUNTY BOARD MEETING SCHEDULE 2026\n\n\n\nAgendas/Packets February 2018-present \n\n\n\n1-20-2026 Waupaca County Board Agenda\n\n\n\n01-20-2026 Waupaca County Board Packet\n\n\n\nMiron Owner Report 1-20-26 at County Board
URL:https://ruralnewfamilies.com/event/waupaca-county-board-of-supervisors-meeting/2026-01-20/
LOCATION:Waupaca County Highway Office\, 2710 County Rd A\, Waupaca\, Wisconsin\, United States
CATEGORIES:Community Meetings,County Board,Election
GEO:44.321444;-89.0468776
X-APPLE-STRUCTURED-LOCATION;VALUE=URI;X-ADDRESS=Waupaca County Highway Office 2710 County Rd A Waupaca Wisconsin United States;X-APPLE-RADIUS=500;X-TITLE=2710 County Rd A:geo:-89.0468776,44.321444
END:VEVENT
BEGIN:VEVENT
DTSTART;TZID=America/Chicago:20260120T093000
DTEND;TZID=America/Chicago:20260120T103000
DTSTAMP:20260424T173606
CREATED:20240322T221908Z
LAST-MODIFIED:20240322T221910Z
UID:10000704-1768901400-1768905000@ruralnewfamilies.com
SUMMARY:AA Meeting
DESCRIPTION:
URL:https://ruralnewfamilies.com/event/aa-meeting/2026-01-20/
LOCATION:Hope Community Church\, Tristan Drive 302\, Shawano\, Wisconsin\, 54166\, United States
CATEGORIES:AA/NA Meetings
GEO:44.7777864;-88.5480222
X-APPLE-STRUCTURED-LOCATION;VALUE=URI;X-ADDRESS=Hope Community Church Tristan Drive 302 Shawano Wisconsin 54166 United States;X-APPLE-RADIUS=500;X-TITLE=Tristan Drive 302:geo:-88.5480222,44.7777864
END:VEVENT
BEGIN:VEVENT
DTSTART;TZID=America/Chicago:20260120T103000
DTEND;TZID=America/Chicago:20260120T110000
DTSTAMP:20260424T173606
CREATED:20250610T035623Z
LAST-MODIFIED:20250610T035626Z
UID:10009823-1768905000-1768906800@ruralnewfamilies.com
SUMMARY:📚 Bonduel/Story Time
DESCRIPTION:NEW DAY AND TIME! Bring the little ones to the library for a story\, a song\, and a fun craft!
URL:https://ruralnewfamilies.com/event/%f0%9f%93%9a-bonduel-story-time/2026-01-20/
LOCATION:Bonduel Library\, North Washington Street 125\, Bonduel\, WI\, 54107\, United States
CATEGORIES:FREE,Library/Museum,Storytime,Summer Reading Program
GEO:44.7384574;-88.4412828
X-APPLE-STRUCTURED-LOCATION;VALUE=URI;X-ADDRESS=Bonduel Library North Washington Street 125 Bonduel WI 54107 United States;X-APPLE-RADIUS=500;X-TITLE=North Washington Street 125:geo:-88.4412828,44.7384574
END:VEVENT
BEGIN:VEVENT
DTSTART;TZID=America/Chicago:20260120T130000
DTEND;TZID=America/Chicago:20260120T153000
DTSTAMP:20260424T173606
CREATED:20240409T192354Z
LAST-MODIFIED:20240409T192354Z
UID:10005264-1768914000-1768923000@ruralnewfamilies.com
SUMMARY:Cards for the Community
DESCRIPTION:Make cards. Play cards. Find Community. Intergenerational Program. All Ages Welcome.
URL:https://ruralnewfamilies.com/event/cards-for-the-community-22/
LOCATION:White Lake Community Center\, 615 School St\, White Lake\, WI\, 54491\, United States
GEO:45.156176;-88.7634604
X-APPLE-STRUCTURED-LOCATION;VALUE=URI;X-ADDRESS=White Lake Community Center 615 School St White Lake WI 54491 United States;X-APPLE-RADIUS=500;X-TITLE=615 School St:geo:-88.7634604,45.156176
END:VEVENT
BEGIN:VEVENT
DTSTART;TZID=America/Chicago:20260120T154500
DTEND;TZID=America/Chicago:20260120T164500
DTSTAMP:20260424T173606
CREATED:20240409T192354Z
LAST-MODIFIED:20240409T192354Z
UID:10005265-1768923900-1768927500@ruralnewfamilies.com
SUMMARY:Tail Waggin' Tutors: Read to Jack at White Lake
DESCRIPTION:The White Lake Branch Library is excited to offer Tail-Waggin’ Tutors with Jack and his human partner Dodi. He comes to White Lake Library every third Tuesday from 3:45 – 4:45 p.m. To sign up to read to Jack\, call 715-623-3724.\nOur Tail-Waggin’ Tutors program is designed to help young readers become fluent and confident in their reading. The dogs are registered therapy dogs and their human partner has received additional training to help them be awesome literacy coaches for our young readers.
URL:https://ruralnewfamilies.com/event/tail-waggin-tutors-read-to-jack-at-white-lake-22/
LOCATION:Wisconsin
END:VEVENT
BEGIN:VEVENT
DTSTART;TZID=America/Chicago:20260120T160000
DTEND;TZID=America/Chicago:20260120T180000
DTSTAMP:20260424T173606
CREATED:20260121T021114Z
LAST-MODIFIED:20260121T021116Z
UID:10012143-1768924800-1768932000@ruralnewfamilies.com
SUMMARY:Kids Eat FREE Today -
DESCRIPTION:We have a couple of Local Restaurants offering to let our Kids Eat FREE!  Today is one of those days! \n\n\n\n \n\n\n\nFind all the details and a few more options here:  \n\n\n\n➡️ https://ruralnewfamilies.com/2024/01/24/restaurant-guide/ \n\n\n\n \n\n\n\nRestaurants:  We are currently having a Restaurant Week Sale!
URL:https://ruralnewfamilies.com/event/kids-eat-free-today-2/2026-01-20/
LOCATION:Wisconsin
CATEGORIES:Youth & Family Programs
ATTACH;FMTTYPE=image/png:https://ruralnewfamilies.com/wp-content/uploads/2026/01/7df5c2ac-d6ae-4e93-b796-9db81ed50ef4.png
END:VEVENT
BEGIN:VEVENT
DTSTART;TZID=America/Chicago:20260120T190000
DTEND;TZID=America/Chicago:20260120T210000
DTSTAMP:20260424T173606
CREATED:20240404T152054Z
LAST-MODIFIED:20240404T153249Z
UID:10003372-1768935600-1768942800@ruralnewfamilies.com
SUMMARY:AA Meeting
DESCRIPTION:
URL:https://ruralnewfamilies.com/event/aa-meeting-2/2026-01-20/
LOCATION:Clintonville United Methodist Church\, 13th Street 24\, Clintonville\, Wisconsin\, 54929\, United States
CATEGORIES:AA/NA Meetings
GEO:44.6252503;-88.7595837
X-APPLE-STRUCTURED-LOCATION;VALUE=URI;X-ADDRESS=Clintonville United Methodist Church 13th Street 24 Clintonville Wisconsin 54929 United States;X-APPLE-RADIUS=500;X-TITLE=13th Street 24:geo:-88.7595837,44.6252503
END:VEVENT
END:VCALENDAR