BEGIN:VCALENDAR
VERSION:2.0
PRODID:-//Rural Northeast Wisconsin Families - ECPv6.15.20//NONSGML v1.0//EN
CALSCALE:GREGORIAN
METHOD:PUBLISH
X-ORIGINAL-URL:https://ruralnewfamilies.com
X-WR-CALDESC:Events for Rural Northeast Wisconsin Families
REFRESH-INTERVAL;VALUE=DURATION:PT1H
X-Robots-Tag:noindex
X-PUBLISHED-TTL:PT1H
BEGIN:VTIMEZONE
TZID:America/Chicago
BEGIN:DAYLIGHT
TZOFFSETFROM:-0600
TZOFFSETTO:-0500
TZNAME:CDT
DTSTART:20250309T080000
END:DAYLIGHT
BEGIN:STANDARD
TZOFFSETFROM:-0500
TZOFFSETTO:-0600
TZNAME:CST
DTSTART:20251102T070000
END:STANDARD
BEGIN:DAYLIGHT
TZOFFSETFROM:-0600
TZOFFSETTO:-0500
TZNAME:CDT
DTSTART:20260308T080000
END:DAYLIGHT
BEGIN:STANDARD
TZOFFSETFROM:-0500
TZOFFSETTO:-0600
TZNAME:CST
DTSTART:20261101T070000
END:STANDARD
BEGIN:DAYLIGHT
TZOFFSETFROM:-0600
TZOFFSETTO:-0500
TZNAME:CDT
DTSTART:20270314T080000
END:DAYLIGHT
BEGIN:STANDARD
TZOFFSETFROM:-0500
TZOFFSETTO:-0600
TZNAME:CST
DTSTART:20271107T070000
END:STANDARD
END:VTIMEZONE
BEGIN:VEVENT
DTSTART;TZID=America/Chicago:20260126T093000
DTEND;TZID=America/Chicago:20260126T110000
DTSTAMP:20260424T214440
CREATED:20260126T043435Z
LAST-MODIFIED:20260127T031049Z
UID:10012165-1769419800-1769425200@ruralnewfamilies.com
SUMMARY:Clintonville School Board Policy Meeting
DESCRIPTION:Policy Committee Meeting Notice 1-26-26\n\n\n\nPolicy meeting recording
URL:https://ruralnewfamilies.com/event/clintonville-school-board-policy-meeting/
LOCATION:Clintonville School  District Office\, 45 W Green Tree Rd\, Clintonville\, WI\, 54929\, United States
CATEGORIES:Community Meetings,Election,School Board
GEO:44.63611;-88.7547969
X-APPLE-STRUCTURED-LOCATION;VALUE=URI;X-ADDRESS=Clintonville School  District Office 45 W Green Tree Rd Clintonville WI 54929 United States;X-APPLE-RADIUS=500;X-TITLE=45 W Green Tree Rd:geo:-88.7547969,44.63611
END:VEVENT
BEGIN:VEVENT
DTSTART;TZID=America/Chicago:20260126T100000
DTEND;TZID=America/Chicago:20260126T110000
DTSTAMP:20260424T214440
CREATED:20260110T161702Z
LAST-MODIFIED:20260110T161705Z
UID:10012109-1769421600-1769425200@ruralnewfamilies.com
SUMMARY:Sanctuary Storytime at Bay Beach Wildlife Sanctuary
DESCRIPTION:Sanctuary Storytime at Bay Beach Wildlife Sanctuary is awesome!Pre-registration is required by calling (920) 391-3677.Ms. Jody is excited to see everyone on Mondays 10am-11am.Held in the lower level of the Nature Center.Join Ms. Jody for a story and a simple craft/activity geared towards preschoolers. Adult remains with child.Here are the upcoming topics:12/22 Great horned Owl12/29 winter birds/birdwatching1/5 Deer1/12 Kingsnake1/19 Foxes1/26 Bernard the WoodchuckHope you can join us!#BayBeachWildlifeSanctuary
URL:https://ruralnewfamilies.com/event/sanctuary-storytime-at-bay-beach-wildlife-sanctuary-2/2026-01-26/
LOCATION:Bay Beach Wildlife Sanctuary\, East Shore Drive 1660\, Green Bay\, WI\, 54302\, United States
CATEGORIES:FREE,Nature Center,Plan Ahead,RSVP - Pre-Registration Required,Storytime,Youth & Family Programs
GEO:44.5275131;-87.9737794
X-APPLE-STRUCTURED-LOCATION;VALUE=URI;X-ADDRESS=Bay Beach Wildlife Sanctuary East Shore Drive 1660 Green Bay WI 54302 United States;X-APPLE-RADIUS=500;X-TITLE=East Shore Drive 1660:geo:-87.9737794,44.5275131
END:VEVENT
BEGIN:VEVENT
DTSTART;TZID=America/Chicago:20260126T101500
DTEND;TZID=America/Chicago:20260126T111500
DTSTAMP:20260424T214440
CREATED:20260128T041836Z
LAST-MODIFIED:20260128T041921Z
UID:10012186-1769422500-1769426100@ruralnewfamilies.com
SUMMARY:Babygarten
DESCRIPTION:An event for babies!  Come\, play\, learn and grow together!  \n\n\n\nActivities include: \n\n\n\n\nStorytime and singing\n\n\n\nNursery Rhymes\n\n\n\nSocial Playtime\n\n\n\nCraft (once per month)
URL:https://ruralnewfamilies.com/event/babygarten-2/2026-01-26/
LOCATION:Marion Public Library\, North Main Street 120\, Marion\, Wisconsin\, 54950\, United States
CATEGORIES:FREE,Indoor Event,Library/Museum,Life Stages And Special Communities,Storytime,Youth & Family Programs
GEO:44.6712452;-88.8889175
X-APPLE-STRUCTURED-LOCATION;VALUE=URI;X-ADDRESS=Marion Public Library North Main Street 120 Marion Wisconsin 54950 United States;X-APPLE-RADIUS=500;X-TITLE=North Main Street 120:geo:-88.8889175,44.6712452
END:VEVENT
BEGIN:VEVENT
DTSTART;TZID=America/Chicago:20260126T110000
DTEND;TZID=America/Chicago:20260126T120000
DTSTAMP:20260424T214440
CREATED:20240404T154704Z
LAST-MODIFIED:20240404T154706Z
UID:10004898-1769425200-1769428800@ruralnewfamilies.com
SUMMARY:AA Meeting - Back to Basics
DESCRIPTION:
URL:https://ruralnewfamilies.com/event/aa-meeting-back-to-basics/2026-01-26/
LOCATION:First Presbyterian Church\, West Presbyterian Street 100\, Shawano\, WI\, 54166\, United States
CATEGORIES:AA/NA Meetings
GEO:44.7785164;-88.6096198
X-APPLE-STRUCTURED-LOCATION;VALUE=URI;X-ADDRESS=First Presbyterian Church West Presbyterian Street 100 Shawano WI 54166 United States;X-APPLE-RADIUS=500;X-TITLE=West Presbyterian Street 100:geo:-88.6096198,44.7785164
END:VEVENT
BEGIN:VEVENT
DTSTART;TZID=America/Chicago:20260126T150000
DTEND;TZID=America/Chicago:20260126T190000
DTSTAMP:20260424T214440
CREATED:20260121T020844Z
LAST-MODIFIED:20260121T021428Z
UID:10012140-1769439600-1769454000@ruralnewfamilies.com
SUMMARY:Kids Eat FREE Today -
DESCRIPTION:We have a couple of Local Restaurants offering to let our Kids Eat FREE!  Today is one of those days! \n\n\n\n \n\n\n\nFind all the details and a few more options here:  \n\n\n\n➡️ https://ruralnewfamilies.com/2024/01/24/restaurant-guide/ \n\n\n\n \n\n\n\nRestaurants:  We are currently having a Restaurant Week Sale!
URL:https://ruralnewfamilies.com/event/kids-eat-free-today/2026-01-26/
LOCATION:Wisconsin
CATEGORIES:Youth & Family Programs
ATTACH;FMTTYPE=image/png:https://ruralnewfamilies.com/wp-content/uploads/2026/01/7df5c2ac-d6ae-4e93-b796-9db81ed50ef4.png
END:VEVENT
BEGIN:VEVENT
DTSTART;TZID=America/Chicago:20260126T173000
DTEND;TZID=America/Chicago:20260126T210000
DTSTAMP:20260424T214440
CREATED:20260122T231054Z
LAST-MODIFIED:20260128T015120Z
UID:10012163-1769448600-1769461200@ruralnewfamilies.com
SUMMARY:Clintonville School District Board Meeting -
DESCRIPTION:The Board Meeting will be held in the CHS IMC.  If you’d like to speak at the meeting\, the form can be found here or there are forms available on arrival.  If you plan on speaking\, please arrive a minimum of 15 minutes early. \n\n\n\nPlease note that the “Peanut Gallery” can only speak outside of the Public Comments portion of the meetings\, with permission from the President\, Chair or other Active Board Member. (Committee meetings are slightly more relaxed.  Check with the Committee Chair or other board member in attendance before the meeting for their expectations.)   \n\n\n\n \n\n\n\nMore information on the Clintonville Board of Education can be found here \n\n\n\n \n\n\n\nClintonville School Board Agendas\n\n\n\nSpecial Meeting for Referendum Agenda\n\n\n\n1-26-26 Special Meeting Agenda\n\n\n\nRegular Meeting Agenda\n\n\n\n1-26-26 Agenda\n\n\n\nClintonville School Board Packets\n\n\n\nSchool Board Special Referendum Meeting Packet\n\n\n\n1-26-26 Special Meeting\n\n\n\nRegular Meeting Packet\n\n\n\n1-26-26 Board Packet\n\n\n\nAll Meeting Agendas and Packets can be found here (January to June 2024 meeting will be under 2023-2024 BOE Agenda Packet) July begins the 2024-2025 BOE Meetings. \n\n\n\nThe link to watch the YouTube Live can be found here The meetings are recorded so you can go back to watch a previous meeting. Links to additional non-district-owned recordings are listed below: \n\n\n\nAll Recording Links below are the Property of Rural Northeast Wisconsin Families\, a privately owned company. \n\n\n\nYouTube Recording of Tonight’s Special Meeting \n\n\n\nYouTube Recording (4K) \n\n\n\n\n\n\n\n\n\nYouTube Recording of Tonight’s Regular Meeting \n\n\n\nYouTube (4K) Recording on Tonight’s Regular Meeting \n\n\n\nAdditional Recording\n\n\n\n \n\n\n\nPrevious Meetings \n\n\n\nRural NEW families School Board YouTube Playlist – All available meetings \n\n\n\nAudio Only Recordings \n\n\n\n\n\n\n\n\n\n\n\n\n\n\n\n\n\n\n\n\n\n\n\n\n\n\n\n\n\n\n\n\n\n\n\n\n\nFull Open Meetings Law Compliance Policy
URL:https://ruralnewfamilies.com/event/clintonville-school-district-board-meeting-20/
LOCATION:Clintonville High School\, Green Tree Road 64\, Clintonville\, WI\, 54929\, United States
CATEGORIES:Community Meetings,Election,School Board
GEO:44.6365085;-88.7552863
X-APPLE-STRUCTURED-LOCATION;VALUE=URI;X-ADDRESS=Clintonville High School Green Tree Road 64 Clintonville WI 54929 United States;X-APPLE-RADIUS=500;X-TITLE=Green Tree Road 64:geo:-88.7552863,44.6365085
END:VEVENT
BEGIN:VEVENT
DTSTART;TZID=America/Chicago:20260126T190000
DTEND;TZID=America/Chicago:20260126T210000
DTSTAMP:20260424T214440
CREATED:20240404T152054Z
LAST-MODIFIED:20240404T153249Z
UID:10003378-1769454000-1769461200@ruralnewfamilies.com
SUMMARY:AA Meeting
DESCRIPTION:
URL:https://ruralnewfamilies.com/event/aa-meeting-2/2026-01-26/
LOCATION:Clintonville United Methodist Church\, 13th Street 24\, Clintonville\, Wisconsin\, 54929\, United States
CATEGORIES:AA/NA Meetings
GEO:44.6252503;-88.7595837
X-APPLE-STRUCTURED-LOCATION;VALUE=URI;X-ADDRESS=Clintonville United Methodist Church 13th Street 24 Clintonville Wisconsin 54929 United States;X-APPLE-RADIUS=500;X-TITLE=13th Street 24:geo:-88.7595837,44.6252503
END:VEVENT
END:VCALENDAR