BEGIN:VCALENDAR
VERSION:2.0
PRODID:-//Rural Northeast Wisconsin Families - ECPv6.15.20//NONSGML v1.0//EN
CALSCALE:GREGORIAN
METHOD:PUBLISH
X-WR-CALNAME:Rural Northeast Wisconsin Families
X-ORIGINAL-URL:https://ruralnewfamilies.com
X-WR-CALDESC:Events for Rural Northeast Wisconsin Families
REFRESH-INTERVAL;VALUE=DURATION:PT1H
X-Robots-Tag:noindex
X-PUBLISHED-TTL:PT1H
BEGIN:VTIMEZONE
TZID:America/Chicago
BEGIN:DAYLIGHT
TZOFFSETFROM:-0600
TZOFFSETTO:-0500
TZNAME:CDT
DTSTART:20250309T080000
END:DAYLIGHT
BEGIN:STANDARD
TZOFFSETFROM:-0500
TZOFFSETTO:-0600
TZNAME:CST
DTSTART:20251102T070000
END:STANDARD
BEGIN:DAYLIGHT
TZOFFSETFROM:-0600
TZOFFSETTO:-0500
TZNAME:CDT
DTSTART:20260308T080000
END:DAYLIGHT
BEGIN:STANDARD
TZOFFSETFROM:-0500
TZOFFSETTO:-0600
TZNAME:CST
DTSTART:20261101T070000
END:STANDARD
BEGIN:DAYLIGHT
TZOFFSETFROM:-0600
TZOFFSETTO:-0500
TZNAME:CDT
DTSTART:20270314T080000
END:DAYLIGHT
BEGIN:STANDARD
TZOFFSETFROM:-0500
TZOFFSETTO:-0600
TZNAME:CST
DTSTART:20271107T070000
END:STANDARD
END:VTIMEZONE
BEGIN:VEVENT
DTSTART;TZID=America/Chicago:20260127T093000
DTEND;TZID=America/Chicago:20260127T103000
DTSTAMP:20260424T173601
CREATED:20240322T221908Z
LAST-MODIFIED:20240322T221910Z
UID:10000706-1769506200-1769509800@ruralnewfamilies.com
SUMMARY:AA Meeting
DESCRIPTION:
URL:https://ruralnewfamilies.com/event/aa-meeting/2026-01-27/
LOCATION:Hope Community Church\, Tristan Drive 302\, Shawano\, Wisconsin\, 54166\, United States
CATEGORIES:AA/NA Meetings
GEO:44.7777864;-88.5480222
X-APPLE-STRUCTURED-LOCATION;VALUE=URI;X-ADDRESS=Hope Community Church Tristan Drive 302 Shawano Wisconsin 54166 United States;X-APPLE-RADIUS=500;X-TITLE=Tristan Drive 302:geo:-88.5480222,44.7777864
END:VEVENT
BEGIN:VEVENT
DTSTART;TZID=America/Chicago:20260127T103000
DTEND;TZID=America/Chicago:20260127T110000
DTSTAMP:20260424T173601
CREATED:20250610T035623Z
LAST-MODIFIED:20250610T035626Z
UID:10009824-1769509800-1769511600@ruralnewfamilies.com
SUMMARY:📚 Bonduel/Story Time
DESCRIPTION:NEW DAY AND TIME! Bring the little ones to the library for a story\, a song\, and a fun craft!
URL:https://ruralnewfamilies.com/event/%f0%9f%93%9a-bonduel-story-time/2026-01-27/
LOCATION:Bonduel Library\, North Washington Street 125\, Bonduel\, WI\, 54107\, United States
CATEGORIES:FREE,Library/Museum,Storytime,Summer Reading Program
GEO:44.7384574;-88.4412828
X-APPLE-STRUCTURED-LOCATION;VALUE=URI;X-ADDRESS=Bonduel Library North Washington Street 125 Bonduel WI 54107 United States;X-APPLE-RADIUS=500;X-TITLE=North Washington Street 125:geo:-88.4412828,44.7384574
END:VEVENT
BEGIN:VEVENT
DTSTART;TZID=America/Chicago:20260127T160000
DTEND;TZID=America/Chicago:20260127T180000
DTSTAMP:20260424T173601
CREATED:20260121T021114Z
LAST-MODIFIED:20260121T021116Z
UID:10012144-1769529600-1769536800@ruralnewfamilies.com
SUMMARY:Kids Eat FREE Today -
DESCRIPTION:We have a couple of Local Restaurants offering to let our Kids Eat FREE!  Today is one of those days! \n\n\n\n \n\n\n\nFind all the details and a few more options here:  \n\n\n\n➡️ https://ruralnewfamilies.com/2024/01/24/restaurant-guide/ \n\n\n\n \n\n\n\nRestaurants:  We are currently having a Restaurant Week Sale!
URL:https://ruralnewfamilies.com/event/kids-eat-free-today-2/2026-01-27/
LOCATION:Wisconsin
CATEGORIES:Youth & Family Programs
ATTACH;FMTTYPE=image/png:https://ruralnewfamilies.com/wp-content/uploads/2026/01/7df5c2ac-d6ae-4e93-b796-9db81ed50ef4.png
END:VEVENT
BEGIN:VEVENT
DTSTART;TZID=America/Chicago:20260127T163000
DTEND;TZID=America/Chicago:20260127T170000
DTSTAMP:20260424T173601
CREATED:20240409T192354Z
LAST-MODIFIED:20240409T192354Z
UID:10005266-1769531400-1769533200@ruralnewfamilies.com
SUMMARY:Library Board Policy Committee Meeting
DESCRIPTION:
URL:https://ruralnewfamilies.com/event/library-board-policy-committee-meeting-22/
LOCATION:Wisconsin
END:VEVENT
BEGIN:VEVENT
DTSTART;TZID=America/Chicago:20260127T180000
DTEND;TZID=America/Chicago:20260127T200000
DTSTAMP:20260424T173601
CREATED:20251220T053214Z
LAST-MODIFIED:20251231T073636Z
UID:10011962-1769536800-1769544000@ruralnewfamilies.com
SUMMARY:Dudes & T.A.C.O.S - Off the Grid with Ryan Baudhuin
DESCRIPTION:HEY DUDES! \n\n\n\nYou’re invited to join us for our January Dudes & T.A.C.O.S. “OFF THE GRID” event  Dudes will get to hear a testimony from Ryan Baudhuin about his experiences after returning home from combat and his focus on Veteran’s advocacy! \n\n\n\nThis is a FREE event with FREE food and FREE bowling! \n\n\n\n\n\n\n\nLearn more about our Dudes & T.A.C.O.S. initiative to help men live well by visiting our website here: https://wearefoundations.org/dudes/. \n\n\n\nBring a buddy and we’ll see ya there!
URL:https://ruralnewfamilies.com/event/dudes-t-a-c-o-s-off-the-grid-with-ryan-baudhuin/
LOCATION:The GOOD Place\, 1128 Main St\, Oconto\, Wisconsin\, 54153\, United States
CATEGORIES:Community Resource,FREE,Health and Safety,Inclusive Events,Plan Ahead,Plan Ahead- RSVP Suggested- not required,Speaker Series,Sporting Events,Veterans
GEO:44.8871166;-87.8666756
X-APPLE-STRUCTURED-LOCATION;VALUE=URI;X-ADDRESS=The GOOD Place 1128 Main St Oconto Wisconsin 54153 United States;X-APPLE-RADIUS=500;X-TITLE=1128 Main St:geo:-87.8666756,44.8871166
END:VEVENT
BEGIN:VEVENT
DTSTART;TZID=America/Chicago:20260127T181500
DTEND;TZID=America/Chicago:20260127T190000
DTSTAMP:20260424T173601
CREATED:20240409T192354Z
LAST-MODIFIED:20240409T192354Z
UID:10005267-1769537700-1769540400@ruralnewfamilies.com
SUMMARY:Library Board Buildings and Grounds Committee
DESCRIPTION:
URL:https://ruralnewfamilies.com/event/library-board-buildings-and-grounds-committee-22/
LOCATION:Wisconsin
END:VEVENT
BEGIN:VEVENT
DTSTART;TZID=America/Chicago:20260127T190000
DTEND;TZID=America/Chicago:20260127T210000
DTSTAMP:20260424T173601
CREATED:20240404T152054Z
LAST-MODIFIED:20240404T153249Z
UID:10003379-1769540400-1769547600@ruralnewfamilies.com
SUMMARY:AA Meeting
DESCRIPTION:
URL:https://ruralnewfamilies.com/event/aa-meeting-2/2026-01-27/
LOCATION:Clintonville United Methodist Church\, 13th Street 24\, Clintonville\, Wisconsin\, 54929\, United States
CATEGORIES:AA/NA Meetings
GEO:44.6252503;-88.7595837
X-APPLE-STRUCTURED-LOCATION;VALUE=URI;X-ADDRESS=Clintonville United Methodist Church 13th Street 24 Clintonville Wisconsin 54929 United States;X-APPLE-RADIUS=500;X-TITLE=13th Street 24:geo:-88.7595837,44.6252503
END:VEVENT
END:VCALENDAR