BEGIN:VCALENDAR
VERSION:2.0
PRODID:-//Rural Northeast Wisconsin Families - ECPv6.15.20//NONSGML v1.0//EN
CALSCALE:GREGORIAN
METHOD:PUBLISH
X-WR-CALNAME:Rural Northeast Wisconsin Families
X-ORIGINAL-URL:https://ruralnewfamilies.com
X-WR-CALDESC:Events for Rural Northeast Wisconsin Families
REFRESH-INTERVAL;VALUE=DURATION:PT1H
X-Robots-Tag:noindex
X-PUBLISHED-TTL:PT1H
BEGIN:VTIMEZONE
TZID:America/Chicago
BEGIN:DAYLIGHT
TZOFFSETFROM:-0600
TZOFFSETTO:-0500
TZNAME:CDT
DTSTART:20250309T080000
END:DAYLIGHT
BEGIN:STANDARD
TZOFFSETFROM:-0500
TZOFFSETTO:-0600
TZNAME:CST
DTSTART:20251102T070000
END:STANDARD
BEGIN:DAYLIGHT
TZOFFSETFROM:-0600
TZOFFSETTO:-0500
TZNAME:CDT
DTSTART:20260308T080000
END:DAYLIGHT
BEGIN:STANDARD
TZOFFSETFROM:-0500
TZOFFSETTO:-0600
TZNAME:CST
DTSTART:20261101T070000
END:STANDARD
BEGIN:DAYLIGHT
TZOFFSETFROM:-0600
TZOFFSETTO:-0500
TZNAME:CDT
DTSTART:20270314T080000
END:DAYLIGHT
BEGIN:STANDARD
TZOFFSETFROM:-0500
TZOFFSETTO:-0600
TZNAME:CST
DTSTART:20271107T070000
END:STANDARD
END:VTIMEZONE
BEGIN:VEVENT
DTSTART;TZID=America/Chicago:20260218T093000
DTEND;TZID=America/Chicago:20260218T103000
DTSTAMP:20260424T232122
CREATED:20260204T005933Z
LAST-MODIFIED:20260204T010005Z
UID:10012290-1771407000-1771410600@ruralnewfamilies.com
SUMMARY:👶📚 Babygarten
DESCRIPTION:A time for caregivers and infants to enjoy rhymes\, songs and a few stories together. Followed by social playtime for the little ones.
URL:https://ruralnewfamilies.com/event/%f0%9f%91%b6%f0%9f%93%9a-babygarten/2026-02-18/
LOCATION:New London Public Library\, 406 S Pearl St\, New London\, Wisconsin\, 54961\, United States
CATEGORIES:FREE,Library/Museum,Life Stages And Special Communities,Music, Arts, Culture, & Tours,Storytime,Youth & Family Programs
GEO:44.3895883;-88.7393637
X-APPLE-STRUCTURED-LOCATION;VALUE=URI;X-ADDRESS=New London Public Library 406 S Pearl St New London Wisconsin 54961 United States;X-APPLE-RADIUS=500;X-TITLE=406 S Pearl St:geo:-88.7393637,44.3895883
END:VEVENT
BEGIN:VEVENT
DTSTART;TZID=America/Chicago:20260218T093000
DTEND;TZID=America/Chicago:20260218T113000
DTSTAMP:20260424T232122
CREATED:20260206T053933Z
LAST-MODIFIED:20260206T060921Z
UID:10012340-1771407000-1771414200@ruralnewfamilies.com
SUMMARY:Suessical - Free Senior Day
DESCRIPTION:Please call the PACE office if you need a ride: 920.822.6050
URL:https://ruralnewfamilies.com/event/suessical-free-senior-day/
LOCATION:Pulaski High School\, South Saint Augustine Street 1040\, Pulaski\, Wisconsin\, 54162\, United States
CATEGORIES:Community Events & Parades,Concert/Performances,FREE,Music, Arts, Culture, & Tours,Plan Ahead,Senior Connections
GEO:44.6588892;-88.2400871
X-APPLE-STRUCTURED-LOCATION;VALUE=URI;X-ADDRESS=Pulaski High School South Saint Augustine Street 1040 Pulaski Wisconsin 54162 United States;X-APPLE-RADIUS=500;X-TITLE=South Saint Augustine Street 1040:geo:-88.2400871,44.6588892
END:VEVENT
BEGIN:VEVENT
DTSTART;TZID=America/Chicago:20260218T170000
DTEND;TZID=America/Chicago:20260218T190000
DTSTAMP:20260424T232122
CREATED:20260218T001019Z
LAST-MODIFIED:20260218T001021Z
UID:10012525-1771434000-1771441200@ruralnewfamilies.com
SUMMARY:Kids' Cultural Fest
DESCRIPTION:Celebrate and learn about different cultures during our free event. Good for all ages and learning stages!
URL:https://ruralnewfamilies.com/event/kids-cultural-fest/
LOCATION:Central Wisconsin Children’s Museum\, 1100 Main St\, Stevens Point\, WI\, 54481\, United States
CATEGORIES:Community Resource,FREE,Inclusive Events,Indoor Event,Library/Museum,Music, Arts, Culture, & Tours,Youth & Family Programs
GEO:44.5237347;-89.583372
X-APPLE-STRUCTURED-LOCATION;VALUE=URI;X-ADDRESS=Central Wisconsin Children’s Museum 1100 Main St Stevens Point WI 54481 United States;X-APPLE-RADIUS=500;X-TITLE=1100 Main St:geo:-89.583372,44.5237347
END:VEVENT
END:VCALENDAR