BEGIN:VCALENDAR
VERSION:2.0
PRODID:-//Rural Northeast Wisconsin Families - ECPv6.15.20//NONSGML v1.0//EN
CALSCALE:GREGORIAN
METHOD:PUBLISH
X-WR-CALNAME:Rural Northeast Wisconsin Families
X-ORIGINAL-URL:https://ruralnewfamilies.com
X-WR-CALDESC:Events for Rural Northeast Wisconsin Families
REFRESH-INTERVAL;VALUE=DURATION:PT1H
X-Robots-Tag:noindex
X-PUBLISHED-TTL:PT1H
BEGIN:VTIMEZONE
TZID:America/Chicago
BEGIN:DAYLIGHT
TZOFFSETFROM:-0600
TZOFFSETTO:-0500
TZNAME:CDT
DTSTART:20250309T080000
END:DAYLIGHT
BEGIN:STANDARD
TZOFFSETFROM:-0500
TZOFFSETTO:-0600
TZNAME:CST
DTSTART:20251102T070000
END:STANDARD
BEGIN:DAYLIGHT
TZOFFSETFROM:-0600
TZOFFSETTO:-0500
TZNAME:CDT
DTSTART:20260308T080000
END:DAYLIGHT
BEGIN:STANDARD
TZOFFSETFROM:-0500
TZOFFSETTO:-0600
TZNAME:CST
DTSTART:20261101T070000
END:STANDARD
BEGIN:DAYLIGHT
TZOFFSETFROM:-0600
TZOFFSETTO:-0500
TZNAME:CDT
DTSTART:20270314T080000
END:DAYLIGHT
BEGIN:STANDARD
TZOFFSETFROM:-0500
TZOFFSETTO:-0600
TZNAME:CST
DTSTART:20271107T070000
END:STANDARD
END:VTIMEZONE
BEGIN:VEVENT
DTSTART;TZID=America/Chicago:20260226T170000
DTEND;TZID=America/Chicago:20260226T183000
DTSTAMP:20260425T223407
CREATED:20260226T235358Z
LAST-MODIFIED:20260226T235400Z
UID:10012748-1772125200-1772130600@ruralnewfamilies.com
SUMMARY:FREE COMMUNITY MEAL
DESCRIPTION:FREE COMMUNITY MEALMattoon Church of the NazareneFebruary 26 5:00 pm to 6:30 pmCome join us as we serve up breakfast for dinner\,With eggs\, hash browns\, biscuits and gravy.Everyone is welcome\,come and bring your friends and neighbors. We look forward to serving you!
URL:https://ruralnewfamilies.com/event/free-community-meal/
LOCATION:Mattoon-Antigo Church of the Nazarene – Birnamwood\, N10399 County Rd D\, Birnamwood\, Wisconsin\, United States
CATEGORIES:Community Events & Parades,Community Meals,FREE
GEO:44.9672916;-89.0421714
X-APPLE-STRUCTURED-LOCATION;VALUE=URI;X-ADDRESS=Mattoon-Antigo Church of the Nazarene – Birnamwood N10399 County Rd D Birnamwood Wisconsin United States;X-APPLE-RADIUS=500;X-TITLE=N10399 County Rd D:geo:-89.0421714,44.9672916
END:VEVENT
END:VCALENDAR