BEGIN:VCALENDAR
VERSION:2.0
PRODID:-//Rural Northeast Wisconsin Families - ECPv6.15.20//NONSGML v1.0//EN
CALSCALE:GREGORIAN
METHOD:PUBLISH
X-WR-CALNAME:Rural Northeast Wisconsin Families
X-ORIGINAL-URL:https://ruralnewfamilies.com
X-WR-CALDESC:Events for Rural Northeast Wisconsin Families
REFRESH-INTERVAL;VALUE=DURATION:PT1H
X-Robots-Tag:noindex
X-PUBLISHED-TTL:PT1H
BEGIN:VTIMEZONE
TZID:America/Chicago
BEGIN:DAYLIGHT
TZOFFSETFROM:-0600
TZOFFSETTO:-0500
TZNAME:CDT
DTSTART:20250309T080000
END:DAYLIGHT
BEGIN:STANDARD
TZOFFSETFROM:-0500
TZOFFSETTO:-0600
TZNAME:CST
DTSTART:20251102T070000
END:STANDARD
BEGIN:DAYLIGHT
TZOFFSETFROM:-0600
TZOFFSETTO:-0500
TZNAME:CDT
DTSTART:20260308T080000
END:DAYLIGHT
BEGIN:STANDARD
TZOFFSETFROM:-0500
TZOFFSETTO:-0600
TZNAME:CST
DTSTART:20261101T070000
END:STANDARD
BEGIN:DAYLIGHT
TZOFFSETFROM:-0600
TZOFFSETTO:-0500
TZNAME:CDT
DTSTART:20270314T080000
END:DAYLIGHT
BEGIN:STANDARD
TZOFFSETFROM:-0500
TZOFFSETTO:-0600
TZNAME:CST
DTSTART:20271107T070000
END:STANDARD
END:VTIMEZONE
BEGIN:VEVENT
DTSTART;TZID=America/Chicago:20260227T090000
DTEND;TZID=America/Chicago:20260227T160000
DTSTAMP:20260424T173556
CREATED:20260208T055924Z
LAST-MODIFIED:20260208T055926Z
UID:10012424-1772182800-1772208000@ruralnewfamilies.com
SUMMARY:NEW Zoo Winter Hours and 1/2 Off Admission
DESCRIPTION:The NEW Zoo & Adventure Park  Winter Hours of Operation. The NEW Zoo will be open daily (including on all holidays!) from 9:00 a.m. to 4:00 p.m. and the Neil Anderson Canopy Tour will also be open daily starting at 9:00 a.m. The Adventure Park’s Ropes Course\, Ziplines\, Climbing Wall\, and Kids Kourse will be closed for the season\, but groups can schedule private experiences through advanced reservations. Fat tire bikes are also available to rent through the Adventure Park’s Base Camp building\, with ski and snowshoe rentals coming as soon as conditions allow. \n\n\n\nAlthough Zoo hours are shortened\, there’s no shortage of fun things to do on your next visit! Many animals are more active in cooler weather compared to in the heat of summer\, so this is a great time of year to enjoy the Zoo. We’re excited to share that our popular zookeeper-led VIP Experiences will continue throughout the winter\, too!  \n\n\n\n1/2 Price Admissions through February (Must purchase tickets in-person for discounted rates) \n\n\n\nFAQ and additional details
URL:https://ruralnewfamilies.com/event/new-zoo-winter-hours-and-1-2-off-admission/2026-02-27/
LOCATION:NEW Zoo & Adventure Park\, Reforestation Road 4378\, Green Bay\, WI\, 54313\, United States
CATEGORIES:Outdoor Event,Youth & Family Programs,Zoo
GEO:44.6603424;-88.0893304
X-APPLE-STRUCTURED-LOCATION;VALUE=URI;X-ADDRESS=NEW Zoo & Adventure Park Reforestation Road 4378 Green Bay WI 54313 United States;X-APPLE-RADIUS=500;X-TITLE=Reforestation Road 4378:geo:-88.0893304,44.6603424
END:VEVENT
BEGIN:VEVENT
DTSTART;TZID=America/Chicago:20260227T093000
DTEND;TZID=America/Chicago:20260227T133000
DTSTAMP:20260424T173556
CREATED:20260213T154747Z
LAST-MODIFIED:20260213T160335Z
UID:10012543-1772184600-1772199000@ruralnewfamilies.com
SUMMARY:Winter Farmers Market
DESCRIPTION:We have a great lineup of vendors featuring local maple syrup\, Christine’s salsa\, Bill’s honey\, and more. You’ll also find a wonderful selection of handmade jewelry\, woodcraft items\, and beading supplies. \n\n\n\nFrom 10:00 AM until they sell out\, Menominee High School students will have a booth set up to raise funds for their upcoming trip to the Crow Canyon Archaeological Field School in Mesa Verde this spring. Please consider stopping by to support their travel efforts and help them reach their fundraising goal. \n\n\n\nStarting at 11:00 AM\, we are excited to welcome a new vendor\, Sunnie’s Fry Bread by Phylly’s\, just in time for lunch! \n\n\n\nCampus Map
URL:https://ruralnewfamilies.com/event/winter-farmers-market/2026-02-27/
LOCATION:College of Menominee Nation\, Wisconsin 47 N 172\, Keshena\, Wisconsin\, 54135\, United States
CATEGORIES:Community Resource,Farmers Markets,FREE,Fundraiser,Indoor Event,Library/Museum,Music, Arts, Culture, & Tours,Shopping
GEO:44.8556522;-88.6262837
X-APPLE-STRUCTURED-LOCATION;VALUE=URI;X-ADDRESS=College of Menominee Nation Wisconsin 47 N 172 Keshena Wisconsin 54135 United States;X-APPLE-RADIUS=500;X-TITLE=Wisconsin 47 N 172:geo:-88.6262837,44.8556522
END:VEVENT
BEGIN:VEVENT
DTSTART;TZID=America/Chicago:20260227T140000
DTEND;TZID=America/Chicago:20260227T160000
DTSTAMP:20260424T173556
CREATED:20260109T165539Z
LAST-MODIFIED:20260109T165542Z
UID:10012051-1772200800-1772208000@ruralnewfamilies.com
SUMMARY:Community Craft Connection
DESCRIPTION:Bring a craft or project to work on while visiting with your neighbors!Fridays January through May 2:00 PM to 4:00 PMNo registration is required. We can’t wait to see what you’re working on!Food and drink are welcome.Clean-up is just like at home. If you make a mess\, clean it up. Ask for cleaning supplies when needed.If the meeting room is needed for another library purpose\, space for the Community Craft Connection will be provided in the magazine area.Community Craft Connection is self-directed. Librarians will be in the building but not leading this group.
URL:https://ruralnewfamilies.com/event/community-craft-connection-2/2026-02-27/
LOCATION:Sturm Memorial Library\, North Bridge Street 130\, Manawa\, Wisconsin\, 54949\, United States
CATEGORIES:DIY Crafts,FREE,Indoor Event,Library/Museum,Life Stages And Special Communities
GEO:44.4667058;-88.9196516
X-APPLE-STRUCTURED-LOCATION;VALUE=URI;X-ADDRESS=Sturm Memorial Library North Bridge Street 130 Manawa Wisconsin 54949 United States;X-APPLE-RADIUS=500;X-TITLE=North Bridge Street 130:geo:-88.9196516,44.4667058
END:VEVENT
BEGIN:VEVENT
DTSTART;TZID=America/Chicago:20260227T173000
DTEND;TZID=America/Chicago:20260227T193000
DTSTAMP:20260424T173556
CREATED:20260227T200105Z
LAST-MODIFIED:20260227T200107Z
UID:10012257-1772213400-1772220600@ruralnewfamilies.com
SUMMARY:Light Up the Night - Torchlight Ski / Snowshoe #3
DESCRIPTION:Snowshoe or ski the one mile loop from the nature center across the boardwalk and back by the light of the stars\, moon\, torch light\, and lights. (Weather dependent – Call in advance). Event cancellation would occur if extreme temperatures or unsafe travel conditions are forecasted. If trail conditions do not allow for skiing or snowshoeing\, then this event turns into a hike.  We are also collecting for the Loaves & Fishes Food Pantry at this event so if you would like to make a non-perishable food donation\, we will be collecting as well. Donations & Payments will be collected inside. Some suggested donations that the food pantry needs: Peanut Butter\, Jelly\, Spaghetti Sauce\, Jell-O\, Pudding\, Ketchup\, Mustard\, and Ramen Noodles.
URL:https://ruralnewfamilies.com/event/light-up-the-night-torchlight-ski-snowshoe-3/
LOCATION:Navarino Nature Center\, Lindsten Road W5646\, Shiocton\, WI\, 54170\, United States
CATEGORIES:Hunting/Fishing/Outdoor Sports/Education,Outdoor Recreation,Plan Ahead,Youth & Family Programs
GEO:44.6345188;-88.5130301
X-APPLE-STRUCTURED-LOCATION;VALUE=URI;X-ADDRESS=Navarino Nature Center Lindsten Road W5646 Shiocton WI 54170 United States;X-APPLE-RADIUS=500;X-TITLE=Lindsten Road W5646:geo:-88.5130301,44.6345188
END:VEVENT
BEGIN:VEVENT
DTSTART;TZID=America/Chicago:20260227T190000
DTEND;TZID=America/Chicago:20260227T210000
DTSTAMP:20260424T173556
CREATED:20240404T152054Z
LAST-MODIFIED:20240404T153249Z
UID:10003410-1772218800-1772226000@ruralnewfamilies.com
SUMMARY:AA Meeting
DESCRIPTION:
URL:https://ruralnewfamilies.com/event/aa-meeting-2/2026-02-27/
LOCATION:Clintonville United Methodist Church\, 13th Street 24\, Clintonville\, Wisconsin\, 54929\, United States
CATEGORIES:AA/NA Meetings
GEO:44.6252503;-88.7595837
X-APPLE-STRUCTURED-LOCATION;VALUE=URI;X-ADDRESS=Clintonville United Methodist Church 13th Street 24 Clintonville Wisconsin 54929 United States;X-APPLE-RADIUS=500;X-TITLE=13th Street 24:geo:-88.7595837,44.6252503
END:VEVENT
BEGIN:VEVENT
DTSTART;TZID=America/Chicago:20260228T000000
DTEND;TZID=America/Chicago:20260228T235959
DTSTAMP:20260424T173556
CREATED:20260206T092346Z
LAST-MODIFIED:20260206T092540Z
UID:10012363-1772236800-1772323199@ruralnewfamilies.com
SUMMARY:🛍 Shop Small Support Local
DESCRIPTION:We are working on creating a new and improved Rural Northeast Wisconsin Families Restaurant Guide!  Let us help make the mealtime decisions easier. \n\n\n\nAs a hockey family\, knowing who is open after games and practices\, that serves something for my entire family is a MUST-HAVE!  (so any restaurants within a 90-minute drive of Shawano is ideal) \n\n\n\nWe know a lot of people love to support their local businesses\, but may not know all the services that are provided. We’re working on closing that gap by offering a business directory. If you’re interested in becoming part of our business directory\, you can find out more here  We are also rolling out a Farm Fresh Directory.  \n\n\n\nWe have many affiliate partners where purchases you make with them\, will also help our small business.  (The following links are affiliate links and we may earn a commission on qualifying purchases at no additional cost to you.) \n\n\n\n\nPlant Therapy \n\n\n\nAmazon\n\n\n\nThink Board – use Code MarieVandenberg to save 20% off site-wide\n\n\n\nTry The World –\n\n\n\nReally Good Stuff\n\n\n\nmSpy – what are your kids doing on their phone/tablet that you can’t see?\n\n\n\nMud/Wtr – Save 20% sitewide with this link (first order only) (My Dr suggested trying this when I suffered consequences from drinking too much coffee. I use both the Mud/Wtr latte and Rest to help at bedtime when I can’t shut my brain off) I’ve recently added the Hot Cocoa and Nourish.\n\n\n\nZenni Optical – save $30 when you use my discount link. I’ve been ordering glasses from Zenni for over 15 years.  To order from Zenni\, you will need the PD number (pupillary distance).  For adults\, the number shouldn’t change.  It will change for kids.  Zenni accepts 1 and 2 number PDs.  \n\n\n\nTing Mobile – get a $25 credit on your first bill when you use this link.  Plans start as low as $10/month and you can bring your own phone (or in my case\, I just used an old phone.) For more details\, see my post regarding the Cellcom outage and my solutions to always stay connected.\n\n\n\nGabb Wireless – Code: 9203979786 (discount on your first order) Kids’ Phones and Watches with additional parental controls.  Are you thinking about getting your child a device?  Check these two resources.  Parent Guide Officer Gomez\n\n\n\n\nPurchases made through the above links allow us to earn commissions when you use our links which we will put towards our business expenses\, keep our lights on\, and keep our content FREE for YOU- our readers and LOW for our local advertisers\, and sponsors. \n\n\n\nWe are hosting one fundraiser.  This is an on-going fundraiser.    \n\n\n\n\nMabel’s Labels – (Select Rural Northeast Wisconsin Families as the organization) – NO MORE Lost Mittens (coats\, shoes\, hats\, water bottles\, jackets\, etc) Follow our Facebook Page– there are often sales and discounts.\n\n\n\n\nThe funds earned through the fundraisers will be split.  Our portion will be used towards website/calendar upgrades\, community events\, giveaways\, and business expenses. \n\n\n\nWe will choose a new beneficiary for each distribution check.  We’ll take suggestions for our first check.  (We still have $50 to go before we’ll get our first check) \n\n\n\nIf you’d like to donate directly to our fundraisers instead of purchasing from our partners.  We can accept cash\, Square\, or Venmo. \n\n\n\nOne of the fundraisers is set up as an open-ended so we’ll be able to help several organizations for as long as there is interest in the products. \n\n\n\nThese are a few of my favorite products.  This is my “toolkit” for the Flu Season.  It also has some hints about getting started with essential oils. \n\n\n\nIf you are looking for the fundraising socks that we had available\, we do still have them\, but you’ll need to make an appointment. \n\n\n\nThese are a few other ways to support us. Prices range from Free to $30.The links\, images\, and QR codes below are also affiliate links\, so we may earn a commission on qualifying purchases \n\n\n\n\n\n\n\n\n\n\n\n\n\n\n\n\n\n\n\n\n\nLinks: Charger Cord Charger with Flashlight  without Flashlight  Slim Charger Keychain Flashlight Desk Accessory Clock\n\n\n\nICYMI– My dog locked himself in my car.  PD’s tools didn’t work for my car.  I bought this amazing tool the next day.   At under $6\, you really can’t beat it.  Definitely cheaper than a locksmith or a broken window. \n\n\n\nHere are a few more favorites that I’ve found. How many of you are the keepers of the “road trip drinks” and chargers? You’ll love the water bottle and Beef Jerky below. \n\n\n\n\n\n\n\n\n\n\n\n\n\n\n\n\n\n\n\n\n\nLinks: Green XL Stanley\,  White Travel Mug\, “Green” Air Purifier\,  Electronic Air Purifier\, Charger Water Bottle\, Wireless Camera (I highly suggest getting the extra battery.)\, Pan Cam\,  V4:  \n\n\n\n\n\n\n\n\n\n\n\n\n\n\n\n\n\nLinks: Emergency Radio\, Charger \n\n\n\n\nVenmo\n\n\n\nSquare\n\n\n\nBuy Me A Coffee\n\n\n\n\nLink to other contribution options \n\n\n\n\n\n\n\nLinks: Beef Jerky  Gift Cards\, Boba Tea Kits\, Cordless Table Lamps \n\n\n\nGame Day Shirts\, School Spirit/Halloween Flannel \, All Things Halloween\, Tie-Dye Hoodies\, Magnetic\, Motion Sensor\, rechargeable lights\, Grinch Style Hoodie\, portable rechargeable handwarmers\, Inflatable Halloween Costume\, Emotional Support Dumpster Fire\, Dumpster Fire Socks \n\n\n\n\n\n\n\nPortable rechargeable handwarmers with light🎄🎁 Holiday Family Pajamas \n\n\n\n👚 Ugly Sweater Ideas \n\n\n\nChristmas Ornament Kits for all ages and abilitiesWinter Vehicle Prep and rechargeable handwarmersRechargeable “Night” LightsStocking Stuffer IdeaPocket-Sized Ice ScraperSnow Sleds – Check out the comments for a few more optionsMy Household EssentialsMy Favorites for Winter TravelingDoor County Winter Movie \n\n\n\nAdditional Options Available
URL:https://ruralnewfamilies.com/event/%f0%9f%9b%8d-shop-small-support-local-36/2026-02-28/
LOCATION:Wisconsin
CATEGORIES:Fundraiser,Shopping
END:VEVENT
END:VCALENDAR