BEGIN:VCALENDAR
VERSION:2.0
PRODID:-//Rural Northeast Wisconsin Families - ECPv6.15.20//NONSGML v1.0//EN
CALSCALE:GREGORIAN
METHOD:PUBLISH
X-ORIGINAL-URL:https://ruralnewfamilies.com
X-WR-CALDESC:Events for Rural Northeast Wisconsin Families
REFRESH-INTERVAL;VALUE=DURATION:PT1H
X-Robots-Tag:noindex
X-PUBLISHED-TTL:PT1H
BEGIN:VTIMEZONE
TZID:America/Chicago
BEGIN:DAYLIGHT
TZOFFSETFROM:-0600
TZOFFSETTO:-0500
TZNAME:CDT
DTSTART:20250309T080000
END:DAYLIGHT
BEGIN:STANDARD
TZOFFSETFROM:-0500
TZOFFSETTO:-0600
TZNAME:CST
DTSTART:20251102T070000
END:STANDARD
BEGIN:DAYLIGHT
TZOFFSETFROM:-0600
TZOFFSETTO:-0500
TZNAME:CDT
DTSTART:20260308T080000
END:DAYLIGHT
BEGIN:STANDARD
TZOFFSETFROM:-0500
TZOFFSETTO:-0600
TZNAME:CST
DTSTART:20261101T070000
END:STANDARD
BEGIN:DAYLIGHT
TZOFFSETFROM:-0600
TZOFFSETTO:-0500
TZNAME:CDT
DTSTART:20270314T080000
END:DAYLIGHT
BEGIN:STANDARD
TZOFFSETFROM:-0500
TZOFFSETTO:-0600
TZNAME:CST
DTSTART:20271107T070000
END:STANDARD
END:VTIMEZONE
BEGIN:VEVENT
DTSTART;TZID=America/Chicago:20260302T180000
DTEND;TZID=America/Chicago:20260302T210000
DTSTAMP:20260422T085545
CREATED:20260302T013725Z
LAST-MODIFIED:20260302T013727Z
UID:10012539-1772474400-1772485200@ruralnewfamilies.com
SUMMARY:Read Across America Pajama Party w/ Jim Lenz!
DESCRIPTION:It’s time for our annual Read Across America pajama party!! This year we have Jim Lenz\, the Magic and Science Guy performing! For more information about Jim’s show\, please visit his website: magicandscienceguy.comAs always\, following the show will be a free book giveaway and cake and ice cream.
URL:https://ruralnewfamilies.com/event/read-across-america-pajama-party-w-jim-lenz/
LOCATION:Clintonville Public Library\, 75 Hemlock St\, Clintonville\, WI 54929\, USA\, Hemlock Street 75\, Clintonville\, WI\, 54929\, United States
CATEGORIES:Community Events & Parades,FREE,Library/Museum,Youth & Family Programs
GEO:44.6216244;-88.7646184
X-APPLE-STRUCTURED-LOCATION;VALUE=URI;X-ADDRESS=Clintonville Public Library 75 Hemlock St Clintonville WI 54929 USA Hemlock Street 75 Clintonville WI 54929 United States;X-APPLE-RADIUS=500;X-TITLE=Hemlock Street 75:geo:-88.7646184,44.6216244
END:VEVENT
END:VCALENDAR