BEGIN:VCALENDAR
VERSION:2.0
PRODID:-//Rural Northeast Wisconsin Families - ECPv6.15.20//NONSGML v1.0//EN
CALSCALE:GREGORIAN
METHOD:PUBLISH
X-WR-CALNAME:Rural Northeast Wisconsin Families
X-ORIGINAL-URL:https://ruralnewfamilies.com
X-WR-CALDESC:Events for Rural Northeast Wisconsin Families
REFRESH-INTERVAL;VALUE=DURATION:PT1H
X-Robots-Tag:noindex
X-PUBLISHED-TTL:PT1H
BEGIN:VTIMEZONE
TZID:America/Chicago
BEGIN:DAYLIGHT
TZOFFSETFROM:-0600
TZOFFSETTO:-0500
TZNAME:CDT
DTSTART:20250309T080000
END:DAYLIGHT
BEGIN:STANDARD
TZOFFSETFROM:-0500
TZOFFSETTO:-0600
TZNAME:CST
DTSTART:20251102T070000
END:STANDARD
BEGIN:DAYLIGHT
TZOFFSETFROM:-0600
TZOFFSETTO:-0500
TZNAME:CDT
DTSTART:20260308T080000
END:DAYLIGHT
BEGIN:STANDARD
TZOFFSETFROM:-0500
TZOFFSETTO:-0600
TZNAME:CST
DTSTART:20261101T070000
END:STANDARD
BEGIN:DAYLIGHT
TZOFFSETFROM:-0600
TZOFFSETTO:-0500
TZNAME:CDT
DTSTART:20270314T080000
END:DAYLIGHT
BEGIN:STANDARD
TZOFFSETFROM:-0500
TZOFFSETTO:-0600
TZNAME:CST
DTSTART:20271107T070000
END:STANDARD
END:VTIMEZONE
BEGIN:VEVENT
DTSTART;TZID=America/Chicago:20260308T130000
DTEND;TZID=America/Chicago:20260308T160000
DTSTAMP:20260422T143814
CREATED:20260308T080815Z
LAST-MODIFIED:20260308T080818Z
UID:10012631-1772974800-1772985600@ruralnewfamilies.com
SUMMARY:🦉🦅 "Winged Wonders" Raptor Education Presentation - Free Event
DESCRIPTION:*FREE EVENT*Ages 5+Have you ever met an owl face to face? What about a hawk? A falcon? Meet some of Wisconsin’s common\, but rarely encountered birds. Discover what a raptor is\, hear their stories and learn what you can do to ensure they remain a significant part of the ecosystem.
URL:https://ruralnewfamilies.com/event/%f0%9f%a6%89%f0%9f%a6%85-winged-wonders-raptor-education-presentation-free-event/
LOCATION:Caroline Legion LLC\, W12850 County Road M\, Caroline\, WI\, United States
CATEGORIES:Class,Community Events & Parades,FREE,Hunting/Fishing/Outdoor Sports/Education,Natural Resources Protection
GEO:44.7298195;-88.9240986
X-APPLE-STRUCTURED-LOCATION;VALUE=URI;X-ADDRESS=Caroline Legion LLC W12850 County Road M Caroline WI United States;X-APPLE-RADIUS=500;X-TITLE=W12850 County Road M:geo:-88.9240986,44.7298195
END:VEVENT
BEGIN:VEVENT
DTSTART;TZID=America/Chicago:20260308T140000
DTEND;TZID=America/Chicago:20260308T150000
DTSTAMP:20260422T143814
CREATED:20260103T082359Z
LAST-MODIFIED:20260103T082401Z
UID:10012019-1772978400-1772982000@ruralnewfamilies.com
SUMMARY:Awesome Ambassadors at Bay Beach Wildlife Sanctuary every Sunday 2p-3p starting 12/14/25!
DESCRIPTION:Starting December 14th through April 19. 2026\, join us every Sunday 2p-3p at the Observation Building for our Awesome Ambassador program!Learn about the Wildlife Sanctuary’s awesome ambassadors! This fun program allows visitors to get up close with the animals and talk with the animal care staff. Bring your camera! \n\n\n\n \n\n\n\nBuy some corn to feed the outside birds too. ($5/bag).  They’re excited for visitors too. (Dress for the weather) \n\n\n\n2025-2026 Winter WLS Program Brochure – Bay Beach Wildlife Sanctuary Printable Program Schedule
URL:https://ruralnewfamilies.com/event/awesome-ambassadors-at-bay-beach-wildlife-sanctuary-every-sunday-2p-3p-starting-12-14-25-2/2026-03-08/
LOCATION:Bay Beach Wildlife Sanctuary\, East Shore Drive 1660\, Green Bay\, WI\, 54302\, United States
CATEGORIES:Community Resource,FREE,Hunting/Fishing/Outdoor Sports/Education,Natural Resources Protection,Nature Center,Youth & Family Programs
GEO:44.5275131;-87.9737794
X-APPLE-STRUCTURED-LOCATION;VALUE=URI;X-ADDRESS=Bay Beach Wildlife Sanctuary East Shore Drive 1660 Green Bay WI 54302 United States;X-APPLE-RADIUS=500;X-TITLE=East Shore Drive 1660:geo:-87.9737794,44.5275131
END:VEVENT
BEGIN:VEVENT
DTSTART;TZID=America/Chicago:20260309T000000
DTEND;TZID=America/Chicago:20260309T235959
DTSTAMP:20260422T143814
CREATED:20260308T101926Z
LAST-MODIFIED:20260308T104554Z
UID:10012846-1773014400-1773100799@ruralnewfamilies.com
SUMMARY:March Mammal Madness
DESCRIPTION:It’s almost time for March Mammal Madness! All are invited to enter a bracket into our bracket pool for this entertaining and educational tournament. \n\n\n\nAll you need to do is make your predictions for the different matchups by completing a bracket. Then you can just follow along as the results are revealed. \n\n\n\nFor more information\, click the link below. \n\n\n\nhttps://newlt.org/march-mammal-madness/ \n\n\n\nClick here to sign up by March 9th
URL:https://ruralnewfamilies.com/event/march-mammal-madness/
LOCATION:Wisconsin
CATEGORIES:Community Resource,FREE,Hunting/Fishing/Outdoor Sports/Education,Natural Resources Protection,Nature Center,Outdoor Recreation,Plan Ahead,RSVP - Pre-Registration Required,Youth & Family Programs
END:VEVENT
END:VCALENDAR