BEGIN:VCALENDAR
VERSION:2.0
PRODID:-//Rural Northeast Wisconsin Families - ECPv6.15.20//NONSGML v1.0//EN
CALSCALE:GREGORIAN
METHOD:PUBLISH
X-ORIGINAL-URL:https://ruralnewfamilies.com
X-WR-CALDESC:Events for Rural Northeast Wisconsin Families
REFRESH-INTERVAL;VALUE=DURATION:PT1H
X-Robots-Tag:noindex
X-PUBLISHED-TTL:PT1H
BEGIN:VTIMEZONE
TZID:America/Chicago
BEGIN:DAYLIGHT
TZOFFSETFROM:-0600
TZOFFSETTO:-0500
TZNAME:CDT
DTSTART:20250309T080000
END:DAYLIGHT
BEGIN:STANDARD
TZOFFSETFROM:-0500
TZOFFSETTO:-0600
TZNAME:CST
DTSTART:20251102T070000
END:STANDARD
BEGIN:DAYLIGHT
TZOFFSETFROM:-0600
TZOFFSETTO:-0500
TZNAME:CDT
DTSTART:20260308T080000
END:DAYLIGHT
BEGIN:STANDARD
TZOFFSETFROM:-0500
TZOFFSETTO:-0600
TZNAME:CST
DTSTART:20261101T070000
END:STANDARD
BEGIN:DAYLIGHT
TZOFFSETFROM:-0600
TZOFFSETTO:-0500
TZNAME:CDT
DTSTART:20270314T080000
END:DAYLIGHT
BEGIN:STANDARD
TZOFFSETFROM:-0500
TZOFFSETTO:-0600
TZNAME:CST
DTSTART:20271107T070000
END:STANDARD
END:VTIMEZONE
BEGIN:VEVENT
DTSTART;TZID=America/Chicago:20260310T160000
DTEND;TZID=America/Chicago:20260310T171500
DTSTAMP:20260424T075008
CREATED:20260308T085931Z
LAST-MODIFIED:20260308T085933Z
UID:10012780-1773158400-1773162900@ruralnewfamilies.com
SUMMARY:Junior Naturalist
DESCRIPTION:Our Junior Naturalist program is here to turn middle schoolers into wilderness experts. Learn to navigate the wild\, build awesome shelters\, identify plants and wildlife\, and so much more! Once they have mastered these skills\, students will have the unique chance to become teachers themselves\, sharing their knowledge and experiences with their peers. This hands-on approach not only reinforces their learning but also boosts their confidence and leadership skills. Grades 5-8. Pre-registration is required\, and class size is limited. Email thousandisland@kaukauna.gov or call (920) 766-4733 to register. FREE
URL:https://ruralnewfamilies.com/event/junior-naturalist-2/
LOCATION:1000 Islands Nature Center\, 1000 Beaulieu Ct\, Kaukauna\, WI\, 54130\, United States
CATEGORIES:Community Events & Parades,Community Resource,FREE,Hunting/Fishing/Outdoor Sports/Education,Kids Outdoors,Nature Center,Outdoor Event,Plan Ahead,RSVP - Pre-Registration Required,Youth & Family Programs
GEO:44.2752616;-88.262054
X-APPLE-STRUCTURED-LOCATION;VALUE=URI;X-ADDRESS=1000 Islands Nature Center 1000 Beaulieu Ct Kaukauna WI 54130 United States;X-APPLE-RADIUS=500;X-TITLE=1000 Beaulieu Ct:geo:-88.262054,44.2752616
END:VEVENT
END:VCALENDAR