BEGIN:VCALENDAR
VERSION:2.0
PRODID:-//Rural Northeast Wisconsin Families - ECPv6.15.20//NONSGML v1.0//EN
CALSCALE:GREGORIAN
METHOD:PUBLISH
X-WR-CALNAME:Rural Northeast Wisconsin Families
X-ORIGINAL-URL:https://ruralnewfamilies.com
X-WR-CALDESC:Events for Rural Northeast Wisconsin Families
REFRESH-INTERVAL;VALUE=DURATION:PT1H
X-Robots-Tag:noindex
X-PUBLISHED-TTL:PT1H
BEGIN:VTIMEZONE
TZID:America/Chicago
BEGIN:DAYLIGHT
TZOFFSETFROM:-0600
TZOFFSETTO:-0500
TZNAME:CDT
DTSTART:20250309T080000
END:DAYLIGHT
BEGIN:STANDARD
TZOFFSETFROM:-0500
TZOFFSETTO:-0600
TZNAME:CST
DTSTART:20251102T070000
END:STANDARD
BEGIN:DAYLIGHT
TZOFFSETFROM:-0600
TZOFFSETTO:-0500
TZNAME:CDT
DTSTART:20260308T080000
END:DAYLIGHT
BEGIN:STANDARD
TZOFFSETFROM:-0500
TZOFFSETTO:-0600
TZNAME:CST
DTSTART:20261101T070000
END:STANDARD
BEGIN:DAYLIGHT
TZOFFSETFROM:-0600
TZOFFSETTO:-0500
TZNAME:CDT
DTSTART:20270314T080000
END:DAYLIGHT
BEGIN:STANDARD
TZOFFSETFROM:-0500
TZOFFSETTO:-0600
TZNAME:CST
DTSTART:20271107T070000
END:STANDARD
END:VTIMEZONE
BEGIN:VEVENT
DTSTART;TZID=America/Chicago:20260323T101500
DTEND;TZID=America/Chicago:20260323T111500
DTSTAMP:20260424T085236
CREATED:20260128T041836Z
LAST-MODIFIED:20260128T041921Z
UID:10012194-1774260900-1774264500@ruralnewfamilies.com
SUMMARY:Babygarten
DESCRIPTION:An event for babies!  Come\, play\, learn and grow together!  \n\n\n\nActivities include: \n\n\n\n\nStorytime and singing\n\n\n\nNursery Rhymes\n\n\n\nSocial Playtime\n\n\n\nCraft (once per month)
URL:https://ruralnewfamilies.com/event/babygarten-2/2026-03-23/
LOCATION:Marion Public Library\, North Main Street 120\, Marion\, Wisconsin\, 54950\, United States
CATEGORIES:FREE,Indoor Event,Library/Museum,Life Stages And Special Communities,Storytime,Youth & Family Programs
GEO:44.6712452;-88.8889175
X-APPLE-STRUCTURED-LOCATION;VALUE=URI;X-ADDRESS=Marion Public Library North Main Street 120 Marion Wisconsin 54950 United States;X-APPLE-RADIUS=500;X-TITLE=North Main Street 120:geo:-88.8889175,44.6712452
END:VEVENT
BEGIN:VEVENT
DTSTART;TZID=America/Chicago:20260323T103000
DTEND;TZID=America/Chicago:20260323T113000
DTSTAMP:20260424T085236
CREATED:20260208T054249Z
LAST-MODIFIED:20260208T054251Z
UID:10012401-1774261800-1774265400@ruralnewfamilies.com
SUMMARY:Playgroup
DESCRIPTION:Come to our meeting room every Monday for our Playgroup!   \n\n\n\nLots of Toy Stations\, Storytime and a Snack!
URL:https://ruralnewfamilies.com/event/playgroup/2026-03-23/
LOCATION:Oconto Falls Library\, North Main Street 251\, Oconto Falls\, WI\, 54154\, United States
CATEGORIES:Community Resource,FREE,Library/Museum,Storytime
GEO:44.876309;-88.1455453
X-APPLE-STRUCTURED-LOCATION;VALUE=URI;X-ADDRESS=Oconto Falls Library North Main Street 251 Oconto Falls WI 54154 United States;X-APPLE-RADIUS=500;X-TITLE=North Main Street 251:geo:-88.1455453,44.876309
END:VEVENT
BEGIN:VEVENT
DTSTART;TZID=America/Chicago:20260323T110000
DTEND;TZID=America/Chicago:20260323T120000
DTSTAMP:20260424T085236
CREATED:20240404T154704Z
LAST-MODIFIED:20240404T154706Z
UID:10004906-1774263600-1774267200@ruralnewfamilies.com
SUMMARY:AA Meeting - Back to Basics
DESCRIPTION:
URL:https://ruralnewfamilies.com/event/aa-meeting-back-to-basics/2026-03-23/
LOCATION:First Presbyterian Church\, West Presbyterian Street 100\, Shawano\, WI\, 54166\, United States
CATEGORIES:AA/NA Meetings
GEO:44.7785164;-88.6096198
X-APPLE-STRUCTURED-LOCATION;VALUE=URI;X-ADDRESS=First Presbyterian Church West Presbyterian Street 100 Shawano WI 54166 United States;X-APPLE-RADIUS=500;X-TITLE=West Presbyterian Street 100:geo:-88.6096198,44.7785164
END:VEVENT
BEGIN:VEVENT
DTSTART;TZID=America/Chicago:20260323T141500
DTEND;TZID=America/Chicago:20260323T170000
DTSTAMP:20260424T085236
CREATED:20260308T094705Z
LAST-MODIFIED:20260308T094708Z
UID:10012841-1774275300-1774285200@ruralnewfamilies.com
SUMMARY:Teen Night: Beading Bonanza
DESCRIPTION:Our next teen night is a creative one! Join us to make necklaces\, bracelets\, keychains and MORE! Snacks included.
URL:https://ruralnewfamilies.com/event/teen-night-beading-bonanza/
LOCATION:Clintonville Public Library\, 75 Hemlock St\, Clintonville\, WI 54929\, USA\, Hemlock Street 75\, Clintonville\, WI\, 54929\, United States
CATEGORIES:DIY Crafts,FREE,Library/Museum,Teen
GEO:44.6216244;-88.7646184
X-APPLE-STRUCTURED-LOCATION;VALUE=URI;X-ADDRESS=Clintonville Public Library 75 Hemlock St Clintonville WI 54929 USA Hemlock Street 75 Clintonville WI 54929 United States;X-APPLE-RADIUS=500;X-TITLE=Hemlock Street 75:geo:-88.7646184,44.6216244
END:VEVENT
BEGIN:VEVENT
DTSTART;TZID=America/Chicago:20260323T170000
DTEND;TZID=America/Chicago:20260323T210000
DTSTAMP:20260424T085236
CREATED:20260320T142106Z
LAST-MODIFIED:20260329T032246Z
UID:10012919-1774285200-1774299600@ruralnewfamilies.com
SUMMARY:Clintonville School District Board Meeting -
DESCRIPTION:The Board Meeting will be held in the CHS IMC.  If you’d like to speak at the meeting\, the form can be found here or there are forms available on arrival.  If you plan on speaking\, please arrive a minimum of 15 minutes early. \n\n\n\nPlease note that the “Peanut Gallery” can only speak outside of the Public Comments portion of the meetings\, with permission from the President\, Chair or other Active Board Member. (Committee meetings are slightly more relaxed.  Check with the Committee Chair or other board member in attendance before the meeting for their expectations.)   \n\n\n\n \n\n\n\nMore information on the Clintonville Board of Education can be found here \n\n\n\n \n\n\n\nClintonville School Board Agendas\n\n\n\n\n\n\n\nNotice of Possible Quorum 3-23-26\n\n\n\nThere will be a presentation and opportunities for questions to be asked during the Informational Session.   \n\n\n\nYouTube Recording – Referendum Info Session \n\n\n\nBoard Meeting will follow the informational session\, where normal meeting etiquette will be expected again. \n\n\n\n3-23-26 Agenda\n\n\n\nYouTube Recording Regular Board Meeting\n\n\n\n\n\n\n\nClintonville School Board Packets\n\n\n\nRegular Meeting Packet\n\n\n\nBoard Packet 3-23-26\n\n\n\n \n\n\n\nAll Meeting Agendas and Packets can be found here (January to June 2024 meeting will be under 2023-2024 BOE Agenda Packet) July begins the 2024-2025 BOE Meetings. \n\n\n\nOfficial School Board Referendum Information \n\n\n\nThe link to watch the YouTube Live can be found here The meetings are recorded so you can go back to watch a previous meeting. Links to additional non-district-owned recordings are listed below: \n\n\n\nAll Recording Links below are the Property of Rural Northeast Wisconsin Families\, a privately owned company. \n\n\n\nYouTube Recording of Tonight’s Regular Meeting —This link will get updated within 24 hours after the end of the meeting \n\n\n\n\n5pm Referendum Info Session\n\n\n\n6pm – Regular Board Meeting\n\n\n\n\n🗳️ Referendum Information\, including upcoming Informational Meetings\, FAQ and informational video \n\n\n\n \n\n\n\n🇺🇸 📋 Candidate Debate – March 12th \n\n\n\nAdditional Recording\n\n\n\n \n\n\n\nPrevious Meetings \n\n\n\nRural NEW families School Board YouTube Playlist – All available meetingsRuralNEWfamilies YouTube Channel – we’ve added a couple of playlists for additional meetings now and regular videos as well. \n\n\n\nAudio Only Recordings \n\n\n\nOpen Meetings Law Compliance Guide Highlights\n\n\n\nClick to enlarge the images.  Link to the full guide is below. \n\n\n\n\n\n\n\n\n\n\n\n\n\n\n\n\n\n\n\n\n\n\n\n\n\n\n\n\n\n\n\n\n\n\n\n\n\nFull Open Meetings Law Compliance Policy
URL:https://ruralnewfamilies.com/event/clintonville-school-district-board-meeting-24/
LOCATION:Clintonville High School\, Green Tree Road 64\, Clintonville\, WI\, 54929\, United States
CATEGORIES:Community Meetings,Election,School Board
GEO:44.6365085;-88.7552863
X-APPLE-STRUCTURED-LOCATION;VALUE=URI;X-ADDRESS=Clintonville High School Green Tree Road 64 Clintonville WI 54929 United States;X-APPLE-RADIUS=500;X-TITLE=Green Tree Road 64:geo:-88.7552863,44.6365085
END:VEVENT
BEGIN:VEVENT
DTSTART;TZID=America/Chicago:20260323T190000
DTEND;TZID=America/Chicago:20260323T210000
DTSTAMP:20260424T085236
CREATED:20240404T152054Z
LAST-MODIFIED:20240404T153249Z
UID:10003434-1774292400-1774299600@ruralnewfamilies.com
SUMMARY:AA Meeting
DESCRIPTION:
URL:https://ruralnewfamilies.com/event/aa-meeting-2/2026-03-23/
LOCATION:Clintonville United Methodist Church\, 13th Street 24\, Clintonville\, Wisconsin\, 54929\, United States
CATEGORIES:AA/NA Meetings
GEO:44.6252503;-88.7595837
X-APPLE-STRUCTURED-LOCATION;VALUE=URI;X-ADDRESS=Clintonville United Methodist Church 13th Street 24 Clintonville Wisconsin 54929 United States;X-APPLE-RADIUS=500;X-TITLE=13th Street 24:geo:-88.7595837,44.6252503
END:VEVENT
END:VCALENDAR