BEGIN:VCALENDAR
VERSION:2.0
PRODID:-//Rural Northeast Wisconsin Families - ECPv6.15.20//NONSGML v1.0//EN
CALSCALE:GREGORIAN
METHOD:PUBLISH
X-WR-CALNAME:Rural Northeast Wisconsin Families
X-ORIGINAL-URL:https://ruralnewfamilies.com
X-WR-CALDESC:Events for Rural Northeast Wisconsin Families
REFRESH-INTERVAL;VALUE=DURATION:PT1H
X-Robots-Tag:noindex
X-PUBLISHED-TTL:PT1H
BEGIN:VTIMEZONE
TZID:America/Chicago
BEGIN:DAYLIGHT
TZOFFSETFROM:-0600
TZOFFSETTO:-0500
TZNAME:CDT
DTSTART:20250309T080000
END:DAYLIGHT
BEGIN:STANDARD
TZOFFSETFROM:-0500
TZOFFSETTO:-0600
TZNAME:CST
DTSTART:20251102T070000
END:STANDARD
BEGIN:DAYLIGHT
TZOFFSETFROM:-0600
TZOFFSETTO:-0500
TZNAME:CDT
DTSTART:20260308T080000
END:DAYLIGHT
BEGIN:STANDARD
TZOFFSETFROM:-0500
TZOFFSETTO:-0600
TZNAME:CST
DTSTART:20261101T070000
END:STANDARD
BEGIN:DAYLIGHT
TZOFFSETFROM:-0600
TZOFFSETTO:-0500
TZNAME:CDT
DTSTART:20270314T080000
END:DAYLIGHT
BEGIN:STANDARD
TZOFFSETFROM:-0500
TZOFFSETTO:-0600
TZNAME:CST
DTSTART:20271107T070000
END:STANDARD
END:VTIMEZONE
BEGIN:VEVENT
DTSTART;TZID=America/Chicago:20260324T170000
DTEND;TZID=America/Chicago:20260324T180000
DTSTAMP:20260422T160453
CREATED:20260325T070344Z
LAST-MODIFIED:20260325T070347Z
UID:10012934-1774371600-1774375200@ruralnewfamilies.com
SUMMARY:Clintonville Redevelopment Authority Committee Meeting
DESCRIPTION:March 24\, 2026 Redevelopment Authority Meeting\n\n\n\nMarch 24\, 2026 Redevelopment Authority Meeting Agenda Packet
URL:https://ruralnewfamilies.com/event/clintonville-redevelopment-authority-committee-meeting/
LOCATION:Clintonville City Hall\, 10th Street 50\, Clintonville\, Wisconsin\, 54929\, United States
CATEGORIES:City Council/Committee,Community Meetings,Election
GEO:44.6232352;-88.7629749
X-APPLE-STRUCTURED-LOCATION;VALUE=URI;X-ADDRESS=Clintonville City Hall 10th Street 50 Clintonville Wisconsin 54929 United States;X-APPLE-RADIUS=500;X-TITLE=10th Street 50:geo:-88.7629749,44.6232352
END:VEVENT
END:VCALENDAR