BEGIN:VCALENDAR
VERSION:2.0
PRODID:-//Rural Northeast Wisconsin Families - ECPv6.15.20//NONSGML v1.0//EN
CALSCALE:GREGORIAN
METHOD:PUBLISH
X-ORIGINAL-URL:https://ruralnewfamilies.com
X-WR-CALDESC:Events for Rural Northeast Wisconsin Families
REFRESH-INTERVAL;VALUE=DURATION:PT1H
X-Robots-Tag:noindex
X-PUBLISHED-TTL:PT1H
BEGIN:VTIMEZONE
TZID:America/Chicago
BEGIN:DAYLIGHT
TZOFFSETFROM:-0600
TZOFFSETTO:-0500
TZNAME:CDT
DTSTART:20250309T080000
END:DAYLIGHT
BEGIN:STANDARD
TZOFFSETFROM:-0500
TZOFFSETTO:-0600
TZNAME:CST
DTSTART:20251102T070000
END:STANDARD
BEGIN:DAYLIGHT
TZOFFSETFROM:-0600
TZOFFSETTO:-0500
TZNAME:CDT
DTSTART:20260308T080000
END:DAYLIGHT
BEGIN:STANDARD
TZOFFSETFROM:-0500
TZOFFSETTO:-0600
TZNAME:CST
DTSTART:20261101T070000
END:STANDARD
BEGIN:DAYLIGHT
TZOFFSETFROM:-0600
TZOFFSETTO:-0500
TZNAME:CDT
DTSTART:20270314T080000
END:DAYLIGHT
BEGIN:STANDARD
TZOFFSETFROM:-0500
TZOFFSETTO:-0600
TZNAME:CST
DTSTART:20271107T070000
END:STANDARD
END:VTIMEZONE
BEGIN:VEVENT
DTSTART;TZID=America/Chicago:20260328T000000
DTEND;TZID=America/Chicago:20260328T235959
DTSTAMP:20260422T102542
CREATED:20260316T223631Z
LAST-MODIFIED:20260316T223634Z
UID:10012883-1774656000-1774742399@ruralnewfamilies.com
SUMMARY:Wisconsin Open Enrollment Application Deadline
DESCRIPTION:The Public School Open Enrollment period is open!Fill out the form for alternative in-person public school options and also virtual and virtual hybrid partnership school options. \n\n\n\nFind the form and FAQ here: https://dpi.wi.gov/open-enrollment \n\n\n\nWhat is Open Enrollment?\n\n\n\nThe inter-district public school open enrollment program allows parents to apply for their children to attend public school in a school district other than the one in which they reside. \n\n\n\nWho can apply?\n\n\n\nAny Wisconsin resident in 4K to grade 12 may apply to attend a nonresident school district under the open enrollment program. However\, a child may transfer to a nonresident school district for early childhood education or 4K only if the child’s resident school district offers the same type of program and only if the child is eligible for that program in the resident school district. \n\n\n\n\n\n\n\nThere was a question a while back regarding open-enrollment. \n\n\n\nAccording to the WI DPI\, these are the only acceptable reasons a resident district can deny an open-enrollment request. \n\n\n\nPlease note that it does not say “too many students have applied to out-of-district schools”. It also doesn’t allow attendance records at the resident school to determine open-enrollment status to an out-of-district school. \n\n\n\nThis is just for Open Enrollment\, this does not include the School Voucher Programs. \n\n\n\nDeadline for Open Enrollment (public school) is April 30th \n\n\n\nDeadline for School Choice (private school) is April 17th. \n\n\n\nI also found out that there is a non-profit organization advocating for Virtual and Open-enrollment students. It’s called Parents for School Options. https://www.parentsforschooloptions.org/ \n\n\n\nOpen Enrollment: https://sms.dpi.wi.gov/OEParent/faqs.aspx \n\n\n\nInfo for the Wisconsin School Choice program can be found here: https://schoolchoicewi.org/school-choice-faqs/ \n\n\n\nVirtual School Options for Wisconsin Families
URL:https://ruralnewfamilies.com/event/wisconsin-open-enrollment-application-deadline-3/2026-03-28/
LOCATION:WI
CATEGORIES:Plan Ahead,RSVP - Pre-Registration Required
END:VEVENT
BEGIN:VEVENT
DTSTART;TZID=America/Chicago:20260328T080000
DTEND;TZID=America/Chicago:20260328T120000
DTSTAMP:20260422T102542
CREATED:20260221T053052Z
LAST-MODIFIED:20260221T053055Z
UID:10012725-1774684800-1774699200@ruralnewfamilies.com
SUMMARY:Winter Farmers Market - Stevens Point
DESCRIPTION:Join us for Brunch and Shopping!Brunch is a hot meal made with fresh ingredients by local farmers.  You can grab-n-go or stay and eat with us. \n\n\n\nThe farmers market features Local Farmers\, Makers\, Producers\, Local Businesses\, Unique Shopping Experiences and MORE! \n\n\n\nWho can’t wait for fresh greens?? Or missing blueberries? Live Music may be playing.  Vendors change each week. \n\n\n\nEBT and debit/credit is accepted
URL:https://ruralnewfamilies.com/event/winter-farmers-market-stevens-point/2026-03-28/
LOCATION:Boys and Girls Club- Stevens Point\, 941 Michigan Ave\, Stevens Point\, Wisconsin\, United States
CATEGORIES:Community Events & Parades,Community Meetings,Farmers Markets,Indoor Event,Shopping
GEO:44.5259648;-89.5637287
X-APPLE-STRUCTURED-LOCATION;VALUE=URI;X-ADDRESS=Boys and Girls Club- Stevens Point 941 Michigan Ave Stevens Point Wisconsin United States;X-APPLE-RADIUS=500;X-TITLE=941 Michigan Ave:geo:-89.5637287,44.5259648
END:VEVENT
BEGIN:VEVENT
DTSTART;TZID=America/Chicago:20260328T090000
DTEND;TZID=America/Chicago:20260328T120000
DTSTAMP:20260422T102542
CREATED:20260208T020239Z
LAST-MODIFIED:20260208T020518Z
UID:10012385-1774688400-1774699200@ruralnewfamilies.com
SUMMARY:🧑‍🌾🧅🍞 Wausau Winter Market
DESCRIPTION:Come to the Indoor Winter Farmers Market.   \n\n\n\nMushrooms\, Fresh Greens via Aquaponics\, Blueberries\, honey\, coffee\, fresh bakery\, pastries\, meat\, eggs\, cheese\, vegetables\, Brunch and MORE! \n\n\n\nThings to Know Before you go – There is a $2 fee for any debit/credit transaction. \n\n\n\nFor more information
URL:https://ruralnewfamilies.com/event/wausau-winter-market/2026-03-28/
LOCATION:John Marshall Elementary School\, 1918 Lamont St\, Wausau\, Wisconsin\, 54403\, United States
CATEGORIES:Community Events & Parades,Craft/Vendor Shows,Farmers Markets,FREE,Indoor Event,Shopping
GEO:44.9369784;-89.6245761
X-APPLE-STRUCTURED-LOCATION;VALUE=URI;X-ADDRESS=John Marshall Elementary School 1918 Lamont St Wausau Wisconsin 54403 United States;X-APPLE-RADIUS=500;X-TITLE=1918 Lamont St:geo:-89.6245761,44.9369784
END:VEVENT
BEGIN:VEVENT
DTSTART;TZID=America/Chicago:20260328T090000
DTEND;TZID=America/Chicago:20260328T120000
DTSTAMP:20260422T102542
CREATED:20260328T062816Z
LAST-MODIFIED:20260328T062819Z
UID:10012921-1774688400-1774699200@ruralnewfamilies.com
SUMMARY:FREE Easter Bucket Decorating at all Fleet Farm Locations
DESCRIPTION:Hop on in with your family for our FREE Easter Bucket Decorating Event\, going on at ALL Fleet Farm locations on Saturday\, March 28th from 9am until Noon!We’ll have free buckets available with stickers so you can cover your bucket with fun and festive Easter themed stickers 🐰Find your store on our website: https://www.fleetfarm.com/c/events
URL:https://ruralnewfamilies.com/event/free-easter-bucket-decorating-at-all-fleet-farm-locations/
LOCATION:Fleet Farm – Clintonville\, South Main Street 500\, Clintonville\, Wisconsin\, 54929\, United States
GEO:44.6005772;-88.7664355
X-APPLE-STRUCTURED-LOCATION;VALUE=URI;X-ADDRESS=Fleet Farm – Clintonville South Main Street 500 Clintonville Wisconsin 54929 United States;X-APPLE-RADIUS=500;X-TITLE=South Main Street 500:geo:-88.7664355,44.6005772
END:VEVENT
BEGIN:VEVENT
DTSTART;TZID=America/Chicago:20260328T100000
DTEND;TZID=America/Chicago:20260328T120000
DTSTAMP:20260422T102542
CREATED:20260308T102623Z
LAST-MODIFIED:20260308T104727Z
UID:10012847-1774692000-1774699200@ruralnewfamilies.com
SUMMARY:🐇 Easter Eggstravaganza - Shiocton
DESCRIPTION:Join us for an eggciting event! Pre-Registration is Required.  Register by March 20th by filling out the Google Form https://forms.gle/vsZqSFuD5y8DhqdB6 or calling the library.  \n\n\n\n\nMeet the Easter Bunny\n\n\n\nWin Prizes\n\n\n\nMake Crafts
URL:https://ruralnewfamilies.com/event/%f0%9f%90%87-easter-eggstravaganza-shiocton/
LOCATION:Shiocton Lake Park\, Lake Park St\, Shiocton\, Wisconsin\, United States
CATEGORIES:Community Events & Parades,Easter,Easter Bunny,FREE,Holidays,Plan Ahead,RSVP - Pre-Registration Required
GEO:44.4459906;-88.5673356
X-APPLE-STRUCTURED-LOCATION;VALUE=URI;X-ADDRESS=Shiocton Lake Park Lake Park St Shiocton Wisconsin United States;X-APPLE-RADIUS=500;X-TITLE=Lake Park St:geo:-88.5673356,44.4459906
END:VEVENT
BEGIN:VEVENT
DTSTART;TZID=America/Chicago:20260328T100000
DTEND;TZID=America/Chicago:20260328T140000
DTSTAMP:20260422T102542
CREATED:20260216T194649Z
LAST-MODIFIED:20260216T194652Z
UID:10012569-1774692000-1774706400@ruralnewfamilies.com
SUMMARY:🐣🥚🍁 Maple Sugar Fest and Easter Egg Hunt
DESCRIPTION:elebrate the season with family fun at Maple Sugar Fest and Easter Egg Hunt at YMCA Camp U-Nah-Li-Ya! \n\n\n\nEnjoy fresh air\, spring traditions\, and time together as camp comes to life. It is a great way to make memories and welcome the joy of the season! \n\n\n\nFestivities Include: \n\n\n\n\nMaple Syrup Demonstrations\n\n\n\nEaster Egg Hunt – 2000 Eggs\n\n\n\nCamp Tours\n\n\n\nCrafts\n\n\n\nGames\n\n\n\nDelicious Lunch\n\n\n\n\nSchedule of Events: \n\n\n\n\n10am-11am – Easter Egg Hunt for all ages\n\n\n\n11am-1pm – Lunch (Pancakes\, sausage\, and great maple syrup)\n\n\n\n11am-2pm – Camp Store Open\n\n\n\n11am-2pm – Arts & Crafts – Dining Hall\n\n\n\n12p-2p – Tree Tapping Demonstration and Sap Boiling\n\n\n\n12p-2pm – Camp Tours Available\n\n\n\n\nRSVP Required.
URL:https://ruralnewfamilies.com/event/%f0%9f%90%a3%f0%9f%a5%9a%f0%9f%8d%81-maple-sugar-fest-and-easter-egg-hunt/
LOCATION:Camp U-Nah-Li-Ya\, 12101 Y Camp Rd\, Suring\, Wisconsin\, United States
GEO:45.1148254;-88.4437956
X-APPLE-STRUCTURED-LOCATION;VALUE=URI;X-ADDRESS=Camp U-Nah-Li-Ya 12101 Y Camp Rd Suring Wisconsin United States;X-APPLE-RADIUS=500;X-TITLE=12101 Y Camp Rd:geo:-88.4437956,45.1148254
END:VEVENT
BEGIN:VEVENT
DTSTART;TZID=America/Chicago:20260328T110000
DTEND;TZID=America/Chicago:20260328T120000
DTSTAMP:20260422T102542
CREATED:20260208T060445Z
LAST-MODIFIED:20260208T060446Z
UID:10012478-1774695600-1774699200@ruralnewfamilies.com
SUMMARY:🐊Doc's Zoo - Alligator Feeding
DESCRIPTION:Come on out and visit Doc’s Zoo!  Alligators get fed every Saturday at 11am (sharp).  You’ll want to get there early enough to park and find your spot.  Leave enough time to wander around the zoo and see ALL the amazing animals.  If you run early – check out Doc’s Amazing Breakfast at Doc’s Timeline Saloon served from 7-11. \n\n\n\nBe sure to visit the indoor and outdoor animals.  If you have older kids\, be sure to check out Doc’s Museum as well.
URL:https://ruralnewfamilies.com/event/%f0%9f%90%8adocs-zoo-alligator-feeding-19/2026-03-28/
LOCATION:Doc’s Harley-Davidson\, Wisconsin 29 w2709\, Bonduel\, WI\, 54107\, United States
CATEGORIES:FREE,Kids Outdoors,Zoo
GEO:44.704505;-88.374849
X-APPLE-STRUCTURED-LOCATION;VALUE=URI;X-ADDRESS=Doc’s Harley-Davidson Wisconsin 29 w2709 Bonduel WI 54107 United States;X-APPLE-RADIUS=500;X-TITLE=Wisconsin 29 w2709:geo:-88.374849,44.704505
END:VEVENT
BEGIN:VEVENT
DTSTART;TZID=America/Chicago:20260328T130000
DTEND;TZID=America/Chicago:20260328T150000
DTSTAMP:20260422T102542
CREATED:20260216T193101Z
LAST-MODIFIED:20260216T193104Z
UID:10012568-1774702800-1774710000@ruralnewfamilies.com
SUMMARY:🥚🐣🐇 Shawano Area Masons 6th Annual Easter Egg Hunt
DESCRIPTION:Join the Shawano Area Masons for The Largest Easter Egg Hunt around! \n\n\n\nOver 35\,000 eggs to be found (each one with a small prize) and over 1000 special prizes!   \n\n\n\nCollection Bags provided by the Masons. \n\n\n\nFestivities Begin at 1pm: \n\n\n\n\nMeet the Easter Bunny\n\n\n\nFree Easter Tattoos\n\n\n\nSheriff K9 Unit\n\n\n\nBeja Burn Unit
URL:https://ruralnewfamilies.com/event/%f0%9f%a5%9a%f0%9f%90%a3%f0%9f%90%87-shawano-area-masons-6th-annual-easter-egg-hunt/
LOCATION:Shawano United Methodist Church\, 1000 Engel Dr\, Shawano\, WI 54166\, USA\, Engel Drive 1000\, Shawano\, WI\, 54166\, United States
CATEGORIES:Community Events & Parades,Easter,Easter Bunny,Egg Hunt,FREE
GEO:44.764269;-88.5865002
X-APPLE-STRUCTURED-LOCATION;VALUE=URI;X-ADDRESS=Shawano United Methodist Church 1000 Engel Dr Shawano WI 54166 USA Engel Drive 1000 Shawano WI 54166 United States;X-APPLE-RADIUS=500;X-TITLE=Engel Drive 1000:geo:-88.5865002,44.764269
END:VEVENT
BEGIN:VEVENT
DTSTART;TZID=America/Chicago:20260328T180000
DTEND;TZID=America/Chicago:20260328T193000
DTSTAMP:20260422T102542
CREATED:20260222T021331Z
LAST-MODIFIED:20260222T021820Z
UID:10012735-1774720800-1774726200@ruralnewfamilies.com
SUMMARY:⛸️ Open Skate
DESCRIPTION:There are skates from little kid sizes to Adults.  There are also skate helpers for the beginner skaters to practice.
URL:https://ruralnewfamilies.com/event/%e2%9b%b8%ef%b8%8f-open-skate/2026-03-28/
LOCATION:Crawford Center\, South Waukechon Street 251\, Shawano\, Wisconsin\, 54166\, United States
CATEGORIES:Hunting/Fishing/Outdoor Sports/Education,Indoor Event,Outdoor Recreation,Sporting Events,Youth & Family Programs
GEO:44.7790645;-88.5908429
X-APPLE-STRUCTURED-LOCATION;VALUE=URI;X-ADDRESS=Crawford Center South Waukechon Street 251 Shawano Wisconsin 54166 United States;X-APPLE-RADIUS=500;X-TITLE=South Waukechon Street 251:geo:-88.5908429,44.7790645
END:VEVENT
BEGIN:VEVENT
DTSTART;TZID=America/Chicago:20260328T190000
DTEND;TZID=America/Chicago:20260328T210000
DTSTAMP:20260422T102542
CREATED:20240404T152054Z
LAST-MODIFIED:20240404T153249Z
UID:10003439-1774724400-1774731600@ruralnewfamilies.com
SUMMARY:AA Meeting
DESCRIPTION:
URL:https://ruralnewfamilies.com/event/aa-meeting-2/2026-03-28/
LOCATION:Clintonville United Methodist Church\, 13th Street 24\, Clintonville\, Wisconsin\, 54929\, United States
CATEGORIES:AA/NA Meetings
GEO:44.6252503;-88.7595837
X-APPLE-STRUCTURED-LOCATION;VALUE=URI;X-ADDRESS=Clintonville United Methodist Church 13th Street 24 Clintonville Wisconsin 54929 United States;X-APPLE-RADIUS=500;X-TITLE=13th Street 24:geo:-88.7595837,44.6252503
END:VEVENT
END:VCALENDAR