BEGIN:VCALENDAR
VERSION:2.0
PRODID:-//Rural Northeast Wisconsin Families - ECPv6.15.20//NONSGML v1.0//EN
CALSCALE:GREGORIAN
METHOD:PUBLISH
X-ORIGINAL-URL:https://ruralnewfamilies.com
X-WR-CALDESC:Events for Rural Northeast Wisconsin Families
REFRESH-INTERVAL;VALUE=DURATION:PT1H
X-Robots-Tag:noindex
X-PUBLISHED-TTL:PT1H
BEGIN:VTIMEZONE
TZID:America/Chicago
BEGIN:DAYLIGHT
TZOFFSETFROM:-0600
TZOFFSETTO:-0500
TZNAME:CDT
DTSTART:20250309T080000
END:DAYLIGHT
BEGIN:STANDARD
TZOFFSETFROM:-0500
TZOFFSETTO:-0600
TZNAME:CST
DTSTART:20251102T070000
END:STANDARD
BEGIN:DAYLIGHT
TZOFFSETFROM:-0600
TZOFFSETTO:-0500
TZNAME:CDT
DTSTART:20260308T080000
END:DAYLIGHT
BEGIN:STANDARD
TZOFFSETFROM:-0500
TZOFFSETTO:-0600
TZNAME:CST
DTSTART:20261101T070000
END:STANDARD
BEGIN:DAYLIGHT
TZOFFSETFROM:-0600
TZOFFSETTO:-0500
TZNAME:CDT
DTSTART:20270314T080000
END:DAYLIGHT
BEGIN:STANDARD
TZOFFSETFROM:-0500
TZOFFSETTO:-0600
TZNAME:CST
DTSTART:20271107T070000
END:STANDARD
END:VTIMEZONE
BEGIN:VEVENT
DTSTART;TZID=America/Chicago:20260329T073000
DTEND;TZID=America/Chicago:20260329T123000
DTSTAMP:20260424T073920
CREATED:20260329T073447Z
LAST-MODIFIED:20260329T073449Z
UID:10012980-1774769400-1774787400@ruralnewfamilies.com
SUMMARY:🥞 Knights of Columbus Porky and Pancake Breakfast
DESCRIPTION:Join us for our Porky and Pancake Breakfast. \n\n\n\n \n\n\n\nSuggested Donations Accepted \n\n\n\nAdults (13+) $8 Children (6-12) $4 Children under 6 FREE
URL:https://ruralnewfamilies.com/event/%f0%9f%a5%9e-knights-of-columbus-porky-and-pancake-breakfast/
LOCATION:Sacred Heart Parish\, South Main Street 302\, Shawano\, Wisconsin\, 54166\, United States
GEO:44.7780416;-88.6087359
X-APPLE-STRUCTURED-LOCATION;VALUE=URI;X-ADDRESS=Sacred Heart Parish South Main Street 302 Shawano Wisconsin 54166 United States;X-APPLE-RADIUS=500;X-TITLE=South Main Street 302:geo:-88.6087359,44.7780416
END:VEVENT
BEGIN:VEVENT
DTSTART;TZID=America/Chicago:20260329T083000
DTEND;TZID=America/Chicago:20260329T110000
DTSTAMP:20260424T073920
CREATED:20260329T072218Z
LAST-MODIFIED:20260329T072222Z
UID:10012922-1774773000-1774782000@ruralnewfamilies.com
SUMMARY:🐇🥞 Breakfast With the Easter Bunny
DESCRIPTION:🐰 Breakfast with the Easter Bunny 🥞Join us for a fun\, family-friendly Breakfast with the Easter Bunny! This event is open to the public\, so bring the kids\, family\, friends\, and neighbors for a cheerful spring morning.📸 Free photos with the Easter Bunny — bring your camera! \n\n\n\n \n\n\n\n🍽️ Breakfast Menu: \n\n\n\n\n Pancakes\n\n\n\n• Scrambled eggs\n\n\n\n• Pork sausages\n\n\n\n• Applesauce\n\n\n\n• Coffee\, milk & orange juice\n\n\n\n\n \n\n\n\nStop by anytime during the morning and enjoy great food\, smiles\, and Easter fun at Beja.
URL:https://ruralnewfamilies.com/event/%f0%9f%90%87%f0%9f%a5%9e-breakfast-with-the-easter-bunny/
LOCATION:Beja Shrine Center\, 1950 Bond St\, Green Bay\, Wisconsin\, United States
CATEGORIES:Community Events & Parades,Easter,Easter Bunny,Holidays
GEO:44.5423161;-88.0694628
X-APPLE-STRUCTURED-LOCATION;VALUE=URI;X-ADDRESS=Beja Shrine Center 1950 Bond St Green Bay Wisconsin United States;X-APPLE-RADIUS=500;X-TITLE=1950 Bond St:geo:-88.0694628,44.5423161
END:VEVENT
BEGIN:VEVENT
DTSTART;TZID=America/Chicago:20260329T100000
DTEND;TZID=America/Chicago:20260329T160000
DTSTAMP:20260424T073920
CREATED:20260329T090408Z
LAST-MODIFIED:20260329T090411Z
UID:10012328-1774778400-1774800000@ruralnewfamilies.com
SUMMARY:Vietnam Veterans Day
DESCRIPTION:Vietnam Veterans Day\, March 29\, 2026\, is on a Sunday this year. We will be open from 10AM to 4PM\, and will have several ‘Nam vets on site to tell their stories of their experiences. Mark your calendar\, and plan to come in!
URL:https://ruralnewfamilies.com/event/vietnam-veterans-day/
LOCATION:Military Veterans and Education Center\, 4300 Poberezny Rd\, Oshkosh\, Wisconsin\, 54902\, United States
GEO:43.9602341;-88.581051
X-APPLE-STRUCTURED-LOCATION;VALUE=URI;X-ADDRESS=Military Veterans and Education Center 4300 Poberezny Rd Oshkosh Wisconsin 54902 United States;X-APPLE-RADIUS=500;X-TITLE=4300 Poberezny Rd:geo:-88.581051,43.9602341
END:VEVENT
BEGIN:VEVENT
DTSTART;TZID=America/Chicago:20260329T103000
DTEND;TZID=America/Chicago:20260329T180000
DTSTAMP:20260424T073920
CREATED:20260329T071307Z
LAST-MODIFIED:20260329T071309Z
UID:10012949-1774780200-1774807200@ruralnewfamilies.com
SUMMARY:El Tequila New London Food Truck
DESCRIPTION:El Tequila New London is bringing their food truck to Clintonville Every Sunday!   \n\n\n\n \n\n\n\n\n\n\n\nMenu: \n\n\n\n**Note** This is last year’s Menu.  Today is the First Sunday in Clintonville for the 2026 Season
URL:https://ruralnewfamilies.com/event/el-tequila-new-london-food-truck-4/2026-03-29/
LOCATION:Fire & Iron Gathering\, South Main Street 291\, Clintonville\, WI\, 54929\, United States
CATEGORIES:Shopping
GEO:44.6089182;-88.7629815
X-APPLE-STRUCTURED-LOCATION;VALUE=URI;X-ADDRESS=Fire & Iron Gathering South Main Street 291 Clintonville WI 54929 United States;X-APPLE-RADIUS=500;X-TITLE=South Main Street 291:geo:-88.7629815,44.6089182
END:VEVENT
BEGIN:VEVENT
DTSTART;TZID=America/Chicago:20260329T140000
DTEND;TZID=America/Chicago:20260329T150000
DTSTAMP:20260424T073920
CREATED:20260103T082359Z
LAST-MODIFIED:20260103T082401Z
UID:10012022-1774792800-1774796400@ruralnewfamilies.com
SUMMARY:Awesome Ambassadors at Bay Beach Wildlife Sanctuary every Sunday 2p-3p starting 12/14/25!
DESCRIPTION:Starting December 14th through April 19. 2026\, join us every Sunday 2p-3p at the Observation Building for our Awesome Ambassador program!Learn about the Wildlife Sanctuary’s awesome ambassadors! This fun program allows visitors to get up close with the animals and talk with the animal care staff. Bring your camera! \n\n\n\n \n\n\n\nBuy some corn to feed the outside birds too. ($5/bag).  They’re excited for visitors too. (Dress for the weather) \n\n\n\n2025-2026 Winter WLS Program Brochure – Bay Beach Wildlife Sanctuary Printable Program Schedule
URL:https://ruralnewfamilies.com/event/awesome-ambassadors-at-bay-beach-wildlife-sanctuary-every-sunday-2p-3p-starting-12-14-25-2/2026-03-29/
LOCATION:Bay Beach Wildlife Sanctuary\, East Shore Drive 1660\, Green Bay\, WI\, 54302\, United States
CATEGORIES:Community Resource,FREE,Hunting/Fishing/Outdoor Sports/Education,Natural Resources Protection,Nature Center,Youth & Family Programs
GEO:44.5275131;-87.9737794
X-APPLE-STRUCTURED-LOCATION;VALUE=URI;X-ADDRESS=Bay Beach Wildlife Sanctuary East Shore Drive 1660 Green Bay WI 54302 United States;X-APPLE-RADIUS=500;X-TITLE=East Shore Drive 1660:geo:-87.9737794,44.5275131
END:VEVENT
BEGIN:VEVENT
DTSTART;TZID=America/Chicago:20260329T183000
DTEND;TZID=America/Chicago:20260329T203000
DTSTAMP:20260424T073920
CREATED:20240404T152751Z
LAST-MODIFIED:20240404T153108Z
UID:10004646-1774809000-1774816200@ruralnewfamilies.com
SUMMARY:AA  Meeting
DESCRIPTION:
URL:https://ruralnewfamilies.com/event/aa-meeting-3/2026-03-29/
LOCATION:Christus Lutheran Church\, North Main Street 120\, Clintonville\, Wisconsin\, 54929\, United States
CATEGORIES:AA/NA Meetings
GEO:44.6270904;-88.7558111
X-APPLE-STRUCTURED-LOCATION;VALUE=URI;X-ADDRESS=Christus Lutheran Church North Main Street 120 Clintonville Wisconsin 54929 United States;X-APPLE-RADIUS=500;X-TITLE=North Main Street 120:geo:-88.7558111,44.6270904
END:VEVENT
BEGIN:VEVENT
DTSTART;TZID=America/Chicago:20260329T190000
DTEND;TZID=America/Chicago:20260329T190000
DTSTAMP:20260424T073920
CREATED:20240329T215844Z
LAST-MODIFIED:20240329T215845Z
UID:10002527-1774810800-1774810800@ruralnewfamilies.com
SUMMARY:Al Anon Meeting
DESCRIPTION:
URL:https://ruralnewfamilies.com/event/al-anon-meeting/2026-03-29/
LOCATION:Salvation Army\, New London\, Wisconsin
CATEGORIES:AA/NA Meetings
END:VEVENT
BEGIN:VEVENT
DTSTART;TZID=America/Chicago:20260329T190000
DTEND;TZID=America/Chicago:20260329T210000
DTSTAMP:20260424T073920
CREATED:20240404T152054Z
LAST-MODIFIED:20240404T153249Z
UID:10003440-1774810800-1774818000@ruralnewfamilies.com
SUMMARY:AA Meeting
DESCRIPTION:
URL:https://ruralnewfamilies.com/event/aa-meeting-2/2026-03-29/
LOCATION:Clintonville United Methodist Church\, 13th Street 24\, Clintonville\, Wisconsin\, 54929\, United States
CATEGORIES:AA/NA Meetings
GEO:44.6252503;-88.7595837
X-APPLE-STRUCTURED-LOCATION;VALUE=URI;X-ADDRESS=Clintonville United Methodist Church 13th Street 24 Clintonville Wisconsin 54929 United States;X-APPLE-RADIUS=500;X-TITLE=13th Street 24:geo:-88.7595837,44.6252503
END:VEVENT
END:VCALENDAR