BEGIN:VCALENDAR
VERSION:2.0
PRODID:-//Rural Northeast Wisconsin Families - ECPv6.15.20//NONSGML v1.0//EN
CALSCALE:GREGORIAN
METHOD:PUBLISH
X-ORIGINAL-URL:https://ruralnewfamilies.com
X-WR-CALDESC:Events for Rural Northeast Wisconsin Families
REFRESH-INTERVAL;VALUE=DURATION:PT1H
X-Robots-Tag:noindex
X-PUBLISHED-TTL:PT1H
BEGIN:VTIMEZONE
TZID:America/Chicago
BEGIN:DAYLIGHT
TZOFFSETFROM:-0600
TZOFFSETTO:-0500
TZNAME:CDT
DTSTART:20250309T080000
END:DAYLIGHT
BEGIN:STANDARD
TZOFFSETFROM:-0500
TZOFFSETTO:-0600
TZNAME:CST
DTSTART:20251102T070000
END:STANDARD
BEGIN:DAYLIGHT
TZOFFSETFROM:-0600
TZOFFSETTO:-0500
TZNAME:CDT
DTSTART:20260308T080000
END:DAYLIGHT
BEGIN:STANDARD
TZOFFSETFROM:-0500
TZOFFSETTO:-0600
TZNAME:CST
DTSTART:20261101T070000
END:STANDARD
BEGIN:DAYLIGHT
TZOFFSETFROM:-0600
TZOFFSETTO:-0500
TZNAME:CDT
DTSTART:20270314T080000
END:DAYLIGHT
BEGIN:STANDARD
TZOFFSETFROM:-0500
TZOFFSETTO:-0600
TZNAME:CST
DTSTART:20271107T070000
END:STANDARD
END:VTIMEZONE
BEGIN:VEVENT
DTSTART;TZID=America/Chicago:20260401T100000
DTEND;TZID=America/Chicago:20260401T110000
DTSTAMP:20260421T211215
CREATED:20250820T034700Z
LAST-MODIFIED:20250820T034702Z
UID:10010931-1775037600-1775041200@ruralnewfamilies.com
SUMMARY:Drop In Playgroup
DESCRIPTION:Join Miss Kelly for drop-in playgroup!   \n\n\n\nStorytime\, free play\, snack\, music\, fun activities!
URL:https://ruralnewfamilies.com/event/drop-in-playgroup-2/2026-04-01/
LOCATION:Marion Public Library\, North Main Street 120\, Marion\, Wisconsin\, 54950\, United States
CATEGORIES:FREE,Indoor Event,Library/Museum,Storytime
GEO:44.6712452;-88.8889175
X-APPLE-STRUCTURED-LOCATION;VALUE=URI;X-ADDRESS=Marion Public Library North Main Street 120 Marion Wisconsin 54950 United States;X-APPLE-RADIUS=500;X-TITLE=North Main Street 120:geo:-88.8889175,44.6712452
END:VEVENT
BEGIN:VEVENT
DTSTART;TZID=America/Chicago:20260401T130000
DTEND;TZID=America/Chicago:20260401T150000
DTSTAMP:20260421T211215
CREATED:20260308T091652Z
LAST-MODIFIED:20260308T091653Z
UID:10012831-1775048400-1775055600@ruralnewfamilies.com
SUMMARY:Clintonville Bingo
DESCRIPTION:Join us at the Clintonville Community Center as we gather for an afternoon of fun\, laughter\, prizes\, and community connection. Whether you’re a seasoned Bingo pro or brand new to the game\, this is the perfect way to spend your Wednesday afternoon! \n\n\n\n 🍿Complimentary snacks \n\n\n\nNo Daubers required \n\n\n\nWe play the first and third Wednesday of each month. \n\n\n\nBring a friend\, bring your lucky charm
URL:https://ruralnewfamilies.com/event/clintonville-bingo-2/2026-04-01/
LOCATION:Clintonville Community Center\, South Main Street 30\, Clintonville\, Wisconsin\, 54929\, United States
CATEGORIES:Indoor Event,Life Stages And Special Communities,Senior Connections
GEO:44.6221829;-88.7611618
X-APPLE-STRUCTURED-LOCATION;VALUE=URI;X-ADDRESS=Clintonville Community Center South Main Street 30 Clintonville Wisconsin 54929 United States;X-APPLE-RADIUS=500;X-TITLE=South Main Street 30:geo:-88.7611618,44.6221829
END:VEVENT
BEGIN:VEVENT
DTSTART;TZID=America/Chicago:20260401T140000
DTEND;TZID=America/Chicago:20260401T150000
DTSTAMP:20260421T211215
CREATED:20260218T012426Z
LAST-MODIFIED:20260218T012430Z
UID:10012643-1775052000-1775055600@ruralnewfamilies.com
SUMMARY:🧶 Hook and Knit
DESCRIPTION:Knit and Hook1st & 3rd Wednesdays of the month at 2 PM.​​Bring your knitting\, crocheting\, needle point\, or whatever you’re working on at the time. ​Come and work on your crafts and get to know others.
URL:https://ruralnewfamilies.com/event/%f0%9f%a7%b6-hook-and-knit/2026-04-01/
LOCATION:Suring Public Library\, East Main Street 604\, Suring\, Wisconsin\, 54174\, United States
CATEGORIES:DIY Crafts,FREE,Library/Museum
GEO:44.9992682;-88.3729785
X-APPLE-STRUCTURED-LOCATION;VALUE=URI;X-ADDRESS=Suring Public Library East Main Street 604 Suring Wisconsin 54174 United States;X-APPLE-RADIUS=500;X-TITLE=East Main Street 604:geo:-88.3729785,44.9992682
END:VEVENT
BEGIN:VEVENT
DTSTART;TZID=America/Chicago:20260401T190000
DTEND;TZID=America/Chicago:20260401T210000
DTSTAMP:20260421T211215
CREATED:20240404T152054Z
LAST-MODIFIED:20240404T153249Z
UID:10003443-1775070000-1775077200@ruralnewfamilies.com
SUMMARY:AA Meeting
DESCRIPTION:
URL:https://ruralnewfamilies.com/event/aa-meeting-2/2026-04-01/
LOCATION:Clintonville United Methodist Church\, 13th Street 24\, Clintonville\, Wisconsin\, 54929\, United States
CATEGORIES:AA/NA Meetings
GEO:44.6252503;-88.7595837
X-APPLE-STRUCTURED-LOCATION;VALUE=URI;X-ADDRESS=Clintonville United Methodist Church 13th Street 24 Clintonville Wisconsin 54929 United States;X-APPLE-RADIUS=500;X-TITLE=13th Street 24:geo:-88.7595837,44.6252503
END:VEVENT
BEGIN:VEVENT
DTSTART;TZID=America/Chicago:20260402T000000
DTEND;TZID=America/Chicago:20260402T235959
DTSTAMP:20260421T211215
CREATED:20260331T190056Z
LAST-MODIFIED:20260331T190057Z
UID:10013051-1775088000-1775174399@ruralnewfamilies.com
SUMMARY:🎳 Kids Bowl Free
DESCRIPTION:It’s that time when families start planning on what they’re going to do for the summer! \n\n\n\nLet Kids Bowl Free help!  Each registered child (check each center for age requirements) gets to bowl 2 games free every single day!  (Check individual bowling alleys for shoe rental details) all summer long at NO Cost to Parents!  (But plan for the concessions…. my kids LOVE bowling alley food\, just sayin’) \n\n\n\nParents\, do you want to bowl with your kids? Then you’ll want to check out the Family Pass! This allows parents\, older siblings and babysitters to bowl alongside the registered kids. This is a one-time payment that allows up to 4 adults to bowl 2 games free all summer long\, with your Kids Bowl Free registered children. (You can add the family pass on at any time during the season.) \n\n\n\nHow it works: \n\n\n\n\nLocate a Kids Bowl Free participating location near you (this is the only one covered all summer)\n\n\n\nRegister – Create your Kids Bowl Free account and register your kids.  Decide if the Family Pass is right for your family.\n\n\n\nHave Fun – Make Memories – Go Screen-Free — Make New Friends–  Bowl 2 games free every day\, all summer long! \n\n\n\n\nThings to Note: \n\n\n\n\nEach bowling alley determines the times the program is active. Program begins April 30th! You can find the details here when you choose a location near you. Dates and Times will vary! (I’ve seen some start as early as April 30th and as late as June 1st and end between August 30-Sept 2) I’ve seen only 1 with hours available 7 days a week.\n\n\n\nCheck each location for age requirements. I’ve seen them range from 2-18 with some ending as early as 15.\n\n\n\nI found at least 8 participating centers within 60 minutes of Clintonville.\n\n\n\nThe Registration is not transferable between the different bowling centers.
URL:https://ruralnewfamilies.com/event/%f0%9f%8e%b3-kids-bowl-free-2/2026-04-02/
LOCATION:Wisconsin
CATEGORIES:FREE,Inclusive Events,Indoor Event,Plan Ahead,RSVP - Pre-Registration Required,Sporting Events,Teen
END:VEVENT
END:VCALENDAR