BEGIN:VCALENDAR
VERSION:2.0
PRODID:-//Rural Northeast Wisconsin Families - ECPv6.15.20//NONSGML v1.0//EN
CALSCALE:GREGORIAN
METHOD:PUBLISH
X-WR-CALNAME:Rural Northeast Wisconsin Families
X-ORIGINAL-URL:https://ruralnewfamilies.com
X-WR-CALDESC:Events for Rural Northeast Wisconsin Families
REFRESH-INTERVAL;VALUE=DURATION:PT1H
X-Robots-Tag:noindex
X-PUBLISHED-TTL:PT1H
BEGIN:VTIMEZONE
TZID:America/Chicago
BEGIN:DAYLIGHT
TZOFFSETFROM:-0600
TZOFFSETTO:-0500
TZNAME:CDT
DTSTART:20250309T080000
END:DAYLIGHT
BEGIN:STANDARD
TZOFFSETFROM:-0500
TZOFFSETTO:-0600
TZNAME:CST
DTSTART:20251102T070000
END:STANDARD
BEGIN:DAYLIGHT
TZOFFSETFROM:-0600
TZOFFSETTO:-0500
TZNAME:CDT
DTSTART:20260308T080000
END:DAYLIGHT
BEGIN:STANDARD
TZOFFSETFROM:-0500
TZOFFSETTO:-0600
TZNAME:CST
DTSTART:20261101T070000
END:STANDARD
BEGIN:DAYLIGHT
TZOFFSETFROM:-0600
TZOFFSETTO:-0500
TZNAME:CDT
DTSTART:20270314T080000
END:DAYLIGHT
BEGIN:STANDARD
TZOFFSETFROM:-0500
TZOFFSETTO:-0600
TZNAME:CST
DTSTART:20271107T070000
END:STANDARD
END:VTIMEZONE
BEGIN:VEVENT
DTSTART;TZID=America/Chicago:20260404T000000
DTEND;TZID=America/Chicago:20260404T235959
DTSTAMP:20260424T184813
CREATED:20260331T190056Z
LAST-MODIFIED:20260331T190057Z
UID:10013052-1775260800-1775347199@ruralnewfamilies.com
SUMMARY:🎳 Kids Bowl Free
DESCRIPTION:It’s that time when families start planning on what they’re going to do for the summer! \n\n\n\nLet Kids Bowl Free help!  Each registered child (check each center for age requirements) gets to bowl 2 games free every single day!  (Check individual bowling alleys for shoe rental details) all summer long at NO Cost to Parents!  (But plan for the concessions…. my kids LOVE bowling alley food\, just sayin’) \n\n\n\nParents\, do you want to bowl with your kids? Then you’ll want to check out the Family Pass! This allows parents\, older siblings and babysitters to bowl alongside the registered kids. This is a one-time payment that allows up to 4 adults to bowl 2 games free all summer long\, with your Kids Bowl Free registered children. (You can add the family pass on at any time during the season.) \n\n\n\nHow it works: \n\n\n\n\nLocate a Kids Bowl Free participating location near you (this is the only one covered all summer)\n\n\n\nRegister – Create your Kids Bowl Free account and register your kids.  Decide if the Family Pass is right for your family.\n\n\n\nHave Fun – Make Memories – Go Screen-Free — Make New Friends–  Bowl 2 games free every day\, all summer long! \n\n\n\n\nThings to Note: \n\n\n\n\nEach bowling alley determines the times the program is active. Program begins April 30th! You can find the details here when you choose a location near you. Dates and Times will vary! (I’ve seen some start as early as April 30th and as late as June 1st and end between August 30-Sept 2) I’ve seen only 1 with hours available 7 days a week.\n\n\n\nCheck each location for age requirements. I’ve seen them range from 2-18 with some ending as early as 15.\n\n\n\nI found at least 8 participating centers within 60 minutes of Clintonville.\n\n\n\nThe Registration is not transferable between the different bowling centers.
URL:https://ruralnewfamilies.com/event/%f0%9f%8e%b3-kids-bowl-free-2/2026-04-04/
LOCATION:Wisconsin
CATEGORIES:FREE,Inclusive Events,Indoor Event,Plan Ahead,RSVP - Pre-Registration Required,Sporting Events,Teen
END:VEVENT
BEGIN:VEVENT
DTSTART;TZID=America/Chicago:20260404T070000
DTEND;TZID=America/Chicago:20260404T130000
DTSTAMP:20260424T184813
CREATED:20260403T220255Z
LAST-MODIFIED:20260403T220257Z
UID:10013148-1775286000-1775307600@ruralnewfamilies.com
SUMMARY:Fleet Fest Week 1 at all Fleet Farm locations
DESCRIPTION:Grab your friends and family and join us for a boatload of fun during week 1 of Fleet Fest! On top of hot deals all week long\, on Saturday\, April 4th we’ll have:– Egg Crack Scratch Offs – Giving you the chance to save 10 to 50% off your purchase– Free Tote Bag with ANY purchase (First 500 Customers while supplies last)– Plus\, free hot dogs from 11AM until 1PM!We can’t wait to see you all here for the first week of Fleet Fest!
URL:https://ruralnewfamilies.com/event/fleet-fest-week-1-at-all-fleet-farm-locations/
LOCATION:Fleet Farm – Clintonville\, South Main Street 500\, Clintonville\, Wisconsin\, 54929\, United States
GEO:44.6005772;-88.7664355
X-APPLE-STRUCTURED-LOCATION;VALUE=URI;X-ADDRESS=Fleet Farm – Clintonville South Main Street 500 Clintonville Wisconsin 54929 United States;X-APPLE-RADIUS=500;X-TITLE=South Main Street 500:geo:-88.7664355,44.6005772
END:VEVENT
BEGIN:VEVENT
DTSTART;TZID=America/Chicago:20260404T080000
DTEND;TZID=America/Chicago:20260404T120000
DTSTAMP:20260424T184813
CREATED:20260221T053052Z
LAST-MODIFIED:20260221T053055Z
UID:10012726-1775289600-1775304000@ruralnewfamilies.com
SUMMARY:Winter Farmers Market - Stevens Point
DESCRIPTION:Join us for Brunch and Shopping!Brunch is a hot meal made with fresh ingredients by local farmers.  You can grab-n-go or stay and eat with us. \n\n\n\nThe farmers market features Local Farmers\, Makers\, Producers\, Local Businesses\, Unique Shopping Experiences and MORE! \n\n\n\nWho can’t wait for fresh greens?? Or missing blueberries? Live Music may be playing.  Vendors change each week. \n\n\n\nEBT and debit/credit is accepted
URL:https://ruralnewfamilies.com/event/winter-farmers-market-stevens-point/2026-04-04/
LOCATION:Boys and Girls Club- Stevens Point\, 941 Michigan Ave\, Stevens Point\, Wisconsin\, United States
CATEGORIES:Community Events & Parades,Community Meetings,Farmers Markets,Indoor Event,Shopping
GEO:44.5259648;-89.5637287
X-APPLE-STRUCTURED-LOCATION;VALUE=URI;X-ADDRESS=Boys and Girls Club- Stevens Point 941 Michigan Ave Stevens Point Wisconsin United States;X-APPLE-RADIUS=500;X-TITLE=941 Michigan Ave:geo:-89.5637287,44.5259648
END:VEVENT
BEGIN:VEVENT
DTSTART;TZID=America/Chicago:20260404T090000
DTEND;TZID=America/Chicago:20260404T120000
DTSTAMP:20260424T184813
CREATED:20260109T201204Z
LAST-MODIFIED:20260109T201206Z
UID:10012079-1775293200-1775304000@ruralnewfamilies.com
SUMMARY:Small Animal Vaccine and Microchip Clinic
DESCRIPTION:What to Expect:\n\n\n\n\nDrive-Through Event\n\nPlease bring all vaccine records with you. Due to time constraints\, we are unable to look up records.\n\n\n\nHealthy Animals ONLY\n\n\n\nAll pets must be leashed at ALL times (Highly Recommended: Cats be in carriers)\n\n\n\nAvailable DOG Vaccines:\n\nRabies\n\n\n\nDistemper (DHPP/DAPP)\n\n\n\nLepto\n\n\n\nLyme\n\n\n\nKennel Cough\n\n\n\n\n\nAvailable CAT Vaccines:\n\nRabies\n\n\n\nDistemper (RCPN)\n\n\n\nFELV\n\n\n\n\n\nOther Options:\n\nMicrochip (Cat/Dog) Includes: Lifetime Registration\n\n\n\nHeartwork/Tick Blood Test (dogs)\n\n\n\nFELV/FIV Test (cats)\n\n\n\n\n\n\n\n\nIf you have any questions or special requests\, please call the clinic ahead of time at 715-675-9402 \n\n\n\nCheck HERE for Important Pricing Details and Updates \n\n\n\nThere is a $10 per CUSTOMER (not pet) Facility Fee
URL:https://ruralnewfamilies.com/event/small-animal-vaccine-and-microchip-clinic/2026-04-04/
LOCATION:Marathon Feed Inc\, 137075 Feed Ln\, Marathon City\, Wisconsin\, 54448\, United States
CATEGORIES:Pets
GEO:44.9092909;-89.8456711
X-APPLE-STRUCTURED-LOCATION;VALUE=URI;X-ADDRESS=Marathon Feed Inc 137075 Feed Ln Marathon City Wisconsin 54448 United States;X-APPLE-RADIUS=500;X-TITLE=137075 Feed Ln:geo:-89.8456711,44.9092909
END:VEVENT
BEGIN:VEVENT
DTSTART;TZID=America/Chicago:20260404T090000
DTEND;TZID=America/Chicago:20260404T120000
DTSTAMP:20260424T184813
CREATED:20260208T020239Z
LAST-MODIFIED:20260208T020518Z
UID:10012386-1775293200-1775304000@ruralnewfamilies.com
SUMMARY:🧑‍🌾🧅🍞 Wausau Winter Market
DESCRIPTION:Come to the Indoor Winter Farmers Market.   \n\n\n\nMushrooms\, Fresh Greens via Aquaponics\, Blueberries\, honey\, coffee\, fresh bakery\, pastries\, meat\, eggs\, cheese\, vegetables\, Brunch and MORE! \n\n\n\nThings to Know Before you go – There is a $2 fee for any debit/credit transaction. \n\n\n\nFor more information
URL:https://ruralnewfamilies.com/event/wausau-winter-market/2026-04-04/
LOCATION:John Marshall Elementary School\, 1918 Lamont St\, Wausau\, Wisconsin\, 54403\, United States
CATEGORIES:Community Events & Parades,Craft/Vendor Shows,Farmers Markets,FREE,Indoor Event,Shopping
GEO:44.9369784;-89.6245761
X-APPLE-STRUCTURED-LOCATION;VALUE=URI;X-ADDRESS=John Marshall Elementary School 1918 Lamont St Wausau Wisconsin 54403 United States;X-APPLE-RADIUS=500;X-TITLE=1918 Lamont St:geo:-89.6245761,44.9369784
END:VEVENT
BEGIN:VEVENT
DTSTART;TZID=America/Chicago:20260404T090000
DTEND;TZID=America/Chicago:20260404T170000
DTSTAMP:20260424T184813
CREATED:20260308T103557Z
LAST-MODIFIED:20260308T103559Z
UID:10012848-1775293200-1775322000@ruralnewfamilies.com
SUMMARY:🥚🐇 Antigo Annual Easter Egg Hunt
DESCRIPTION:Join us for our annual Easter Egg Hunt!  Over 5000 Stuffed Easter Eggs!  Each age group has a chance to win an Easter Basket Prize! \n\n\n\nSchedule of Events: \n\n\n\n\n9:15am – Pictures with the Easter Bunner\n\n\n\n10AM (Sharp) – Easter Egg Hunt\n\n\n\n\nCity Park East and West will be divided for the 3 age divisions \n\n\n\n\nCrawlers and New Walkers\n\n\n\n3-5\n\n\n\n6-8
URL:https://ruralnewfamilies.com/event/%f0%9f%a5%9a%f0%9f%90%87-antigo-annual-easter-egg-hunt/
LOCATION:Antigo City Park East\, Aurora Street 220\, Antigo\, Wisconsin\, 54409\, United States
CATEGORIES:Community Events & Parades,Easter,Easter Bunny,Egg Hunt,FREE,Holidays
GEO:45.1351211;-89.1408582
X-APPLE-STRUCTURED-LOCATION;VALUE=URI;X-ADDRESS=Antigo City Park East Aurora Street 220 Antigo Wisconsin 54409 United States;X-APPLE-RADIUS=500;X-TITLE=Aurora Street 220:geo:-89.1408582,45.1351211
END:VEVENT
BEGIN:VEVENT
DTSTART;TZID=America/Chicago:20260404T090000
DTEND;TZID=America/Chicago:20260404T180000
DTSTAMP:20260424T184813
CREATED:20260401T182024Z
LAST-MODIFIED:20260401T182047Z
UID:10012923-1775293200-1775325600@ruralnewfamilies.com
SUMMARY:🐇🥚 Easter Egg Hunt & Craft Party at Wildman Arts
DESCRIPTION:Join Wildman Arts for an Easter Egg Hunt and Craft Party! Stop in anytime between 9:00 AM and 6:00 PM on Saturday\, April 4th!The Easter Bunny will be here for pictures from 11am to 1pm!Find an egg around our store and turn it in for a prize!Choose an egg from our basket for a fun treat!Color a shaving cream Easter Egg for FREE!We will have FREE snacks for everyone.Decorate your own palette cupcake.Fun Crafting EventsWood Easter Ornaments- $1 eachEaster Scratch Art- $1 eachEaster Suncatchers -$2 eachColor Your Own Easter Tote- $2 eachColor Your Own Easter Puzzle- $2 eachCeramic Easter Bunny Painting – $5 eachCeramic Easter Egg Painting – $5 eachBunny Chalk Pastel- $5 eachEaster Egg Diamond Art- $5 eachCeramic Easter Bunny Gnomes- $6 eachEaster Canvas Painting- $10 eachOther Ceramic Easter Items ranging from $2 to $15 eachThis party will be held at Wildman Arts\, 618 5th Avenue\, Antigo\, WI 54409.For more information\, emailwildmanartsweb@gmail.com or call/text 715-921-4877.
URL:https://ruralnewfamilies.com/event/%f0%9f%90%87%f0%9f%a5%9a-easter-egg-hunt-craft-party-at-wildman-arts/
LOCATION:Wildman Arts\, 5th Avenue 618\, Antigo\, WI\, 54409\, United States
CATEGORIES:Easter,Easter Bunny,FREE,Holidays
GEO:45.1510546;-89.154045
X-APPLE-STRUCTURED-LOCATION;VALUE=URI;X-ADDRESS=Wildman Arts 5th Avenue 618 Antigo WI 54409 United States;X-APPLE-RADIUS=500;X-TITLE=5th Avenue 618:geo:-89.154045,45.1510546
END:VEVENT
BEGIN:VEVENT
DTSTART;TZID=America/Chicago:20260404T091500
DTEND;TZID=America/Chicago:20260404T121500
DTSTAMP:20260424T184813
CREATED:20260401T190537Z
LAST-MODIFIED:20260401T190540Z
UID:10013144-1775294100-1775304900@ruralnewfamilies.com
SUMMARY:🥚🐇 City of Antigo Annual Easter Egg Hunt 2026
DESCRIPTION:📢ATTENTION!!!! NEW LOCATION FOR SATURDAY!! Due to the projected inclement weather this week\, the City of Antigo Annual Easter Egg Hunt is being moved to the Langlade County Multi-Purpose Building on Saturday\, April 4. 📷Photos with the Easter Bunny start at 9:15am! 🐣Easter Egg Hunt starts at 10:00am SHARP! \n\n\n\n3 age groups: Crawlers/New walkers\, 3-5\, 6-8 \n\n\n\n 🥚Over 5\,000 stuffed easter eggs! 🪁Chance to win Easter Basket Prizes for each age group! 🥫Bring a canned good donation! Thank you to the event sponsors: HookUp Disc Golf LLC and Legit Clean\, and Pizza Hut who donated 500 personal pan coupons. We would also like to thank Langlade County for letting us utilize their building. Please share! Contact: Brinna Mauk & Sarah Repp Email: bmauk@antigo-city.org or srepp@antigo-city.org Phone: 715.623.3633 x-154/131
URL:https://ruralnewfamilies.com/event/%f0%9f%a5%9a%f0%9f%90%87-city-of-antigo-annual-easter-egg-hunt-2026/
LOCATION:Langlade County Fairgrounds Multipurpose Building\, 1633 Neva Rd\, Antigo\, Wisconsin\, 54929\, United States
CATEGORIES:Easter,Easter Bunny,Egg Hunt,Holidays
GEO:45.1534355;-89.1469083
X-APPLE-STRUCTURED-LOCATION;VALUE=URI;X-ADDRESS=Langlade County Fairgrounds Multipurpose Building 1633 Neva Rd Antigo Wisconsin 54929 United States;X-APPLE-RADIUS=500;X-TITLE=1633 Neva Rd:geo:-89.1469083,45.1534355
END:VEVENT
BEGIN:VEVENT
DTSTART;TZID=America/Chicago:20260404T100000
DTEND;TZID=America/Chicago:20260404T110000
DTSTAMP:20260424T184813
CREATED:20260404T040838Z
LAST-MODIFIED:20260404T042639Z
UID:10013188-1775296800-1775300400@ruralnewfamilies.com
SUMMARY:🥚 Pulaski Easter Egg Hunt
DESCRIPTION:Easter Egg Hunt starts at 10am SHARP! \n\n\n\nOpen to the Public and is for kids 11 and under.NO Registration is needed
URL:https://ruralnewfamilies.com/event/%f0%9f%a5%9a-pulaski-easter-egg-hunt/
LOCATION:Saputo Stadium\, South Saint Augustine Street 1040\, Pulaski\, Wisconsin\, 54162\, United States
CATEGORIES:Community Events & Parades,Easter,Egg Hunt,FREE,Holidays
GEO:44.6588892;-88.2400871
X-APPLE-STRUCTURED-LOCATION;VALUE=URI;X-ADDRESS=Saputo Stadium South Saint Augustine Street 1040 Pulaski Wisconsin 54162 United States;X-APPLE-RADIUS=500;X-TITLE=South Saint Augustine Street 1040:geo:-88.2400871,44.6588892
END:VEVENT
BEGIN:VEVENT
DTSTART;TZID=America/Chicago:20260404T100000
DTEND;TZID=America/Chicago:20260404T113000
DTSTAMP:20260424T184813
CREATED:20260404T040020Z
LAST-MODIFIED:20260404T040022Z
UID:10013187-1775296800-1775302200@ruralnewfamilies.com
SUMMARY:🐇🥚 Easter Egg Hunt on the Square
DESCRIPTION:Two events for the kids! \n\n\n\nBoth start at 10am!   \n\n\n\nThe Big Easter Egg Hunt is for kids 8 and under with 3 ages categories. \n\n\n\nAccessible Egg Hunt – All Ages Welcome – No time constraints. Character Photo Booth
URL:https://ruralnewfamilies.com/event/%f0%9f%90%87%f0%9f%a5%9a-easter-egg-hunt-on-the-square/
LOCATION:Stevens Point Downtown Square\, 913 Main St\, Stevens Point\, Wisconsin\, United States
CATEGORIES:Community Events & Parades,Easter,Easter Bunny,Egg Hunt,FREE,Holidays,Inclusive Events,Wheel-Chair Accessible,Youth & Family Programs
GEO:44.5232836;-89.5853833
X-APPLE-STRUCTURED-LOCATION;VALUE=URI;X-ADDRESS=Stevens Point Downtown Square 913 Main St Stevens Point Wisconsin United States;X-APPLE-RADIUS=500;X-TITLE=913 Main St:geo:-89.5853833,44.5232836
END:VEVENT
BEGIN:VEVENT
DTSTART;TZID=America/Chicago:20260404T100000
DTEND;TZID=America/Chicago:20260404T120000
DTSTAMP:20260424T184813
CREATED:20260404T033624Z
LAST-MODIFIED:20260404T034333Z
UID:10013186-1775296800-1775304000@ruralnewfamilies.com
SUMMARY:🐇🥚 Easter "Egg"Stravaganza
DESCRIPTION:Join us for Easter FUN! \n\n\n\n\nEgg Hunt\n\n\n\nEaster Bunny\n\n\n\nEaster Games\n\n\n\nColoring Contest\n\n\n\nCrafts\n\n\n\nPrizes\n\n\n\nTreatsPlease watch Village of Lena’s FB page for weather updates beginning April 4th AM
URL:https://ruralnewfamilies.com/event/%f0%9f%90%87%f0%9f%a5%9a-easter-eggstravaganza/
LOCATION:St Anne Parish – Lena\, 221 E Main St\, Lena\, Wisconsin\, 54139\, United States
CATEGORIES:Community Events & Parades,Easter,Easter Bunny,Egg Hunt,FREE,Holidays
GEO:44.9507331;-88.0444012
X-APPLE-STRUCTURED-LOCATION;VALUE=URI;X-ADDRESS=St Anne Parish – Lena 221 E Main St Lena Wisconsin 54139 United States;X-APPLE-RADIUS=500;X-TITLE=221 E Main St:geo:-88.0444012,44.9507331
END:VEVENT
BEGIN:VEVENT
DTSTART;TZID=America/Chicago:20260404T100000
DTEND;TZID=America/Chicago:20260404T130000
DTSTAMP:20260424T184813
CREATED:20260403T223849Z
LAST-MODIFIED:20260406T202945Z
UID:10013149-1775296800-1775307600@ruralnewfamilies.com
SUMMARY:🥚🐇 Shawano Park and Recreation Presents: Annual Egg Hunt in the Park
DESCRIPTION:Our annual Egg Hunt in the Park is just around the corner!!There are nearly 6\,000 eggs and a variety of gift baskets that are given away at this event. You definitely don’t want to miss it!Kids will be split up in three different age groups at the event. Please arrive a few minutes early to get to your spots. This event starts at 10am sharp and goes very quickly!See you at Kuckuk Park on Saturday\, April 11th!  (rescheduled from April 4th due to weather) \n\n\n\nBring you camera for photo ops with the Easter Bunny!
URL:https://ruralnewfamilies.com/event/%f0%9f%a5%9a%f0%9f%90%87-shawano-park-and-recreation-presents-annual-egg-hunt-in-the-park/
LOCATION:Kuckuk Park\, Oak Park Drive 700\, Shawano\, Wisconsin\, 54166\, United States
CATEGORIES:Community Events & Parades,Easter,Easter Bunny,Egg Hunt,FREE,Holidays,Kids Outdoors,Outdoor Event,Park and Rec,Youth & Family Programs
GEO:44.7678481;-88.6160803
X-APPLE-STRUCTURED-LOCATION;VALUE=URI;X-ADDRESS=Kuckuk Park Oak Park Drive 700 Shawano Wisconsin 54166 United States;X-APPLE-RADIUS=500;X-TITLE=Oak Park Drive 700:geo:-88.6160803,44.7678481
END:VEVENT
BEGIN:VEVENT
DTSTART;TZID=America/Chicago:20260404T110000
DTEND;TZID=America/Chicago:20260404T110000
DTSTAMP:20260424T184813
CREATED:20240409T192355Z
LAST-MODIFIED:20240409T192355Z
UID:10005280-1775300400-1775300400@ruralnewfamilies.com
SUMMARY:Writer's Group
DESCRIPTION:Come be part of a supportive community of writers sharing their work and tips for publishing and marketing.
URL:https://ruralnewfamilies.com/event/writers-group-24/
LOCATION:Wisconsin
END:VEVENT
BEGIN:VEVENT
DTSTART;TZID=America/Chicago:20260404T110000
DTEND;TZID=America/Chicago:20260404T120000
DTSTAMP:20260424T184813
CREATED:20260208T060445Z
LAST-MODIFIED:20260208T060446Z
UID:10012479-1775300400-1775304000@ruralnewfamilies.com
SUMMARY:🐊Doc's Zoo - Alligator Feeding
DESCRIPTION:Come on out and visit Doc’s Zoo!  Alligators get fed every Saturday at 11am (sharp).  You’ll want to get there early enough to park and find your spot.  Leave enough time to wander around the zoo and see ALL the amazing animals.  If you run early – check out Doc’s Amazing Breakfast at Doc’s Timeline Saloon served from 7-11. \n\n\n\nBe sure to visit the indoor and outdoor animals.  If you have older kids\, be sure to check out Doc’s Museum as well.
URL:https://ruralnewfamilies.com/event/%f0%9f%90%8adocs-zoo-alligator-feeding-19/2026-04-04/
LOCATION:Doc’s Harley-Davidson\, Wisconsin 29 w2709\, Bonduel\, WI\, 54107\, United States
CATEGORIES:FREE,Kids Outdoors,Zoo
GEO:44.704505;-88.374849
X-APPLE-STRUCTURED-LOCATION;VALUE=URI;X-ADDRESS=Doc’s Harley-Davidson Wisconsin 29 w2709 Bonduel WI 54107 United States;X-APPLE-RADIUS=500;X-TITLE=Wisconsin 29 w2709:geo:-88.374849,44.704505
END:VEVENT
BEGIN:VEVENT
DTSTART;TZID=America/Chicago:20260404T110000
DTEND;TZID=America/Chicago:20260404T130000
DTSTAMP:20260424T184813
CREATED:20260404T031708Z
LAST-MODIFIED:20260404T031756Z
UID:10013184-1775300400-1775307600@ruralnewfamilies.com
SUMMARY:🥚🐇 OAHS Easter EggVenture 2026
DESCRIPTION:Hop on over to Oshkosh Area Humane Society at 1925 Shelter Court in Oshkosh on Saturday\, April 4th for free family fun! \n\n\n\nYou can get your photos taken with the Easter Bunny\, enjoy an egg hunt and games for the kids\, spin our prize wheel\, learn all about real bunnies\, and even adopt a pre-loved stuffed bunny to take home with you! \n\n\n\nReserve your free ticket for one of our arrival time slots – 11am\, 11:30am\, 12pm or 12:30pm – spreading out our visitor start times means everyone gets to spend plenty of time at each station\, and no one is crowded! \n\n\n\nReserve your free tickets at givebutter.com/eggventure2026 \n\n\n\nWe hope to see you there!
URL:https://ruralnewfamilies.com/event/oahs-easter-eggventure-2026/
LOCATION:Oshkosh Area Humane Society\, Shelter Court 1925\, Oshkosh\, Wisconsin\, 54901\, United States
CATEGORIES:Community Resource,Easter,Easter Bunny,Egg Hunt,FREE,Holidays,Plan Ahead,RSVP - Pre-Registration Required,Volunteer Opportunity,Youth & Family Programs
GEO:44.041706;-88.5302817
X-APPLE-STRUCTURED-LOCATION;VALUE=URI;X-ADDRESS=Oshkosh Area Humane Society Shelter Court 1925 Oshkosh Wisconsin 54901 United States;X-APPLE-RADIUS=500;X-TITLE=Shelter Court 1925:geo:-88.5302817,44.041706
END:VEVENT
BEGIN:VEVENT
DTSTART;TZID=America/Chicago:20260404T190000
DTEND;TZID=America/Chicago:20260404T210000
DTSTAMP:20260424T184813
CREATED:20240404T152054Z
LAST-MODIFIED:20240404T153249Z
UID:10003446-1775329200-1775336400@ruralnewfamilies.com
SUMMARY:AA Meeting
DESCRIPTION:
URL:https://ruralnewfamilies.com/event/aa-meeting-2/2026-04-04/
LOCATION:Clintonville United Methodist Church\, 13th Street 24\, Clintonville\, Wisconsin\, 54929\, United States
CATEGORIES:AA/NA Meetings
GEO:44.6252503;-88.7595837
X-APPLE-STRUCTURED-LOCATION;VALUE=URI;X-ADDRESS=Clintonville United Methodist Church 13th Street 24 Clintonville Wisconsin 54929 United States;X-APPLE-RADIUS=500;X-TITLE=13th Street 24:geo:-88.7595837,44.6252503
END:VEVENT
END:VCALENDAR