BEGIN:VCALENDAR
VERSION:2.0
PRODID:-//Rural Northeast Wisconsin Families - ECPv6.15.20//NONSGML v1.0//EN
CALSCALE:GREGORIAN
METHOD:PUBLISH
X-ORIGINAL-URL:https://ruralnewfamilies.com
X-WR-CALDESC:Events for Rural Northeast Wisconsin Families
REFRESH-INTERVAL;VALUE=DURATION:PT1H
X-Robots-Tag:noindex
X-PUBLISHED-TTL:PT1H
BEGIN:VTIMEZONE
TZID:America/Chicago
BEGIN:DAYLIGHT
TZOFFSETFROM:-0600
TZOFFSETTO:-0500
TZNAME:CDT
DTSTART:20250309T080000
END:DAYLIGHT
BEGIN:STANDARD
TZOFFSETFROM:-0500
TZOFFSETTO:-0600
TZNAME:CST
DTSTART:20251102T070000
END:STANDARD
BEGIN:DAYLIGHT
TZOFFSETFROM:-0600
TZOFFSETTO:-0500
TZNAME:CDT
DTSTART:20260308T080000
END:DAYLIGHT
BEGIN:STANDARD
TZOFFSETFROM:-0500
TZOFFSETTO:-0600
TZNAME:CST
DTSTART:20261101T070000
END:STANDARD
BEGIN:DAYLIGHT
TZOFFSETFROM:-0600
TZOFFSETTO:-0500
TZNAME:CDT
DTSTART:20270314T080000
END:DAYLIGHT
BEGIN:STANDARD
TZOFFSETFROM:-0500
TZOFFSETTO:-0600
TZNAME:CST
DTSTART:20271107T070000
END:STANDARD
END:VTIMEZONE
BEGIN:VEVENT
DTSTART;TZID=America/Chicago:20260407T170000
DTEND;TZID=America/Chicago:20260407T193000
DTSTAMP:20260424T092730
CREATED:20260404T021048Z
LAST-MODIFIED:20260404T021051Z
UID:10013163-1775581200-1775590200@ruralnewfamilies.com
SUMMARY:Trail Tender Party and Gathering 30th Anniversary
DESCRIPTION:Let’s get the Mountain Bay Trail’s 30th Anniversary Party Started! \n\n\n\n\nFree Pizza\, Dessert\, Soda and Water.  Cash Bar.\n\n\n\nHear from the Trail Founders and Meet the 2026 Trail Tenders (and JOIN them)\n\n\n\nMeet the Heads of Friends of Wisconsin State Parks\n\n\n\nBuy your 2026 State Trail Passes\n\n\n\nFREE Event – RSVP Required. E-mail: shawanomountainbaytrail@gmail.com
URL:https://ruralnewfamilies.com/event/trail-tender-party-and-gathering-30th-anniversary/
LOCATION:Shawano County Park\, Lake Drive W5785\, Shawano\, Wisconsin\, 54166\, United States
CATEGORIES:Community Events & Parades,Community Meetings,Community Resource,FREE,Life Stages And Special Communities,Natural Resources Protection,Outdoor Recreation,Plan Ahead,RSVP - Pre-Registration Required,Volunteer Opportunity
GEO:44.8274153;-88.5299766
X-APPLE-STRUCTURED-LOCATION;VALUE=URI;X-ADDRESS=Shawano County Park Lake Drive W5785 Shawano Wisconsin 54166 United States;X-APPLE-RADIUS=500;X-TITLE=Lake Drive W5785:geo:-88.5299766,44.8274153
END:VEVENT
END:VCALENDAR