BEGIN:VCALENDAR
VERSION:2.0
PRODID:-//Rural Northeast Wisconsin Families - ECPv6.15.20//NONSGML v1.0//EN
CALSCALE:GREGORIAN
METHOD:PUBLISH
X-WR-CALNAME:Rural Northeast Wisconsin Families
X-ORIGINAL-URL:https://ruralnewfamilies.com
X-WR-CALDESC:Events for Rural Northeast Wisconsin Families
REFRESH-INTERVAL;VALUE=DURATION:PT1H
X-Robots-Tag:noindex
X-PUBLISHED-TTL:PT1H
BEGIN:VTIMEZONE
TZID:America/Chicago
BEGIN:DAYLIGHT
TZOFFSETFROM:-0600
TZOFFSETTO:-0500
TZNAME:CDT
DTSTART:20250309T080000
END:DAYLIGHT
BEGIN:STANDARD
TZOFFSETFROM:-0500
TZOFFSETTO:-0600
TZNAME:CST
DTSTART:20251102T070000
END:STANDARD
BEGIN:DAYLIGHT
TZOFFSETFROM:-0600
TZOFFSETTO:-0500
TZNAME:CDT
DTSTART:20260308T080000
END:DAYLIGHT
BEGIN:STANDARD
TZOFFSETFROM:-0500
TZOFFSETTO:-0600
TZNAME:CST
DTSTART:20261101T070000
END:STANDARD
BEGIN:DAYLIGHT
TZOFFSETFROM:-0600
TZOFFSETTO:-0500
TZNAME:CDT
DTSTART:20270314T080000
END:DAYLIGHT
BEGIN:STANDARD
TZOFFSETFROM:-0500
TZOFFSETTO:-0600
TZNAME:CST
DTSTART:20271107T070000
END:STANDARD
END:VTIMEZONE
BEGIN:VEVENT
DTSTART;TZID=America/Chicago:20260409T080000
DTEND;TZID=America/Chicago:20260409T170000
DTSTAMP:20260423T013253
CREATED:20260404T022756Z
LAST-MODIFIED:20260404T022759Z
UID:10013168-1775721600-1775754000@ruralnewfamilies.com
SUMMARY:Free Library Programming
DESCRIPTION:
URL:https://ruralnewfamilies.com/event/free-library-programming/2026-04-09/
LOCATION:Birnamwood Library\, 337 Main St\, Birnamwood\, Wisconsin\, United States
CATEGORIES:FREE,Library/Museum
GEO:44.9292549;-89.2098876
X-APPLE-STRUCTURED-LOCATION;VALUE=URI;X-ADDRESS=Birnamwood Library 337 Main St Birnamwood Wisconsin United States;X-APPLE-RADIUS=500;X-TITLE=337 Main St:geo:-89.2098876,44.9292549
END:VEVENT
BEGIN:VEVENT
DTSTART;TZID=America/Chicago:20260409T130000
DTEND;TZID=America/Chicago:20260409T140000
DTSTAMP:20260423T013253
CREATED:20260109T194309Z
LAST-MODIFIED:20260109T194311Z
UID:10012074-1775739600-1775743200@ruralnewfamilies.com
SUMMARY:Bingo
DESCRIPTION:Come join us for Bingo and refreshments!   \n\n\n\nFREE Bingo and great prizes! \n\n\n\n \n\n\n\nThis is something for ALL ages!
URL:https://ruralnewfamilies.com/event/bingo-8/2026-04-09/
LOCATION:Marion Public Library\, North Main Street 120\, Marion\, Wisconsin\, 54950\, United States
CATEGORIES:Community Events & Parades,FREE,Indoor Event,Library/Museum,Life Stages And Special Communities,Senior Connections
GEO:44.6712452;-88.8889175
X-APPLE-STRUCTURED-LOCATION;VALUE=URI;X-ADDRESS=Marion Public Library North Main Street 120 Marion Wisconsin 54950 United States;X-APPLE-RADIUS=500;X-TITLE=North Main Street 120:geo:-88.8889175,44.6712452
END:VEVENT
END:VCALENDAR