BEGIN:VCALENDAR
VERSION:2.0
PRODID:-//Rural Northeast Wisconsin Families - ECPv6.15.20//NONSGML v1.0//EN
CALSCALE:GREGORIAN
METHOD:PUBLISH
X-WR-CALNAME:Rural Northeast Wisconsin Families
X-ORIGINAL-URL:https://ruralnewfamilies.com
X-WR-CALDESC:Events for Rural Northeast Wisconsin Families
REFRESH-INTERVAL;VALUE=DURATION:PT1H
X-Robots-Tag:noindex
X-PUBLISHED-TTL:PT1H
BEGIN:VTIMEZONE
TZID:America/Chicago
BEGIN:DAYLIGHT
TZOFFSETFROM:-0600
TZOFFSETTO:-0500
TZNAME:CDT
DTSTART:20250309T080000
END:DAYLIGHT
BEGIN:STANDARD
TZOFFSETFROM:-0500
TZOFFSETTO:-0600
TZNAME:CST
DTSTART:20251102T070000
END:STANDARD
BEGIN:DAYLIGHT
TZOFFSETFROM:-0600
TZOFFSETTO:-0500
TZNAME:CDT
DTSTART:20260308T080000
END:DAYLIGHT
BEGIN:STANDARD
TZOFFSETFROM:-0500
TZOFFSETTO:-0600
TZNAME:CST
DTSTART:20261101T070000
END:STANDARD
BEGIN:DAYLIGHT
TZOFFSETFROM:-0600
TZOFFSETTO:-0500
TZNAME:CDT
DTSTART:20270314T080000
END:DAYLIGHT
BEGIN:STANDARD
TZOFFSETFROM:-0500
TZOFFSETTO:-0600
TZNAME:CST
DTSTART:20271107T070000
END:STANDARD
END:VTIMEZONE
BEGIN:VEVENT
DTSTART;TZID=America/Chicago:20260411T070000
DTEND;TZID=America/Chicago:20260411T100000
DTSTAMP:20260424T090334
CREATED:20260410T190830Z
LAST-MODIFIED:20260410T190832Z
UID:10013219-1775890800-1775901600@ruralnewfamilies.com
SUMMARY:🥞 Amish Pancake Breakfast and Bake Sale
DESCRIPTION:Join us for our Pancake Breakfast and Bake Sale \n\n\n\nEnjoy Fresh Raised Donuts and MORE!  \n\n\n\n\n\n\n\nAll proceeds go to Local Amish Schools
URL:https://ruralnewfamilies.com/event/%f0%9f%a5%9e-amish-pancake-breakfast-and-bake-sale-2/2026-04-11/
LOCATION:Pigeon River School\, E6778 Neitzke Rd\, Marion\, Wisconsin\, United States
CATEGORIES:Community Events & Parades,Fundraiser
GEO:44.636315;-88.885229
X-APPLE-STRUCTURED-LOCATION;VALUE=URI;X-ADDRESS=Pigeon River School E6778 Neitzke Rd Marion Wisconsin United States;X-APPLE-RADIUS=500;X-TITLE=E6778 Neitzke Rd:geo:-88.885229,44.636315
END:VEVENT
BEGIN:VEVENT
DTSTART;TZID=America/Chicago:20260411T070000
DTEND;TZID=America/Chicago:20260411T130000
DTSTAMP:20260424T090334
CREATED:20260410T214445Z
LAST-MODIFIED:20260410T214446Z
UID:10013152-1775890800-1775912400@ruralnewfamilies.com
SUMMARY:Fleet Fest Week 2 at all Fleet Farm Locations
DESCRIPTION:Grab your friends and family and join us for a boatload of fun during week 2 of Fleet Fest! On top of hot deals all week long\, on Saturday\, April 11th we’ll have:– Free Banana Bread Trail Mix Sampling from 9AM until Noon– Free Gift Card Giveaway Beginning at 7AM (First 100 Customers while supplies last)– Plus\, free cheddar dogs from 11AM until 1PM!We can’t wait to see you all for the second week of Fleet Fest!
URL:https://ruralnewfamilies.com/event/fleet-fest-week-2-at-all-fleet-farm-locations/
LOCATION:Fleet Farm – Clintonville\, South Main Street 500\, Clintonville\, Wisconsin\, 54929\, United States
CATEGORIES:FREE
GEO:44.6005772;-88.7664355
X-APPLE-STRUCTURED-LOCATION;VALUE=URI;X-ADDRESS=Fleet Farm – Clintonville South Main Street 500 Clintonville Wisconsin 54929 United States;X-APPLE-RADIUS=500;X-TITLE=South Main Street 500:geo:-88.7664355,44.6005772
END:VEVENT
BEGIN:VEVENT
DTSTART;TZID=America/Chicago:20260411T080000
DTEND;TZID=America/Chicago:20260411T120000
DTSTAMP:20260424T090334
CREATED:20260221T053052Z
LAST-MODIFIED:20260221T053055Z
UID:10012727-1775894400-1775908800@ruralnewfamilies.com
SUMMARY:Winter Farmers Market - Stevens Point
DESCRIPTION:Join us for Brunch and Shopping!Brunch is a hot meal made with fresh ingredients by local farmers.  You can grab-n-go or stay and eat with us. \n\n\n\nThe farmers market features Local Farmers\, Makers\, Producers\, Local Businesses\, Unique Shopping Experiences and MORE! \n\n\n\nWho can’t wait for fresh greens?? Or missing blueberries? Live Music may be playing.  Vendors change each week. \n\n\n\nEBT and debit/credit is accepted
URL:https://ruralnewfamilies.com/event/winter-farmers-market-stevens-point/2026-04-11/
LOCATION:Boys and Girls Club- Stevens Point\, 941 Michigan Ave\, Stevens Point\, Wisconsin\, United States
CATEGORIES:Community Events & Parades,Community Meetings,Farmers Markets,Indoor Event,Shopping
GEO:44.5259648;-89.5637287
X-APPLE-STRUCTURED-LOCATION;VALUE=URI;X-ADDRESS=Boys and Girls Club- Stevens Point 941 Michigan Ave Stevens Point Wisconsin United States;X-APPLE-RADIUS=500;X-TITLE=941 Michigan Ave:geo:-89.5637287,44.5259648
END:VEVENT
BEGIN:VEVENT
DTSTART;TZID=America/Chicago:20260411T090000
DTEND;TZID=America/Chicago:20260411T120000
DTSTAMP:20260424T090334
CREATED:20260208T020239Z
LAST-MODIFIED:20260208T020518Z
UID:10012387-1775898000-1775908800@ruralnewfamilies.com
SUMMARY:🧑‍🌾🧅🍞 Wausau Winter Market
DESCRIPTION:Come to the Indoor Winter Farmers Market.   \n\n\n\nMushrooms\, Fresh Greens via Aquaponics\, Blueberries\, honey\, coffee\, fresh bakery\, pastries\, meat\, eggs\, cheese\, vegetables\, Brunch and MORE! \n\n\n\nThings to Know Before you go – There is a $2 fee for any debit/credit transaction. \n\n\n\nFor more information
URL:https://ruralnewfamilies.com/event/wausau-winter-market/2026-04-11/
LOCATION:John Marshall Elementary School\, 1918 Lamont St\, Wausau\, Wisconsin\, 54403\, United States
CATEGORIES:Community Events & Parades,Craft/Vendor Shows,Farmers Markets,FREE,Indoor Event,Shopping
GEO:44.9369784;-89.6245761
X-APPLE-STRUCTURED-LOCATION;VALUE=URI;X-ADDRESS=John Marshall Elementary School 1918 Lamont St Wausau Wisconsin 54403 United States;X-APPLE-RADIUS=500;X-TITLE=1918 Lamont St:geo:-89.6245761,44.9369784
END:VEVENT
BEGIN:VEVENT
DTSTART;TZID=America/Chicago:20260411T090000
DTEND;TZID=America/Chicago:20260411T120000
DTSTAMP:20260424T090334
CREATED:20260404T032935Z
LAST-MODIFIED:20260404T032937Z
UID:10013185-1775898000-1775908800@ruralnewfamilies.com
SUMMARY:🐶😺 Lena Annual Dog and Cat Vaccination Clinic
DESCRIPTION:Join Lena FFA\, Lena FFA Alumni and Supporters and Pestigo Veterinary Clinic for the Annual Vaccination Clinic \n\n\n\nA Portion of the Proceeds will be donated to the Lena FFA-  \n\n\n\nThings to bring with you: \n\n\n\n\nCash or check for vaccinations and any additional medications \n\n\n\nPet MUST either be on a leash or in a carrier\n\n\n\nPets’ Vaccination records\n\n\n\nPlease bring an item to donate to the Oconto Area Humane Society\n\n\n\n\nPrice List: \n\n\n\n\nRabies (dog and cat) $25\n\n\n\nDistemper Combination with or without lepto — Dogs $25\n\n\n\nDistemper Combination -Cats – $25\n\n\n\nLyme Vaccination – Dogs $35\n\n\n\nBordetella $25\n\n\n\n\nFlea and Tick Medication is also available at discounted prices \n\n\n\nNO CARDS for payment– Cash or Check Only \n\n\n\nNo Appointments Necessary
URL:https://ruralnewfamilies.com/event/%f0%9f%90%b6%f0%9f%98%ba-lena-annual-dog-and-cat-vaccination-clinic/
LOCATION:Lena High School\, East Main Street 304\, Lena\, Wisconsin\, 54139\, United States
CATEGORIES:Community Events & Parades,Community Resource,Fundraiser,Health and Safety,Pets
GEO:44.9514163;-88.0424574
X-APPLE-STRUCTURED-LOCATION;VALUE=URI;X-ADDRESS=Lena High School East Main Street 304 Lena Wisconsin 54139 United States;X-APPLE-RADIUS=500;X-TITLE=East Main Street 304:geo:-88.0424574,44.9514163
END:VEVENT
BEGIN:VEVENT
DTSTART;TZID=America/Chicago:20260411T094500
DTEND;TZID=America/Chicago:20260411T110000
DTSTAMP:20260424T090334
CREATED:20260406T203616Z
LAST-MODIFIED:20260406T203619Z
UID:10013190-1775900700-1775905200@ruralnewfamilies.com
SUMMARY:🥚🐇 Shawano Park and Recreation Presents: Annual Egg Hunt in the Park
DESCRIPTION:Our annual Egg Hunt in the Park is just around the corner!!There are nearly 6\,000 eggs and a variety of gift baskets that are given away at this event. You definitely don’t want to miss it!Kids will be split up in three different age groups at the event. Please arrive a few minutes early to get to your spots. This event starts at 10am sharp and goes very quickly!See you at Kuckuk Park on Saturday\, April 11th! (rescheduled from April 4th due to weather) \n\n\n\nBring your camera for photo ops with the Easter Bunny!
URL:https://ruralnewfamilies.com/event/%f0%9f%a5%9a%f0%9f%90%87-shawano-park-and-recreation-presents-annual-egg-hunt-in-the-park-3/
LOCATION:Kuckuk Park\, Oak Park Drive 700\, Shawano\, Wisconsin\, 54166\, United States
CATEGORIES:Community Events & Parades,Easter,Easter Bunny,Egg Hunt,FREE,Holidays,Kids Outdoors,Outdoor Event,Park and Rec,Youth & Family Programs
GEO:44.7678481;-88.6160803
X-APPLE-STRUCTURED-LOCATION;VALUE=URI;X-ADDRESS=Kuckuk Park Oak Park Drive 700 Shawano Wisconsin 54166 United States;X-APPLE-RADIUS=500;X-TITLE=Oak Park Drive 700:geo:-88.6160803,44.7678481
END:VEVENT
BEGIN:VEVENT
DTSTART;TZID=America/Chicago:20260411T100000
DTEND;TZID=America/Chicago:20260411T110000
DTSTAMP:20260424T090334
CREATED:20260410T220303Z
LAST-MODIFIED:20260410T220305Z
UID:10012760-1775901600-1775905200@ruralnewfamilies.com
SUMMARY:🦌 Author Meet and Greet: Deer Mother Presentation
DESCRIPTION:FREE Presentation Come\, learn\, and hear about the author’s interactions and experiences that occurred to make this book possible. Meet and chat with the author as well. Books available for order/purchase. Book Description: “When we built our home on a small\, wooded lake in Northern Wisconsin\, we looked forward to a life surrounded by wild creatures. We never imagined that we would be sharing this place with a family of deer who would be staring in our windows when we woke up in the morning. Deer Mother is an intimate family photo album that chronicles the life of one very friendly White-tailed Deer and her many fun-loving fawns\, over the years. Daisy is a skilled and dedicated mother\, and her fawns have brought us immense joy\, and many fond memories\, many of which are illustrated in this\, my first self-published book of nature photography. In his 50th year of chasing the light\, photographer David Heritsch has worked in many genres\, including sports\, commercial\, and wedding photography\, but now concentrates mostly on his lifelong passion for wildlife photography. He lives with his wife\, Pam\, on a small lake in the northeast corner of Wisconsin. They share this space with over 50 species of birds\, amphibians\, and mammals that they have counted in the woods\, on the lake\, and in the sky that surrounds.”FREE RSVP (helps with seating)
URL:https://ruralnewfamilies.com/event/%f0%9f%a6%8c-author-meet-and-greet-deer-mother-presentation/
LOCATION:Navarino Nature Center\, Lindsten Road W5646\, Shiocton\, WI\, 54170\, United States
CATEGORIES:FREE,Music, Arts, Culture, & Tours
GEO:44.6345188;-88.5130301
X-APPLE-STRUCTURED-LOCATION;VALUE=URI;X-ADDRESS=Navarino Nature Center Lindsten Road W5646 Shiocton WI 54170 United States;X-APPLE-RADIUS=500;X-TITLE=Lindsten Road W5646:geo:-88.5130301,44.6345188
END:VEVENT
BEGIN:VEVENT
DTSTART;TZID=America/Chicago:20260411T110000
DTEND;TZID=America/Chicago:20260411T120000
DTSTAMP:20260424T090334
CREATED:20260208T060445Z
LAST-MODIFIED:20260208T060446Z
UID:10012480-1775905200-1775908800@ruralnewfamilies.com
SUMMARY:🐊Doc's Zoo - Alligator Feeding
DESCRIPTION:Come on out and visit Doc’s Zoo!  Alligators get fed every Saturday at 11am (sharp).  You’ll want to get there early enough to park and find your spot.  Leave enough time to wander around the zoo and see ALL the amazing animals.  If you run early – check out Doc’s Amazing Breakfast at Doc’s Timeline Saloon served from 7-11. \n\n\n\nBe sure to visit the indoor and outdoor animals.  If you have older kids\, be sure to check out Doc’s Museum as well.
URL:https://ruralnewfamilies.com/event/%f0%9f%90%8adocs-zoo-alligator-feeding-19/2026-04-11/
LOCATION:Doc’s Harley-Davidson\, Wisconsin 29 w2709\, Bonduel\, WI\, 54107\, United States
CATEGORIES:FREE,Kids Outdoors,Zoo
GEO:44.704505;-88.374849
X-APPLE-STRUCTURED-LOCATION;VALUE=URI;X-ADDRESS=Doc’s Harley-Davidson Wisconsin 29 w2709 Bonduel WI 54107 United States;X-APPLE-RADIUS=500;X-TITLE=Wisconsin 29 w2709:geo:-88.374849,44.704505
END:VEVENT
BEGIN:VEVENT
DTSTART;TZID=America/Chicago:20260411T110000
DTEND;TZID=America/Chicago:20260411T140000
DTSTAMP:20260424T090334
CREATED:20260330T190030Z
LAST-MODIFIED:20260410T203827Z
UID:10012986-1775905200-1775916000@ruralnewfamilies.com
SUMMARY:⛑️🚑🚓🏎️ Touch a Truck - Open House
DESCRIPTION:Meet the Firefighters\, and see new equipment. Featuring many vehicles:  \n\n\n\n\nVintage Firetrucks\n\n\n\nAmbulance\n\n\n\nPolice\n\n\n\nStock Car\n\n\n\nAspirus Helicopter (weather and emergencies permitting)\n\n\n\nWisconsin Star Cars\n\n\n\nWaupaca County\n\n\n\nManawa Rural Fire Department\n\n\n\nKarl’s Transport\n\n\n\nAmerican Towing and Recovery\n\n\n\nC&M Transportation\n\n\n\nBear Creek Fire\n\n\n\nPella Fire\n\n\n\nApex Fire Protection\n\n\n\nKleczka Construction\n\n\n\nShawano County\n\n\n\nGo Green Quarry\n\n\n\nFWD Museum\n\n\n\nDump Truck\, and many more.\n\n\n\nFood and refreshments available.\n\n\n\nFamily-friendly\, come check it out.
URL:https://ruralnewfamilies.com/event/%e2%9b%91%ef%b8%8f%f0%9f%9a%91%f0%9f%9a%93%f0%9f%8f%8e%ef%b8%8f-touch-a-truck-open-house/
LOCATION:Embarrass Fire Department\, Depot Street 130\, Embarrass\, Wisconsin\, 54933\, United States
CATEGORIES:Child Safety,Community Events & Parades,Community Resource,FREE,Music, Arts, Culture, & Tours,Open House,Volunteer Opportunity,Youth & Family Programs
GEO:44.6647076;-88.7061712
X-APPLE-STRUCTURED-LOCATION;VALUE=URI;X-ADDRESS=Embarrass Fire Department Depot Street 130 Embarrass Wisconsin 54933 United States;X-APPLE-RADIUS=500;X-TITLE=Depot Street 130:geo:-88.7061712,44.6647076
END:VEVENT
BEGIN:VEVENT
DTSTART;TZID=America/Chicago:20260411T120000
DTEND;TZID=America/Chicago:20260411T140000
DTSTAMP:20260424T090334
CREATED:20260410T221336Z
LAST-MODIFIED:20260411T021427Z
UID:10013213-1775908800-1775916000@ruralnewfamilies.com
SUMMARY:🚣🛶 Warm‑Water Winter Paddle at Lake Columbia
DESCRIPTION:Join us for a bucket‑list paddle on one of Wisconsin’s most unique winter waters. Lake Columbia is a 378‑acre warm‑water lake created as a cooling pond for Alliant Energy’s 1\,100‑megawatt plant. Water drawn from the Wisconsin River becomes superheated during the cooling process and is released into the lake — keeping it surprisingly warm year‑round. In winter\, temps near the plant can reach 70°\, and in summer they can exceed 100°.This warm water meeting cold air creates a surreal landscape: rolling fog\, frost‑covered trees\, ice‑crusted grasses\, and shimmering hoar frost on everything from fences to rocks. It’s a photographer’s dream and a great place to spot eagles.What to Expect:* Out‑and‑back paddle; choose your route based on conditions* Lake is ~1.75 miles long and under 0.5 miles wide* A narrow dike runs almost the full length of the lake* Ideal conditions: sunny\, calm dayWhat to Bring:* Kayak or paddleboard or canoe* PFD (required)* Dry bag\, warm layers\, and winter paddling gear* Camera or phone for photos* Water & snacks* Lunch on your own afterwardsPlease RSVP at shawanopaddlers@gmail.com\, thank you!Who’s Welcome:Anyone who wants a unique\, warm‑water winter paddle with great scenery and a relaxed pace.
URL:https://ruralnewfamilies.com/event/%f0%9f%9a%a3%f0%9f%9b%b6-warm-water-winter-paddle-at-lake-columbia/
LOCATION:Lake Columbia\, Portage\, WI\, United States
CATEGORIES:Community Events & Parades,FREE,Outdoor Event,Outdoor Recreation,Plan Ahead,RSVP - Pre-Registration Required,Youth & Family Programs
GEO:43.46049;-89.42076
END:VEVENT
BEGIN:VEVENT
DTSTART;TZID=America/Chicago:20260411T130000
DTEND;TZID=America/Chicago:20260411T160000
DTSTAMP:20260424T090334
CREATED:20260411T163729Z
LAST-MODIFIED:20260411T163731Z
UID:10012177-1775912400-1775923200@ruralnewfamilies.com
SUMMARY:Plant Bingo
DESCRIPTION:Get a bingo\, win a plant!Come join us as Tri-County 4-H\, along with the Lind Center Green House host a Plant Bingo.🌵🪴 We will have a variety of plant prizes and accessories! \n\n\n\nDid you forget a dauber?  We have them for $1.  Have your own favorite?  You can use your own.
URL:https://ruralnewfamilies.com/event/plant-bingo/
LOCATION:Rio Lobo\, E6485 County Rd F\, Weyauwega\, Wisconsin\, 54983\, United States
CATEGORIES:Fundraiser
END:VEVENT
BEGIN:VEVENT
DTSTART;TZID=America/Chicago:20260411T160000
DTEND;TZID=America/Chicago:20260411T200000
DTSTAMP:20260424T090334
CREATED:20260410T203134Z
LAST-MODIFIED:20260410T204304Z
UID:10013225-1775923200-1775937600@ruralnewfamilies.com
SUMMARY:2nd Annual Social Pow Wow
DESCRIPTION: Join Us This Saturday! \n\n\n\nCome be part of our Second Annual Pow Wow this Saturday\, the 11th! Everyone is welcome to celebrate\, learn\, and experience the richness of our Native culture. \n\n\n\nEnjoy over 13 Native craft vendors and a delicious variety of traditional foods like frybread\, wild rice casserole\, Indian tacos\, chili\, hull corn soup\, and wild rice with berries.  \n\n\n\n Free admission and a wonderful opportunity to experience a pow wow firsthand! \n\n\n\n Doors open at 4:00 PM \n\n\n\n Grand Entry at 5:00 PM \n\n\n\nYou won’t want to miss this meaningful and memorable event! \n\n\n\n Delicious Food Available for Purchase: Frybread\, Tacos\, Chili\, Hull Corn Soup\, Wild Rice Casserole\, Wild Rice & Berries. \n\n\n\n Featuring: Native American Vendors\, Raffles and more! \n\n\n\n Master of Ceremonies: Mark Denning \n\n\n\n Invited Drums: GI’Tasse\, Young War Party\, Red Nation Boyz \n\n\n\nVeteran’s Group: Veteran’s of the Menominee Nation \n\n\n\nBring your friends and family to enjoy an evening filled with music\, dance\, and rich cultural traditions. All are welcome—come as you are and be part of something special!
URL:https://ruralnewfamilies.com/event/2nd-annual-social-pow-wow/
LOCATION:Shawano High School\, County Road B 220\, Shawano\, WI\, 54166\, United States
CATEGORIES:Community Events & Parades,Craft/Vendor Shows,FREE,Inclusive Events,Indoor Event,Life Stages And Special Communities,Music, Arts, Culture, & Tours,Youth & Family Programs
GEO:44.7597082;-88.6014084
X-APPLE-STRUCTURED-LOCATION;VALUE=URI;X-ADDRESS=Shawano High School County Road B 220 Shawano WI 54166 United States;X-APPLE-RADIUS=500;X-TITLE=County Road B 220:geo:-88.6014084,44.7597082
END:VEVENT
BEGIN:VEVENT
DTSTART;TZID=America/Chicago:20260411T190000
DTEND;TZID=America/Chicago:20260411T210000
DTSTAMP:20260424T090334
CREATED:20240404T152054Z
LAST-MODIFIED:20240404T153249Z
UID:10003453-1775934000-1775941200@ruralnewfamilies.com
SUMMARY:AA Meeting
DESCRIPTION:
URL:https://ruralnewfamilies.com/event/aa-meeting-2/2026-04-11/
LOCATION:Clintonville United Methodist Church\, 13th Street 24\, Clintonville\, Wisconsin\, 54929\, United States
CATEGORIES:AA/NA Meetings
GEO:44.6252503;-88.7595837
X-APPLE-STRUCTURED-LOCATION;VALUE=URI;X-ADDRESS=Clintonville United Methodist Church 13th Street 24 Clintonville Wisconsin 54929 United States;X-APPLE-RADIUS=500;X-TITLE=13th Street 24:geo:-88.7595837,44.6252503
END:VEVENT
BEGIN:VEVENT
DTSTART;TZID=America/Chicago:20260412T000000
DTEND;TZID=America/Chicago:20260412T235959
DTSTAMP:20260424T090334
CREATED:20260316T223631Z
LAST-MODIFIED:20260316T223634Z
UID:10012888-1775952000-1776038399@ruralnewfamilies.com
SUMMARY:Wisconsin Open Enrollment Application Deadline
DESCRIPTION:The Public School Open Enrollment period is open!Fill out the form for alternative in-person public school options and also virtual and virtual hybrid partnership school options. \n\n\n\nFind the form and FAQ here: https://dpi.wi.gov/open-enrollment \n\n\n\nWhat is Open Enrollment?\n\n\n\nThe inter-district public school open enrollment program allows parents to apply for their children to attend public school in a school district other than the one in which they reside. \n\n\n\nWho can apply?\n\n\n\nAny Wisconsin resident in 4K to grade 12 may apply to attend a nonresident school district under the open enrollment program. However\, a child may transfer to a nonresident school district for early childhood education or 4K only if the child’s resident school district offers the same type of program and only if the child is eligible for that program in the resident school district. \n\n\n\n\n\n\n\nThere was a question a while back regarding open-enrollment. \n\n\n\nAccording to the WI DPI\, these are the only acceptable reasons a resident district can deny an open-enrollment request. \n\n\n\nPlease note that it does not say “too many students have applied to out-of-district schools”. It also doesn’t allow attendance records at the resident school to determine open-enrollment status to an out-of-district school. \n\n\n\nThis is just for Open Enrollment\, this does not include the School Voucher Programs. \n\n\n\nDeadline for Open Enrollment (public school) is April 30th \n\n\n\nDeadline for School Choice (private school) is April 17th. \n\n\n\nI also found out that there is a non-profit organization advocating for Virtual and Open-enrollment students. It’s called Parents for School Options. https://www.parentsforschooloptions.org/ \n\n\n\nOpen Enrollment: https://sms.dpi.wi.gov/OEParent/faqs.aspx \n\n\n\nInfo for the Wisconsin School Choice program can be found here: https://schoolchoicewi.org/school-choice-faqs/ \n\n\n\nVirtual School Options for Wisconsin Families
URL:https://ruralnewfamilies.com/event/wisconsin-open-enrollment-application-deadline-3/2026-04-12/
LOCATION:Wisconsin
CATEGORIES:Plan Ahead,RSVP - Pre-Registration Required
END:VEVENT
BEGIN:VEVENT
DTSTART;TZID=America/Chicago:20260412T000000
DTEND;TZID=America/Chicago:20260412T235959
DTSTAMP:20260424T090334
CREATED:20260331T190056Z
LAST-MODIFIED:20260331T190057Z
UID:10013056-1775952000-1776038399@ruralnewfamilies.com
SUMMARY:🎳 Kids Bowl Free
DESCRIPTION:It’s that time when families start planning on what they’re going to do for the summer! \n\n\n\nLet Kids Bowl Free help!  Each registered child (check each center for age requirements) gets to bowl 2 games free every single day!  (Check individual bowling alleys for shoe rental details) all summer long at NO Cost to Parents!  (But plan for the concessions…. my kids LOVE bowling alley food\, just sayin’) \n\n\n\nParents\, do you want to bowl with your kids? Then you’ll want to check out the Family Pass! This allows parents\, older siblings and babysitters to bowl alongside the registered kids. This is a one-time payment that allows up to 4 adults to bowl 2 games free all summer long\, with your Kids Bowl Free registered children. (You can add the family pass on at any time during the season.) \n\n\n\nHow it works: \n\n\n\n\nLocate a Kids Bowl Free participating location near you (this is the only one covered all summer)\n\n\n\nRegister – Create your Kids Bowl Free account and register your kids.  Decide if the Family Pass is right for your family.\n\n\n\nHave Fun – Make Memories – Go Screen-Free — Make New Friends–  Bowl 2 games free every day\, all summer long! \n\n\n\n\nThings to Note: \n\n\n\n\nEach bowling alley determines the times the program is active. Program begins April 30th! You can find the details here when you choose a location near you. Dates and Times will vary! (I’ve seen some start as early as April 30th and as late as June 1st and end between August 30-Sept 2) I’ve seen only 1 with hours available 7 days a week.\n\n\n\nCheck each location for age requirements. I’ve seen them range from 2-18 with some ending as early as 15.\n\n\n\nI found at least 8 participating centers within 60 minutes of Clintonville.\n\n\n\nThe Registration is not transferable between the different bowling centers.
URL:https://ruralnewfamilies.com/event/%f0%9f%8e%b3-kids-bowl-free-2/2026-04-12/
LOCATION:Wisconsin
CATEGORIES:FREE,Inclusive Events,Indoor Event,Plan Ahead,RSVP - Pre-Registration Required,Sporting Events,Teen
END:VEVENT
END:VCALENDAR