BEGIN:VCALENDAR
VERSION:2.0
PRODID:-//Rural Northeast Wisconsin Families - ECPv6.15.20//NONSGML v1.0//EN
CALSCALE:GREGORIAN
METHOD:PUBLISH
X-ORIGINAL-URL:https://ruralnewfamilies.com
X-WR-CALDESC:Events for Rural Northeast Wisconsin Families
REFRESH-INTERVAL;VALUE=DURATION:PT1H
X-Robots-Tag:noindex
X-PUBLISHED-TTL:PT1H
BEGIN:VTIMEZONE
TZID:America/Chicago
BEGIN:DAYLIGHT
TZOFFSETFROM:-0600
TZOFFSETTO:-0500
TZNAME:CDT
DTSTART:20250309T080000
END:DAYLIGHT
BEGIN:STANDARD
TZOFFSETFROM:-0500
TZOFFSETTO:-0600
TZNAME:CST
DTSTART:20251102T070000
END:STANDARD
BEGIN:DAYLIGHT
TZOFFSETFROM:-0600
TZOFFSETTO:-0500
TZNAME:CDT
DTSTART:20260308T080000
END:DAYLIGHT
BEGIN:STANDARD
TZOFFSETFROM:-0500
TZOFFSETTO:-0600
TZNAME:CST
DTSTART:20261101T070000
END:STANDARD
BEGIN:DAYLIGHT
TZOFFSETFROM:-0600
TZOFFSETTO:-0500
TZNAME:CDT
DTSTART:20270314T080000
END:DAYLIGHT
BEGIN:STANDARD
TZOFFSETFROM:-0500
TZOFFSETTO:-0600
TZNAME:CST
DTSTART:20271107T070000
END:STANDARD
END:VTIMEZONE
BEGIN:VEVENT
DTSTART;TZID=America/Chicago:20260418T100000
DTEND;TZID=America/Chicago:20260418T120000
DTSTAMP:20260425T092717
CREATED:20260404T043130Z
LAST-MODIFIED:20260404T043132Z
UID:10013189-1776506400-1776513600@ruralnewfamilies.com
SUMMARY:Healthy Kids Day
DESCRIPTION:Mark your calendars for Saturday\, April 18 and join us at the Oshkosh Community YMCA for a morning packed with fun\, family\, and healthy activities — all FREE and open to the community!  \n\n\n\nFrom a bounce house to swimming and ice skating\, plus Tot Town\, family games\, and food trucks\, there’s something for kids of all ages to enjoy. It’s the perfect way to kick off summer\, get active together\, and discover all the amazing programs the Y has planned for the season ahead.
URL:https://ruralnewfamilies.com/event/healthy-kids-day/
LOCATION:Wisconsin
CATEGORIES:Community Events & Parades,Community Resource,FREE,Health and Safety,Indoor Recreation,Swimming Pool/Splash Pad,Youth & Family Programs
END:VEVENT
END:VCALENDAR