BEGIN:VCALENDAR
VERSION:2.0
PRODID:-//Rural Northeast Wisconsin Families - ECPv6.15.20//NONSGML v1.0//EN
CALSCALE:GREGORIAN
METHOD:PUBLISH
X-WR-CALNAME:Rural Northeast Wisconsin Families
X-ORIGINAL-URL:https://ruralnewfamilies.com
X-WR-CALDESC:Events for Rural Northeast Wisconsin Families
REFRESH-INTERVAL;VALUE=DURATION:PT1H
X-Robots-Tag:noindex
X-PUBLISHED-TTL:PT1H
BEGIN:VTIMEZONE
TZID:America/Chicago
BEGIN:DAYLIGHT
TZOFFSETFROM:-0600
TZOFFSETTO:-0500
TZNAME:CDT
DTSTART:20250309T080000
END:DAYLIGHT
BEGIN:STANDARD
TZOFFSETFROM:-0500
TZOFFSETTO:-0600
TZNAME:CST
DTSTART:20251102T070000
END:STANDARD
BEGIN:DAYLIGHT
TZOFFSETFROM:-0600
TZOFFSETTO:-0500
TZNAME:CDT
DTSTART:20260308T080000
END:DAYLIGHT
BEGIN:STANDARD
TZOFFSETFROM:-0500
TZOFFSETTO:-0600
TZNAME:CST
DTSTART:20261101T070000
END:STANDARD
BEGIN:DAYLIGHT
TZOFFSETFROM:-0600
TZOFFSETTO:-0500
TZNAME:CDT
DTSTART:20270314T080000
END:DAYLIGHT
BEGIN:STANDARD
TZOFFSETFROM:-0500
TZOFFSETTO:-0600
TZNAME:CST
DTSTART:20271107T070000
END:STANDARD
END:VTIMEZONE
BEGIN:VEVENT
DTSTART;TZID=America/Chicago:20260420T000000
DTEND;TZID=America/Chicago:20260420T235959
DTSTAMP:20260421T193415
CREATED:20260331T190056Z
LAST-MODIFIED:20260331T190057Z
UID:10013060-1776643200-1776729599@ruralnewfamilies.com
SUMMARY:🎳 Kids Bowl Free
DESCRIPTION:It’s that time when families start planning on what they’re going to do for the summer! \n\n\n\nLet Kids Bowl Free help!  Each registered child (check each center for age requirements) gets to bowl 2 games free every single day!  (Check individual bowling alleys for shoe rental details) all summer long at NO Cost to Parents!  (But plan for the concessions…. my kids LOVE bowling alley food\, just sayin’) \n\n\n\nParents\, do you want to bowl with your kids? Then you’ll want to check out the Family Pass! This allows parents\, older siblings and babysitters to bowl alongside the registered kids. This is a one-time payment that allows up to 4 adults to bowl 2 games free all summer long\, with your Kids Bowl Free registered children. (You can add the family pass on at any time during the season.) \n\n\n\nHow it works: \n\n\n\n\nLocate a Kids Bowl Free participating location near you (this is the only one covered all summer)\n\n\n\nRegister – Create your Kids Bowl Free account and register your kids.  Decide if the Family Pass is right for your family.\n\n\n\nHave Fun – Make Memories – Go Screen-Free — Make New Friends–  Bowl 2 games free every day\, all summer long! \n\n\n\n\nThings to Note: \n\n\n\n\nEach bowling alley determines the times the program is active. Program begins April 30th! You can find the details here when you choose a location near you. Dates and Times will vary! (I’ve seen some start as early as April 30th and as late as June 1st and end between August 30-Sept 2) I’ve seen only 1 with hours available 7 days a week.\n\n\n\nCheck each location for age requirements. I’ve seen them range from 2-18 with some ending as early as 15.\n\n\n\nI found at least 8 participating centers within 60 minutes of Clintonville.\n\n\n\nThe Registration is not transferable between the different bowling centers.
URL:https://ruralnewfamilies.com/event/%f0%9f%8e%b3-kids-bowl-free-2/2026-04-20/
LOCATION:Wisconsin
CATEGORIES:FREE,Inclusive Events,Indoor Event,Plan Ahead,RSVP - Pre-Registration Required,Sporting Events,Teen
END:VEVENT
BEGIN:VEVENT
DTSTART;TZID=America/Chicago:20260420T000000
DTEND;TZID=America/Chicago:20260420T235959
DTSTAMP:20260421T193415
CREATED:20260416T052131Z
LAST-MODIFIED:20260420T061056Z
UID:10013246-1776643200-1776729599@ruralnewfamilies.com
SUMMARY:🔖 Cabin Fever Reliever Sale
DESCRIPTION:🚨 Spring Cleaning and Tax Break Sale (4/13-4/27) 🚨\n\n\n\nIt’s Spring Time- We’re Clearing out the Cobwebs and Saving Money!  (The Tax Man needs his cut). \n\n\n\nWinter is over (finally 🙌)…Parents are DONE with being cooped up…And they are actively looking for things to do\, places to go\, and businesses to try. \n\n\n\n👀 The question is: will they find YOU? \n\n\n\n✅ Business Directory Sale\n\n\n\n10% off All Business Directory Listings\n\n\n\nPerfect For: \n\n\n\n\n🎉 Birthday Party Spots\n\n\n\n🧼🫧House-Cleaning Services\n\n\n\n🪠🧑‍🔧All Necessary Home Services (Plumbers\, Handymen\, Appliance Repair\, Electricians\, Storm Assessment\, Roofers\, etc)\n\n\n\n☔🤸🏃 Rainy Day Play\n\n\n\n🐎 Lessons (Music\, Horse-Riding\, Tutoring\, etc)\n\n\n\n🚲🎣 Outdoor Recreation\n\n\n\n……. and everything else families are looking for right now. (including things they might have forgotten.)\n\n\n\n\n✅ Restaurant Guide Sale\n\n\n\n10% off All Restaurant Guide Listings\n\n\n\nLet’s help families: \n\n\n\n\n🍽️ Find Your Restaurant\n\n\n\n👀 Discover New Places and Menu Items or Hours\n\n\n\n👨‍👨‍👦‍👦 Discover your Kids Eat Free deals\n\n\n\n🎉🎊Celebration Options:\n\n🎓Surviving Forward Testing and Pre-ACTs (because YES… they deserve it!)\n\n\n\n💃🕺Prom\n\n\n\n🎓 Graduation\n\n\n\n📜👷 College or Job Acceptance\n\n\n\n🤰 Mother’s Day/Baby Showers\n\n\n\n🧰 Father’s Day/ Grandparents Day/ Holidays\n\n\n\n🎉Parties (Birthday\, Anniversary\, Retirement\, just because)\n\n\n\n\n\n🍱🚚 Food Truck Locations\, Menus and Schedules\n\n\n\n\n🚀 Why jump in now?\n\n\n\nBecause families are:✔️ Planning spring outings✔️ Booking parties✔️ Looking for easy dinner wins✔️ Checking the calendar DAILY 🗓️  \n\n\n\n👉 And if you’re not listed… you’re getting skipped. \n\n\n\n💡 The Best Part?\n\n\n\n✔️ Our site is ALWAYS FREE for families✔️ Which means more eyes on YOUR business✔️ And more chances to turn clicks into customers \n\n\n\n⏳ Sale ends April 27 — don’t overthink this\n\n\n\nYou can keep waiting…OR you can get in front of the families already looking. \n\n\n\n👉 Get listed. Get seen. Get customers. \n\n\n\nClick Here for the Business Directory Form – Use Code CabinFever26 for your 10% discount. \n\n\n\nClick here for the Restaurant Guide Form – Use Code CabinFever26 for your 10% discount. \n\n\n\nFarm Market/Stand Guide – Pay What You Can
URL:https://ruralnewfamilies.com/event/%f0%9f%94%96-cabin-fever-reliever-sale/2026-04-20/
LOCATION:Wisconsin
ATTACH;FMTTYPE=image/png:https://ruralnewfamilies.com/wp-content/uploads/2026/04/Cabin-Fever-Reliever-Sale-April-2026.png
END:VEVENT
BEGIN:VEVENT
DTSTART;TZID=America/Chicago:20260420T000000
DTEND;TZID=America/Chicago:20260420T235959
DTSTAMP:20260421T193415
CREATED:20260419T032746Z
LAST-MODIFIED:20260419T033335Z
UID:10015167-1776643200-1776729599@ruralnewfamilies.com
SUMMARY:Free Meals for those Impacted by Floods
DESCRIPTION:Wolf River Beavers 4-H Free Meal Monday Night 6p-7p\n\n\n\n🍝 For anyone in the Nichols and Shiocton communities impacted by the flooding. \n\n\n\n4-H’ers will be individually packaging ready-to-eat meal bags. (Lasagna\, garlic bread\, corn\, salad\, and a dessert all in a bag with plastic silverware).  Grab a meal for yourself or take as many as needed to deliver to friends\, family or neighbors.We will have volunteers making deliveries on Monday night.  Just send us a message with the names and addresses of anyone who needs a meal delivered. \n\n\n\n\n\n**Note** If you have more events you’d like added to this event – please add the details to our Public FB group and I will get them added ASAP.
URL:https://ruralnewfamilies.com/event/free-meals-for-those-impacted-by-floods/
LOCATION:Tyson Foods- New London\, 3620 County Rd D\, New London\, Wisconsin\, 54961\, United States
CATEGORIES:Community Resource,FREE
END:VEVENT
BEGIN:VEVENT
DTSTART;TZID=America/Chicago:20260420T070000
DTEND;TZID=America/Chicago:20260420T100000
DTSTAMP:20260421T193415
CREATED:20260420T063152Z
LAST-MODIFIED:20260420T063154Z
UID:10015214-1776668400-1776679200@ruralnewfamilies.com
SUMMARY:Free Drive-Thru Breakfast
DESCRIPTION:With flooding impacting the New London area\, our New London team will be hosting a drive-thru breakfast this Monday from 7 AM–10 AM. \n\n\n\nIf you’re in the area and could use a meal or a quick pick-me-up\, please stop by. We are prepared to serve up to 500 breakfasts. \n\n\n\nIn times like these\, community matters the most. So\, please join us tomorrow as we continue to support one another!
URL:https://ruralnewfamilies.com/event/free-drive-thru-breakfast/
LOCATION:Ellsworth Cooperative Creamery\, 1005 Orville Dr\, New London\, Wisconsin\, 54961\, United States
CATEGORIES:Community Events & Parades,Community Resource,FREE
END:VEVENT
BEGIN:VEVENT
DTSTART;TZID=America/Chicago:20260420T080000
DTEND;TZID=America/Chicago:20260420T170000
DTSTAMP:20260421T193415
CREATED:20260404T022756Z
LAST-MODIFIED:20260404T022759Z
UID:10013175-1776672000-1776704400@ruralnewfamilies.com
SUMMARY:Free Library Programming
DESCRIPTION:
URL:https://ruralnewfamilies.com/event/free-library-programming/2026-04-20/
LOCATION:Birnamwood Library\, 337 Main St\, Birnamwood\, Wisconsin\, United States
CATEGORIES:FREE,Library/Museum
GEO:44.9292549;-89.2098876
X-APPLE-STRUCTURED-LOCATION;VALUE=URI;X-ADDRESS=Birnamwood Library 337 Main St Birnamwood Wisconsin United States;X-APPLE-RADIUS=500;X-TITLE=337 Main St:geo:-89.2098876,44.9292549
END:VEVENT
BEGIN:VEVENT
DTSTART;TZID=America/Chicago:20260420T101500
DTEND;TZID=America/Chicago:20260420T111500
DTSTAMP:20260421T193415
CREATED:20260128T041836Z
LAST-MODIFIED:20260128T041921Z
UID:10012198-1776680100-1776683700@ruralnewfamilies.com
SUMMARY:Babygarten
DESCRIPTION:An event for babies!  Come\, play\, learn and grow together!  \n\n\n\nActivities include: \n\n\n\n\nStorytime and singing\n\n\n\nNursery Rhymes\n\n\n\nSocial Playtime\n\n\n\nCraft (once per month)
URL:https://ruralnewfamilies.com/event/babygarten-2/2026-04-20/
LOCATION:Marion Public Library\, North Main Street 120\, Marion\, Wisconsin\, 54950\, United States
CATEGORIES:FREE,Indoor Event,Library/Museum,Life Stages And Special Communities,Storytime,Youth & Family Programs
GEO:44.6712452;-88.8889175
X-APPLE-STRUCTURED-LOCATION;VALUE=URI;X-ADDRESS=Marion Public Library North Main Street 120 Marion Wisconsin 54950 United States;X-APPLE-RADIUS=500;X-TITLE=North Main Street 120:geo:-88.8889175,44.6712452
END:VEVENT
BEGIN:VEVENT
DTSTART;TZID=America/Chicago:20260420T103000
DTEND;TZID=America/Chicago:20260420T113000
DTSTAMP:20260421T193415
CREATED:20260420T061830Z
LAST-MODIFIED:20260420T061832Z
UID:10015205-1776681000-1776684600@ruralnewfamilies.com
SUMMARY:Oconto Falls Playgroup
DESCRIPTION:Join us for playgroup every Monday as your schedule allows!  Activities for children ages infants to 4/5 years old!  Toy stations\, stories and snacks!
URL:https://ruralnewfamilies.com/event/oconto-falls-playgroup-2/2026-04-20/
LOCATION:Oconto Falls Library\, North Main Street 251\, Oconto Falls\, WI\, 54154\, United States
CATEGORIES:FREE,Library/Museum,Storytime
GEO:44.876309;-88.1455453
X-APPLE-STRUCTURED-LOCATION;VALUE=URI;X-ADDRESS=Oconto Falls Library North Main Street 251 Oconto Falls WI 54154 United States;X-APPLE-RADIUS=500;X-TITLE=North Main Street 251:geo:-88.1455453,44.876309
END:VEVENT
BEGIN:VEVENT
DTSTART;TZID=America/Chicago:20260420T110000
DTEND;TZID=America/Chicago:20260420T120000
DTSTAMP:20260421T193415
CREATED:20240404T154704Z
LAST-MODIFIED:20240404T154706Z
UID:10004910-1776682800-1776686400@ruralnewfamilies.com
SUMMARY:AA Meeting - Back to Basics
DESCRIPTION:
URL:https://ruralnewfamilies.com/event/aa-meeting-back-to-basics/2026-04-20/
LOCATION:First Presbyterian Church\, West Presbyterian Street 100\, Shawano\, WI\, 54166\, United States
CATEGORIES:AA/NA Meetings
GEO:44.7785164;-88.6096198
X-APPLE-STRUCTURED-LOCATION;VALUE=URI;X-ADDRESS=First Presbyterian Church West Presbyterian Street 100 Shawano WI 54166 United States;X-APPLE-RADIUS=500;X-TITLE=West Presbyterian Street 100:geo:-88.6096198,44.7785164
END:VEVENT
BEGIN:VEVENT
DTSTART;TZID=America/Chicago:20260420T140000
DTEND;TZID=America/Chicago:20260420T150000
DTSTAMP:20260421T193415
CREATED:20260419T034302Z
LAST-MODIFIED:20260419T034304Z
UID:10013158-1776693600-1776697200@ruralnewfamilies.com
SUMMARY:🌍 Homeschool Hop: Earth Day
DESCRIPTION:Homeschool families celebrate Earth Day with an upcycled project\, something to plant\, and a snack!
URL:https://ruralnewfamilies.com/event/%f0%9f%8c%8d-homeschool-hop-earth-day/
LOCATION:Shawano County Library\, 128 S Sawyer St\, Shawano\, WI 54166\, USA\, South Sawyer Street 128\, Shawano\, WI\, 54166\, United States
CATEGORIES:FREE,Homeschool/Virtual School,Library/Museum
GEO:44.7810031;-88.6071624
X-APPLE-STRUCTURED-LOCATION;VALUE=URI;X-ADDRESS=Shawano County Library 128 S Sawyer St Shawano WI 54166 USA South Sawyer Street 128 Shawano WI 54166 United States;X-APPLE-RADIUS=500;X-TITLE=South Sawyer Street 128:geo:-88.6071624,44.7810031
END:VEVENT
BEGIN:VEVENT
DTSTART;TZID=America/Chicago:20260420T150000
DTEND;TZID=America/Chicago:20260420T190000
DTSTAMP:20260421T193415
CREATED:20260419T040028Z
LAST-MODIFIED:20260421T231158Z
UID:10015233-1776697200-1776711600@ruralnewfamilies.com
SUMMARY:Kids Eat FREE Today -
DESCRIPTION:We have a couple of Local Restaurants offering to let our Kids Eat FREE!  Today is one of those days! \n\n\n\n \n\n\n\nFind all the details and a few more options here:  \n\n\n\n➡️ https://ruralnewfamilies.com/2024/01/24/restaurant-guide/ \n\n\n\nDon’t MISS Our Cabin Fever Reliever Sale to get into the Guide and Save Money!
URL:https://ruralnewfamilies.com/event/kids-eat-free-today-5/2026-04-20/
LOCATION:Wisconsin
CATEGORIES:Youth & Family Programs
ATTACH;FMTTYPE=image/png:https://ruralnewfamilies.com/wp-content/uploads/2026/01/7df5c2ac-d6ae-4e93-b796-9db81ed50ef4.png
END:VEVENT
BEGIN:VEVENT
DTSTART;TZID=America/Chicago:20260420T173000
DTEND;TZID=America/Chicago:20260420T190000
DTSTAMP:20260421T193415
CREATED:20260416T161504Z
LAST-MODIFIED:20260416T161506Z
UID:10015105-1776706200-1776711600@ruralnewfamilies.com
SUMMARY:Clintonville BOE Finance Committee Meeting
DESCRIPTION:Finance Committee Meeting Notice 4-20-26
URL:https://ruralnewfamilies.com/event/clintonville-boe-finance-committee-meeting-2/
LOCATION:Clintonville High School\, Green Tree Road 64\, Clintonville\, WI\, 54929\, United States
CATEGORIES:Community Meetings,Election,School Board
GEO:44.6365085;-88.7552863
X-APPLE-STRUCTURED-LOCATION;VALUE=URI;X-ADDRESS=Clintonville High School Green Tree Road 64 Clintonville WI 54929 United States;X-APPLE-RADIUS=500;X-TITLE=Green Tree Road 64:geo:-88.7552863,44.6365085
END:VEVENT
BEGIN:VEVENT
DTSTART;TZID=America/Chicago:20260420T180000
DTEND;TZID=America/Chicago:20260420T200000
DTSTAMP:20260421T193415
CREATED:20260216T195749Z
LAST-MODIFIED:20260216T195751Z
UID:10012572-1776708000-1776715200@ruralnewfamilies.com
SUMMARY:Sam25 Free Eye Clinic
DESCRIPTION:Free eye exams for those uninsured and  living near the poverty line\n\n\n\nPrescriptions for eyeglasses provided\n\n\n\nAffordable eyeglasses available
URL:https://ruralnewfamilies.com/event/sam25-free-eye-clinic/2026-04-20/
LOCATION:Sam25\, East Richmond Street 105\, Shawano\, WI\, 54166\, United States
CATEGORIES:Community Resource,FREE,Health and Safety
GEO:44.7747944;-88.608432
X-APPLE-STRUCTURED-LOCATION;VALUE=URI;X-ADDRESS=Sam25 East Richmond Street 105 Shawano WI 54166 United States;X-APPLE-RADIUS=500;X-TITLE=East Richmond Street 105:geo:-88.608432,44.7747944
END:VEVENT
BEGIN:VEVENT
DTSTART;TZID=America/Chicago:20260420T180000
DTEND;TZID=America/Chicago:20260420T210000
DTSTAMP:20260421T193415
CREATED:20260316T220923Z
LAST-MODIFIED:20260316T220926Z
UID:10012312-1776708000-1776718800@ruralnewfamilies.com
SUMMARY:Author Visit: Annelise Ryan
DESCRIPTION:Wisconsin author Annelise Ryan will be talking about her best-selling mystery novels. Her latest novel is the 4th book in her Monster Hunter Series Monster in the Moonlight. There will be books available for purchase using cash\, PayPal\, or Venmo. \n\n\n\nAbout the Author
URL:https://ruralnewfamilies.com/event/author-visit-annelise-ryan/
LOCATION:Shawano County Library\, 128 S Sawyer St\, Shawano\, WI 54166\, USA\, South Sawyer Street 128\, Shawano\, WI\, 54166\, United States
CATEGORIES:Adults Night Out,FREE,Indoor Event,Library/Museum,Shopping,Speaker Series
GEO:44.7810031;-88.6071624
X-APPLE-STRUCTURED-LOCATION;VALUE=URI;X-ADDRESS=Shawano County Library 128 S Sawyer St Shawano WI 54166 USA South Sawyer Street 128 Shawano WI 54166 United States;X-APPLE-RADIUS=500;X-TITLE=South Sawyer Street 128:geo:-88.6071624,44.7810031
END:VEVENT
BEGIN:VEVENT
DTSTART;TZID=America/Chicago:20260420T190000
DTEND;TZID=America/Chicago:20260420T210000
DTSTAMP:20260421T193415
CREATED:20240404T152054Z
LAST-MODIFIED:20240404T153249Z
UID:10003462-1776711600-1776718800@ruralnewfamilies.com
SUMMARY:AA Meeting
DESCRIPTION:
URL:https://ruralnewfamilies.com/event/aa-meeting-2/2026-04-20/
LOCATION:Clintonville United Methodist Church\, 13th Street 24\, Clintonville\, Wisconsin\, 54929\, United States
CATEGORIES:AA/NA Meetings
GEO:44.6252503;-88.7595837
X-APPLE-STRUCTURED-LOCATION;VALUE=URI;X-ADDRESS=Clintonville United Methodist Church 13th Street 24 Clintonville Wisconsin 54929 United States;X-APPLE-RADIUS=500;X-TITLE=13th Street 24:geo:-88.7595837,44.6252503
END:VEVENT
BEGIN:VEVENT
DTSTART;TZID=America/Chicago:20260421T000000
DTEND;TZID=America/Chicago:20260421T235959
DTSTAMP:20260421T193415
CREATED:20260316T223631Z
LAST-MODIFIED:20260316T223634Z
UID:10012891-1776729600-1776815999@ruralnewfamilies.com
SUMMARY:Wisconsin Open Enrollment Application Deadline
DESCRIPTION:The Public School Open Enrollment period is open!Fill out the form for alternative in-person public school options and also virtual and virtual hybrid partnership school options. \n\n\n\nFind the form and FAQ here: https://dpi.wi.gov/open-enrollment \n\n\n\nWhat is Open Enrollment?\n\n\n\nThe inter-district public school open enrollment program allows parents to apply for their children to attend public school in a school district other than the one in which they reside. \n\n\n\nWho can apply?\n\n\n\nAny Wisconsin resident in 4K to grade 12 may apply to attend a nonresident school district under the open enrollment program. However\, a child may transfer to a nonresident school district for early childhood education or 4K only if the child’s resident school district offers the same type of program and only if the child is eligible for that program in the resident school district. \n\n\n\n\n\n\n\nThere was a question a while back regarding open-enrollment. \n\n\n\nAccording to the WI DPI\, these are the only acceptable reasons a resident district can deny an open-enrollment request. \n\n\n\nPlease note that it does not say “too many students have applied to out-of-district schools”. It also doesn’t allow attendance records at the resident school to determine open-enrollment status to an out-of-district school. \n\n\n\nThis is just for Open Enrollment\, this does not include the School Voucher Programs. \n\n\n\nDeadline for Open Enrollment (public school) is April 30th \n\n\n\nDeadline for School Choice (private school) is April 17th. \n\n\n\nI also found out that there is a non-profit organization advocating for Virtual and Open-enrollment students. It’s called Parents for School Options. https://www.parentsforschooloptions.org/ \n\n\n\nOpen Enrollment: https://sms.dpi.wi.gov/OEParent/faqs.aspx \n\n\n\nInfo for the Wisconsin School Choice program can be found here: https://schoolchoicewi.org/school-choice-faqs/ \n\n\n\nVirtual School Options for Wisconsin Families
URL:https://ruralnewfamilies.com/event/wisconsin-open-enrollment-application-deadline-3/2026-04-21/
LOCATION:Wisconsin
CATEGORIES:Plan Ahead,RSVP - Pre-Registration Required
END:VEVENT
BEGIN:VEVENT
DTSTART;TZID=America/Chicago:20260421T000000
DTEND;TZID=America/Chicago:20260421T235959
DTSTAMP:20260421T193415
CREATED:20260416T052131Z
LAST-MODIFIED:20260420T061056Z
UID:10013247-1776729600-1776815999@ruralnewfamilies.com
SUMMARY:🔖 Cabin Fever Reliever Sale
DESCRIPTION:🚨 Spring Cleaning and Tax Break Sale (4/13-4/27) 🚨\n\n\n\nIt’s Spring Time- We’re Clearing out the Cobwebs and Saving Money!  (The Tax Man needs his cut). \n\n\n\nWinter is over (finally 🙌)…Parents are DONE with being cooped up…And they are actively looking for things to do\, places to go\, and businesses to try. \n\n\n\n👀 The question is: will they find YOU? \n\n\n\n✅ Business Directory Sale\n\n\n\n10% off All Business Directory Listings\n\n\n\nPerfect For: \n\n\n\n\n🎉 Birthday Party Spots\n\n\n\n🧼🫧House-Cleaning Services\n\n\n\n🪠🧑‍🔧All Necessary Home Services (Plumbers\, Handymen\, Appliance Repair\, Electricians\, Storm Assessment\, Roofers\, etc)\n\n\n\n☔🤸🏃 Rainy Day Play\n\n\n\n🐎 Lessons (Music\, Horse-Riding\, Tutoring\, etc)\n\n\n\n🚲🎣 Outdoor Recreation\n\n\n\n……. and everything else families are looking for right now. (including things they might have forgotten.)\n\n\n\n\n✅ Restaurant Guide Sale\n\n\n\n10% off All Restaurant Guide Listings\n\n\n\nLet’s help families: \n\n\n\n\n🍽️ Find Your Restaurant\n\n\n\n👀 Discover New Places and Menu Items or Hours\n\n\n\n👨‍👨‍👦‍👦 Discover your Kids Eat Free deals\n\n\n\n🎉🎊Celebration Options:\n\n🎓Surviving Forward Testing and Pre-ACTs (because YES… they deserve it!)\n\n\n\n💃🕺Prom\n\n\n\n🎓 Graduation\n\n\n\n📜👷 College or Job Acceptance\n\n\n\n🤰 Mother’s Day/Baby Showers\n\n\n\n🧰 Father’s Day/ Grandparents Day/ Holidays\n\n\n\n🎉Parties (Birthday\, Anniversary\, Retirement\, just because)\n\n\n\n\n\n🍱🚚 Food Truck Locations\, Menus and Schedules\n\n\n\n\n🚀 Why jump in now?\n\n\n\nBecause families are:✔️ Planning spring outings✔️ Booking parties✔️ Looking for easy dinner wins✔️ Checking the calendar DAILY 🗓️  \n\n\n\n👉 And if you’re not listed… you’re getting skipped. \n\n\n\n💡 The Best Part?\n\n\n\n✔️ Our site is ALWAYS FREE for families✔️ Which means more eyes on YOUR business✔️ And more chances to turn clicks into customers \n\n\n\n⏳ Sale ends April 27 — don’t overthink this\n\n\n\nYou can keep waiting…OR you can get in front of the families already looking. \n\n\n\n👉 Get listed. Get seen. Get customers. \n\n\n\nClick Here for the Business Directory Form – Use Code CabinFever26 for your 10% discount. \n\n\n\nClick here for the Restaurant Guide Form – Use Code CabinFever26 for your 10% discount. \n\n\n\nFarm Market/Stand Guide – Pay What You Can
URL:https://ruralnewfamilies.com/event/%f0%9f%94%96-cabin-fever-reliever-sale/2026-04-21/
LOCATION:Wisconsin
ATTACH;FMTTYPE=image/png:https://ruralnewfamilies.com/wp-content/uploads/2026/04/Cabin-Fever-Reliever-Sale-April-2026.png
END:VEVENT
END:VCALENDAR