BEGIN:VCALENDAR
VERSION:2.0
PRODID:-//Rural Northeast Wisconsin Families - ECPv6.15.20//NONSGML v1.0//EN
CALSCALE:GREGORIAN
METHOD:PUBLISH
X-WR-CALNAME:Rural Northeast Wisconsin Families
X-ORIGINAL-URL:https://ruralnewfamilies.com
X-WR-CALDESC:Events for Rural Northeast Wisconsin Families
REFRESH-INTERVAL;VALUE=DURATION:PT1H
X-Robots-Tag:noindex
X-PUBLISHED-TTL:PT1H
BEGIN:VTIMEZONE
TZID:America/Chicago
BEGIN:DAYLIGHT
TZOFFSETFROM:-0600
TZOFFSETTO:-0500
TZNAME:CDT
DTSTART:20250309T080000
END:DAYLIGHT
BEGIN:STANDARD
TZOFFSETFROM:-0500
TZOFFSETTO:-0600
TZNAME:CST
DTSTART:20251102T070000
END:STANDARD
BEGIN:DAYLIGHT
TZOFFSETFROM:-0600
TZOFFSETTO:-0500
TZNAME:CDT
DTSTART:20260308T080000
END:DAYLIGHT
BEGIN:STANDARD
TZOFFSETFROM:-0500
TZOFFSETTO:-0600
TZNAME:CST
DTSTART:20261101T070000
END:STANDARD
BEGIN:DAYLIGHT
TZOFFSETFROM:-0600
TZOFFSETTO:-0500
TZNAME:CDT
DTSTART:20270314T080000
END:DAYLIGHT
BEGIN:STANDARD
TZOFFSETFROM:-0500
TZOFFSETTO:-0600
TZNAME:CST
DTSTART:20271107T070000
END:STANDARD
END:VTIMEZONE
BEGIN:VEVENT
DTSTART;TZID=America/Chicago:20260420T080000
DTEND;TZID=America/Chicago:20260420T170000
DTSTAMP:20260425T103525
CREATED:20260404T022756Z
LAST-MODIFIED:20260404T022759Z
UID:10013175-1776672000-1776704400@ruralnewfamilies.com
SUMMARY:Free Library Programming
DESCRIPTION:
URL:https://ruralnewfamilies.com/event/free-library-programming/2026-04-20/
LOCATION:Birnamwood Library\, 337 Main St\, Birnamwood\, Wisconsin\, United States
CATEGORIES:FREE,Library/Museum
GEO:44.9292549;-89.2098876
X-APPLE-STRUCTURED-LOCATION;VALUE=URI;X-ADDRESS=Birnamwood Library 337 Main St Birnamwood Wisconsin United States;X-APPLE-RADIUS=500;X-TITLE=337 Main St:geo:-89.2098876,44.9292549
END:VEVENT
BEGIN:VEVENT
DTSTART;TZID=America/Chicago:20260420T101500
DTEND;TZID=America/Chicago:20260420T111500
DTSTAMP:20260425T103525
CREATED:20260128T041836Z
LAST-MODIFIED:20260128T041921Z
UID:10012198-1776680100-1776683700@ruralnewfamilies.com
SUMMARY:Babygarten
DESCRIPTION:An event for babies!  Come\, play\, learn and grow together!  \n\n\n\nActivities include: \n\n\n\n\nStorytime and singing\n\n\n\nNursery Rhymes\n\n\n\nSocial Playtime\n\n\n\nCraft (once per month)
URL:https://ruralnewfamilies.com/event/babygarten-2/2026-04-20/
LOCATION:Marion Public Library\, North Main Street 120\, Marion\, Wisconsin\, 54950\, United States
CATEGORIES:FREE,Indoor Event,Library/Museum,Life Stages And Special Communities,Storytime,Youth & Family Programs
GEO:44.6712452;-88.8889175
X-APPLE-STRUCTURED-LOCATION;VALUE=URI;X-ADDRESS=Marion Public Library North Main Street 120 Marion Wisconsin 54950 United States;X-APPLE-RADIUS=500;X-TITLE=North Main Street 120:geo:-88.8889175,44.6712452
END:VEVENT
BEGIN:VEVENT
DTSTART;TZID=America/Chicago:20260420T103000
DTEND;TZID=America/Chicago:20260420T113000
DTSTAMP:20260425T103525
CREATED:20260420T061830Z
LAST-MODIFIED:20260420T061832Z
UID:10015205-1776681000-1776684600@ruralnewfamilies.com
SUMMARY:Oconto Falls Playgroup
DESCRIPTION:Join us for playgroup every Monday as your schedule allows!  Activities for children ages infants to 4/5 years old!  Toy stations\, stories and snacks!
URL:https://ruralnewfamilies.com/event/oconto-falls-playgroup-2/2026-04-20/
LOCATION:Oconto Falls Library\, North Main Street 251\, Oconto Falls\, WI\, 54154\, United States
CATEGORIES:FREE,Library/Museum,Storytime
GEO:44.876309;-88.1455453
X-APPLE-STRUCTURED-LOCATION;VALUE=URI;X-ADDRESS=Oconto Falls Library North Main Street 251 Oconto Falls WI 54154 United States;X-APPLE-RADIUS=500;X-TITLE=North Main Street 251:geo:-88.1455453,44.876309
END:VEVENT
BEGIN:VEVENT
DTSTART;TZID=America/Chicago:20260420T140000
DTEND;TZID=America/Chicago:20260420T150000
DTSTAMP:20260425T103525
CREATED:20260419T034302Z
LAST-MODIFIED:20260419T034304Z
UID:10013158-1776693600-1776697200@ruralnewfamilies.com
SUMMARY:🌍 Homeschool Hop: Earth Day
DESCRIPTION:Homeschool families celebrate Earth Day with an upcycled project\, something to plant\, and a snack!
URL:https://ruralnewfamilies.com/event/%f0%9f%8c%8d-homeschool-hop-earth-day/
LOCATION:Shawano County Library\, 128 S Sawyer St\, Shawano\, WI 54166\, USA\, South Sawyer Street 128\, Shawano\, WI\, 54166\, United States
CATEGORIES:FREE,Homeschool/Virtual School,Library/Museum
GEO:44.7810031;-88.6071624
X-APPLE-STRUCTURED-LOCATION;VALUE=URI;X-ADDRESS=Shawano County Library 128 S Sawyer St Shawano WI 54166 USA South Sawyer Street 128 Shawano WI 54166 United States;X-APPLE-RADIUS=500;X-TITLE=South Sawyer Street 128:geo:-88.6071624,44.7810031
END:VEVENT
BEGIN:VEVENT
DTSTART;TZID=America/Chicago:20260420T180000
DTEND;TZID=America/Chicago:20260420T210000
DTSTAMP:20260425T103525
CREATED:20260316T220923Z
LAST-MODIFIED:20260316T220926Z
UID:10012312-1776708000-1776718800@ruralnewfamilies.com
SUMMARY:Author Visit: Annelise Ryan
DESCRIPTION:Wisconsin author Annelise Ryan will be talking about her best-selling mystery novels. Her latest novel is the 4th book in her Monster Hunter Series Monster in the Moonlight. There will be books available for purchase using cash\, PayPal\, or Venmo. \n\n\n\nAbout the Author
URL:https://ruralnewfamilies.com/event/author-visit-annelise-ryan/
LOCATION:Shawano County Library\, 128 S Sawyer St\, Shawano\, WI 54166\, USA\, South Sawyer Street 128\, Shawano\, WI\, 54166\, United States
CATEGORIES:Adults Night Out,FREE,Indoor Event,Library/Museum,Shopping,Speaker Series
GEO:44.7810031;-88.6071624
X-APPLE-STRUCTURED-LOCATION;VALUE=URI;X-ADDRESS=Shawano County Library 128 S Sawyer St Shawano WI 54166 USA South Sawyer Street 128 Shawano WI 54166 United States;X-APPLE-RADIUS=500;X-TITLE=South Sawyer Street 128:geo:-88.6071624,44.7810031
END:VEVENT
END:VCALENDAR