BEGIN:VCALENDAR
VERSION:2.0
PRODID:-//Rural Northeast Wisconsin Families - ECPv6.15.20//NONSGML v1.0//EN
CALSCALE:GREGORIAN
METHOD:PUBLISH
X-ORIGINAL-URL:https://ruralnewfamilies.com
X-WR-CALDESC:Events for Rural Northeast Wisconsin Families
REFRESH-INTERVAL;VALUE=DURATION:PT1H
X-Robots-Tag:noindex
X-PUBLISHED-TTL:PT1H
BEGIN:VTIMEZONE
TZID:America/Chicago
BEGIN:DAYLIGHT
TZOFFSETFROM:-0600
TZOFFSETTO:-0500
TZNAME:CDT
DTSTART:20250309T080000
END:DAYLIGHT
BEGIN:STANDARD
TZOFFSETFROM:-0500
TZOFFSETTO:-0600
TZNAME:CST
DTSTART:20251102T070000
END:STANDARD
BEGIN:DAYLIGHT
TZOFFSETFROM:-0600
TZOFFSETTO:-0500
TZNAME:CDT
DTSTART:20260308T080000
END:DAYLIGHT
BEGIN:STANDARD
TZOFFSETFROM:-0500
TZOFFSETTO:-0600
TZNAME:CST
DTSTART:20261101T070000
END:STANDARD
BEGIN:DAYLIGHT
TZOFFSETFROM:-0600
TZOFFSETTO:-0500
TZNAME:CDT
DTSTART:20270314T080000
END:DAYLIGHT
BEGIN:STANDARD
TZOFFSETFROM:-0500
TZOFFSETTO:-0600
TZNAME:CST
DTSTART:20271107T070000
END:STANDARD
END:VTIMEZONE
BEGIN:VEVENT
DTSTART;TZID=America/Chicago:20260420T173000
DTEND;TZID=America/Chicago:20260420T190000
DTSTAMP:20260422T112956
CREATED:20260416T161504Z
LAST-MODIFIED:20260416T161506Z
UID:10015105-1776706200-1776711600@ruralnewfamilies.com
SUMMARY:Clintonville BOE Finance Committee Meeting
DESCRIPTION:Finance Committee Meeting Notice 4-20-26
URL:https://ruralnewfamilies.com/event/clintonville-boe-finance-committee-meeting-2/
LOCATION:Clintonville High School\, Green Tree Road 64\, Clintonville\, WI\, 54929\, United States
CATEGORIES:Community Meetings,Election,School Board
GEO:44.6365085;-88.7552863
X-APPLE-STRUCTURED-LOCATION;VALUE=URI;X-ADDRESS=Clintonville High School Green Tree Road 64 Clintonville WI 54929 United States;X-APPLE-RADIUS=500;X-TITLE=Green Tree Road 64:geo:-88.7552863,44.6365085
END:VEVENT
END:VCALENDAR