BEGIN:VCALENDAR
VERSION:2.0
PRODID:-//Rural Northeast Wisconsin Families - ECPv6.15.20//NONSGML v1.0//EN
CALSCALE:GREGORIAN
METHOD:PUBLISH
X-WR-CALNAME:Rural Northeast Wisconsin Families
X-ORIGINAL-URL:https://ruralnewfamilies.com
X-WR-CALDESC:Events for Rural Northeast Wisconsin Families
REFRESH-INTERVAL;VALUE=DURATION:PT1H
X-Robots-Tag:noindex
X-PUBLISHED-TTL:PT1H
BEGIN:VTIMEZONE
TZID:America/Chicago
BEGIN:DAYLIGHT
TZOFFSETFROM:-0600
TZOFFSETTO:-0500
TZNAME:CDT
DTSTART:20250309T080000
END:DAYLIGHT
BEGIN:STANDARD
TZOFFSETFROM:-0500
TZOFFSETTO:-0600
TZNAME:CST
DTSTART:20251102T070000
END:STANDARD
BEGIN:DAYLIGHT
TZOFFSETFROM:-0600
TZOFFSETTO:-0500
TZNAME:CDT
DTSTART:20260308T080000
END:DAYLIGHT
BEGIN:STANDARD
TZOFFSETFROM:-0500
TZOFFSETTO:-0600
TZNAME:CST
DTSTART:20261101T070000
END:STANDARD
BEGIN:DAYLIGHT
TZOFFSETFROM:-0600
TZOFFSETTO:-0500
TZNAME:CDT
DTSTART:20270314T080000
END:DAYLIGHT
BEGIN:STANDARD
TZOFFSETFROM:-0500
TZOFFSETTO:-0600
TZNAME:CST
DTSTART:20271107T070000
END:STANDARD
END:VTIMEZONE
BEGIN:VEVENT
DTSTART;TZID=America/Chicago:20260519T000000
DTEND;TZID=America/Chicago:20260519T235959
DTSTAMP:20260422T173214
CREATED:20260416T052131Z
LAST-MODIFIED:20260420T061056Z
UID:10013274-1779148800-1779235199@ruralnewfamilies.com
SUMMARY:🔖 Cabin Fever Reliever Sale
DESCRIPTION:🚨 Spring Cleaning and Tax Break Sale (4/13-4/27) 🚨\n\n\n\nIt’s Spring Time- We’re Clearing out the Cobwebs and Saving Money!  (The Tax Man needs his cut). \n\n\n\nWinter is over (finally 🙌)…Parents are DONE with being cooped up…And they are actively looking for things to do\, places to go\, and businesses to try. \n\n\n\n👀 The question is: will they find YOU? \n\n\n\n✅ Business Directory Sale\n\n\n\n10% off All Business Directory Listings\n\n\n\nPerfect For: \n\n\n\n\n🎉 Birthday Party Spots\n\n\n\n🧼🫧House-Cleaning Services\n\n\n\n🪠🧑‍🔧All Necessary Home Services (Plumbers\, Handymen\, Appliance Repair\, Electricians\, Storm Assessment\, Roofers\, etc)\n\n\n\n☔🤸🏃 Rainy Day Play\n\n\n\n🐎 Lessons (Music\, Horse-Riding\, Tutoring\, etc)\n\n\n\n🚲🎣 Outdoor Recreation\n\n\n\n……. and everything else families are looking for right now. (including things they might have forgotten.)\n\n\n\n\n✅ Restaurant Guide Sale\n\n\n\n10% off All Restaurant Guide Listings\n\n\n\nLet’s help families: \n\n\n\n\n🍽️ Find Your Restaurant\n\n\n\n👀 Discover New Places and Menu Items or Hours\n\n\n\n👨‍👨‍👦‍👦 Discover your Kids Eat Free deals\n\n\n\n🎉🎊Celebration Options:\n\n🎓Surviving Forward Testing and Pre-ACTs (because YES… they deserve it!)\n\n\n\n💃🕺Prom\n\n\n\n🎓 Graduation\n\n\n\n📜👷 College or Job Acceptance\n\n\n\n🤰 Mother’s Day/Baby Showers\n\n\n\n🧰 Father’s Day/ Grandparents Day/ Holidays\n\n\n\n🎉Parties (Birthday\, Anniversary\, Retirement\, just because)\n\n\n\n\n\n🍱🚚 Food Truck Locations\, Menus and Schedules\n\n\n\n\n🚀 Why jump in now?\n\n\n\nBecause families are:✔️ Planning spring outings✔️ Booking parties✔️ Looking for easy dinner wins✔️ Checking the calendar DAILY 🗓️  \n\n\n\n👉 And if you’re not listed… you’re getting skipped. \n\n\n\n💡 The Best Part?\n\n\n\n✔️ Our site is ALWAYS FREE for families✔️ Which means more eyes on YOUR business✔️ And more chances to turn clicks into customers \n\n\n\n⏳ Sale ends April 27 — don’t overthink this\n\n\n\nYou can keep waiting…OR you can get in front of the families already looking. \n\n\n\n👉 Get listed. Get seen. Get customers. \n\n\n\nClick Here for the Business Directory Form – Use Code CabinFever26 for your 10% discount. \n\n\n\nClick here for the Restaurant Guide Form – Use Code CabinFever26 for your 10% discount. \n\n\n\nFarm Market/Stand Guide – Pay What You Can
URL:https://ruralnewfamilies.com/event/%f0%9f%94%96-cabin-fever-reliever-sale/2026-05-19/
LOCATION:Wisconsin
ATTACH;FMTTYPE=image/png:https://ruralnewfamilies.com/wp-content/uploads/2026/04/Cabin-Fever-Reliever-Sale-April-2026.png
END:VEVENT
BEGIN:VEVENT
DTSTART;TZID=America/Chicago:20260519T090000
DTEND;TZID=America/Chicago:20260519T103000
DTSTAMP:20260422T173214
CREATED:20260120T234010Z
LAST-MODIFIED:20260121T001346Z
UID:10012129-1779181200-1779186600@ruralnewfamilies.com
SUMMARY:Waupaca County Board of Supervisors Meeting
DESCRIPTION:Waupaca COUNTY BOARD MEETING SCHEDULE 2026\n\n\n\nAgendas/Packets February 2018-present \n\n\n\n1-20-2026 Waupaca County Board Agenda\n\n\n\n01-20-2026 Waupaca County Board Packet\n\n\n\nMiron Owner Report 1-20-26 at County Board
URL:https://ruralnewfamilies.com/event/waupaca-county-board-of-supervisors-meeting/2026-05-19/
LOCATION:Waupaca County Highway Office\, 2710 County Rd A\, Waupaca\, Wisconsin\, United States
CATEGORIES:Community Meetings,County Board,Election
GEO:44.321444;-89.0468776
X-APPLE-STRUCTURED-LOCATION;VALUE=URI;X-ADDRESS=Waupaca County Highway Office 2710 County Rd A Waupaca Wisconsin United States;X-APPLE-RADIUS=500;X-TITLE=2710 County Rd A:geo:-89.0468776,44.321444
END:VEVENT
BEGIN:VEVENT
DTSTART;TZID=America/Chicago:20260519T093000
DTEND;TZID=America/Chicago:20260519T103000
DTSTAMP:20260422T173214
CREATED:20240322T221908Z
LAST-MODIFIED:20240322T221910Z
UID:10000738-1779183000-1779186600@ruralnewfamilies.com
SUMMARY:AA Meeting
DESCRIPTION:
URL:https://ruralnewfamilies.com/event/aa-meeting/2026-05-19/
LOCATION:Hope Community Church\, Tristan Drive 302\, Shawano\, Wisconsin\, 54166\, United States
CATEGORIES:AA/NA Meetings
GEO:44.7777864;-88.5480222
X-APPLE-STRUCTURED-LOCATION;VALUE=URI;X-ADDRESS=Hope Community Church Tristan Drive 302 Shawano Wisconsin 54166 United States;X-APPLE-RADIUS=500;X-TITLE=Tristan Drive 302:geo:-88.5480222,44.7777864
END:VEVENT
BEGIN:VEVENT
DTSTART;TZID=America/Chicago:20260519T150000
DTEND;TZID=America/Chicago:20260519T190000
DTSTAMP:20260422T173214
CREATED:20260419T040028Z
LAST-MODIFIED:20260421T231158Z
UID:10015242-1779202800-1779217200@ruralnewfamilies.com
SUMMARY:Kids Eat FREE Today -
DESCRIPTION:We have a couple of Local Restaurants offering to let our Kids Eat FREE!  Today is one of those days! \n\n\n\n \n\n\n\nFind all the details and a few more options here:  \n\n\n\n➡️ https://ruralnewfamilies.com/2024/01/24/restaurant-guide/ \n\n\n\nDon’t MISS Our Cabin Fever Reliever Sale to get into the Guide and Save Money!
URL:https://ruralnewfamilies.com/event/kids-eat-free-today-5/2026-05-19/
LOCATION:Wisconsin
CATEGORIES:Youth & Family Programs
ATTACH;FMTTYPE=image/png:https://ruralnewfamilies.com/wp-content/uploads/2026/01/7df5c2ac-d6ae-4e93-b796-9db81ed50ef4.png
END:VEVENT
BEGIN:VEVENT
DTSTART;TZID=America/Chicago:20260519T190000
DTEND;TZID=America/Chicago:20260519T210000
DTSTAMP:20260422T173214
CREATED:20240404T152054Z
LAST-MODIFIED:20240404T153249Z
UID:10003491-1779217200-1779224400@ruralnewfamilies.com
SUMMARY:AA Meeting
DESCRIPTION:
URL:https://ruralnewfamilies.com/event/aa-meeting-2/2026-05-19/
LOCATION:Clintonville United Methodist Church\, 13th Street 24\, Clintonville\, Wisconsin\, 54929\, United States
CATEGORIES:AA/NA Meetings
GEO:44.6252503;-88.7595837
X-APPLE-STRUCTURED-LOCATION;VALUE=URI;X-ADDRESS=Clintonville United Methodist Church 13th Street 24 Clintonville Wisconsin 54929 United States;X-APPLE-RADIUS=500;X-TITLE=13th Street 24:geo:-88.7595837,44.6252503
END:VEVENT
BEGIN:VEVENT
DTSTART;TZID=America/Chicago:20260520T000000
DTEND;TZID=America/Chicago:20260520T235959
DTSTAMP:20260422T173214
CREATED:20260331T190056Z
LAST-MODIFIED:20260331T190057Z
UID:10013075-1779235200-1779321599@ruralnewfamilies.com
SUMMARY:🎳 Kids Bowl Free
DESCRIPTION:It’s that time when families start planning on what they’re going to do for the summer! \n\n\n\nLet Kids Bowl Free help!  Each registered child (check each center for age requirements) gets to bowl 2 games free every single day!  (Check individual bowling alleys for shoe rental details) all summer long at NO Cost to Parents!  (But plan for the concessions…. my kids LOVE bowling alley food\, just sayin’) \n\n\n\nParents\, do you want to bowl with your kids? Then you’ll want to check out the Family Pass! This allows parents\, older siblings and babysitters to bowl alongside the registered kids. This is a one-time payment that allows up to 4 adults to bowl 2 games free all summer long\, with your Kids Bowl Free registered children. (You can add the family pass on at any time during the season.) \n\n\n\nHow it works: \n\n\n\n\nLocate a Kids Bowl Free participating location near you (this is the only one covered all summer)\n\n\n\nRegister – Create your Kids Bowl Free account and register your kids.  Decide if the Family Pass is right for your family.\n\n\n\nHave Fun – Make Memories – Go Screen-Free — Make New Friends–  Bowl 2 games free every day\, all summer long! \n\n\n\n\nThings to Note: \n\n\n\n\nEach bowling alley determines the times the program is active. Program begins April 30th! You can find the details here when you choose a location near you. Dates and Times will vary! (I’ve seen some start as early as April 30th and as late as June 1st and end between August 30-Sept 2) I’ve seen only 1 with hours available 7 days a week.\n\n\n\nCheck each location for age requirements. I’ve seen them range from 2-18 with some ending as early as 15.\n\n\n\nI found at least 8 participating centers within 60 minutes of Clintonville.\n\n\n\nThe Registration is not transferable between the different bowling centers.
URL:https://ruralnewfamilies.com/event/%f0%9f%8e%b3-kids-bowl-free-2/2026-05-20/
LOCATION:Wisconsin
CATEGORIES:FREE,Inclusive Events,Indoor Event,Plan Ahead,RSVP - Pre-Registration Required,Sporting Events,Teen
END:VEVENT
BEGIN:VEVENT
DTSTART;TZID=America/Chicago:20260520T000000
DTEND;TZID=America/Chicago:20260520T235959
DTSTAMP:20260422T173214
CREATED:20260416T052131Z
LAST-MODIFIED:20260420T061056Z
UID:10013275-1779235200-1779321599@ruralnewfamilies.com
SUMMARY:🔖 Cabin Fever Reliever Sale
DESCRIPTION:🚨 Spring Cleaning and Tax Break Sale (4/13-4/27) 🚨\n\n\n\nIt’s Spring Time- We’re Clearing out the Cobwebs and Saving Money!  (The Tax Man needs his cut). \n\n\n\nWinter is over (finally 🙌)…Parents are DONE with being cooped up…And they are actively looking for things to do\, places to go\, and businesses to try. \n\n\n\n👀 The question is: will they find YOU? \n\n\n\n✅ Business Directory Sale\n\n\n\n10% off All Business Directory Listings\n\n\n\nPerfect For: \n\n\n\n\n🎉 Birthday Party Spots\n\n\n\n🧼🫧House-Cleaning Services\n\n\n\n🪠🧑‍🔧All Necessary Home Services (Plumbers\, Handymen\, Appliance Repair\, Electricians\, Storm Assessment\, Roofers\, etc)\n\n\n\n☔🤸🏃 Rainy Day Play\n\n\n\n🐎 Lessons (Music\, Horse-Riding\, Tutoring\, etc)\n\n\n\n🚲🎣 Outdoor Recreation\n\n\n\n……. and everything else families are looking for right now. (including things they might have forgotten.)\n\n\n\n\n✅ Restaurant Guide Sale\n\n\n\n10% off All Restaurant Guide Listings\n\n\n\nLet’s help families: \n\n\n\n\n🍽️ Find Your Restaurant\n\n\n\n👀 Discover New Places and Menu Items or Hours\n\n\n\n👨‍👨‍👦‍👦 Discover your Kids Eat Free deals\n\n\n\n🎉🎊Celebration Options:\n\n🎓Surviving Forward Testing and Pre-ACTs (because YES… they deserve it!)\n\n\n\n💃🕺Prom\n\n\n\n🎓 Graduation\n\n\n\n📜👷 College or Job Acceptance\n\n\n\n🤰 Mother’s Day/Baby Showers\n\n\n\n🧰 Father’s Day/ Grandparents Day/ Holidays\n\n\n\n🎉Parties (Birthday\, Anniversary\, Retirement\, just because)\n\n\n\n\n\n🍱🚚 Food Truck Locations\, Menus and Schedules\n\n\n\n\n🚀 Why jump in now?\n\n\n\nBecause families are:✔️ Planning spring outings✔️ Booking parties✔️ Looking for easy dinner wins✔️ Checking the calendar DAILY 🗓️  \n\n\n\n👉 And if you’re not listed… you’re getting skipped. \n\n\n\n💡 The Best Part?\n\n\n\n✔️ Our site is ALWAYS FREE for families✔️ Which means more eyes on YOUR business✔️ And more chances to turn clicks into customers \n\n\n\n⏳ Sale ends April 27 — don’t overthink this\n\n\n\nYou can keep waiting…OR you can get in front of the families already looking. \n\n\n\n👉 Get listed. Get seen. Get customers. \n\n\n\nClick Here for the Business Directory Form – Use Code CabinFever26 for your 10% discount. \n\n\n\nClick here for the Restaurant Guide Form – Use Code CabinFever26 for your 10% discount. \n\n\n\nFarm Market/Stand Guide – Pay What You Can
URL:https://ruralnewfamilies.com/event/%f0%9f%94%96-cabin-fever-reliever-sale/2026-05-20/
LOCATION:Wisconsin
ATTACH;FMTTYPE=image/png:https://ruralnewfamilies.com/wp-content/uploads/2026/04/Cabin-Fever-Reliever-Sale-April-2026.png
END:VEVENT
END:VCALENDAR