BEGIN:VCALENDAR
VERSION:2.0
PRODID:-//Rural Northeast Wisconsin Families - ECPv6.15.20//NONSGML v1.0//EN
CALSCALE:GREGORIAN
METHOD:PUBLISH
X-ORIGINAL-URL:https://ruralnewfamilies.com
X-WR-CALDESC:Events for Rural Northeast Wisconsin Families
REFRESH-INTERVAL;VALUE=DURATION:PT1H
X-Robots-Tag:noindex
X-PUBLISHED-TTL:PT1H
BEGIN:VTIMEZONE
TZID:America/Chicago
BEGIN:DAYLIGHT
TZOFFSETFROM:-0600
TZOFFSETTO:-0500
TZNAME:CDT
DTSTART:20240310T080000
END:DAYLIGHT
BEGIN:STANDARD
TZOFFSETFROM:-0500
TZOFFSETTO:-0600
TZNAME:CST
DTSTART:20241103T070000
END:STANDARD
BEGIN:DAYLIGHT
TZOFFSETFROM:-0600
TZOFFSETTO:-0500
TZNAME:CDT
DTSTART:20250309T080000
END:DAYLIGHT
BEGIN:STANDARD
TZOFFSETFROM:-0500
TZOFFSETTO:-0600
TZNAME:CST
DTSTART:20251102T070000
END:STANDARD
BEGIN:DAYLIGHT
TZOFFSETFROM:-0600
TZOFFSETTO:-0500
TZNAME:CDT
DTSTART:20260308T080000
END:DAYLIGHT
BEGIN:STANDARD
TZOFFSETFROM:-0500
TZOFFSETTO:-0600
TZNAME:CST
DTSTART:20261101T070000
END:STANDARD
END:VTIMEZONE
BEGIN:VEVENT
DTSTART;TZID=America/Chicago:20251104T000000
DTEND;TZID=America/Chicago:20251104T235959
DTSTAMP:20260425T074342
CREATED:20251023T030409Z
LAST-MODIFIED:20251114T201314Z
UID:10011390-1762214400-1762300799@ruralnewfamilies.com
SUMMARY:Goodfellows Holiday Distribution Signup
DESCRIPTION:English Sign Up Form \n\n\n\nSpanish Sign Up Form \n\n\n\nAlternative Sign Up Link
URL:https://ruralnewfamilies.com/event/goodfellows-holiday-distribution-signup/2025-11-04/
LOCATION:Wisconsin
CATEGORIES:Christmas,Community Resource,FREE,Goodfellows of Marion and Clintonville,Plan Ahead,RSVP - Pre-Registration Required
END:VEVENT
BEGIN:VEVENT
DTSTART;TZID=America/Chicago:20251104T000000
DTEND;TZID=America/Chicago:20251104T235959
DTSTAMP:20260425T074342
CREATED:20251027T160730Z
LAST-MODIFIED:20251027T160732Z
UID:10011429-1762214400-1762300799@ruralnewfamilies.com
SUMMARY:🎄🇺🇸 Operation: Christmas Angel Program
DESCRIPTION:Veterans who need assistance for Christmas can apply through their local county Veteran Service Office.  Registration is open now through Nov 14. \n\n\n\nFor families that would like to help Veterans with Christmas – the program is run through the Patriot Guard Riders – Operation: Christmas Angel \n\n\n\nThey have an Amazon Wishlist that will get updated as new families get added to the list.  There will also be opportunities for volunteers to help wrap gifts.
URL:https://ruralnewfamilies.com/event/%f0%9f%8e%84%f0%9f%87%ba%f0%9f%87%b8-operation-christmas-angel-program/2025-11-04/
LOCATION:Wisconsin
CATEGORIES:Christmas,Community Resource,FREE,Plan Ahead,RSVP - Pre-Registration Required,Veterans,Volunteer Opportunity
END:VEVENT
BEGIN:VEVENT
DTSTART;TZID=America/Chicago:20251104T100000
DTEND;TZID=America/Chicago:20251104T130000
DTSTAMP:20260425T074342
CREATED:20250422T040610Z
LAST-MODIFIED:20250422T040612Z
UID:10009009-1762250400-1762261200@ruralnewfamilies.com
SUMMARY:Story Time
DESCRIPTION:Join us Tuesdays at 10:00 a.m. for a fun program of stories\, activities\, songs and dancing followed by a craft. We can’t wait to see you there!
URL:https://ruralnewfamilies.com/event/story-time-12/2025-11-04/
LOCATION:Shawano County Library\, 128 S Sawyer St\, Shawano\, WI 54166\, USA\, South Sawyer Street 128\, Shawano\, WI\, 54166\, United States
CATEGORIES:FREE,Library/Museum,Storytime
GEO:44.7810031;-88.6071624
X-APPLE-STRUCTURED-LOCATION;VALUE=URI;X-ADDRESS=Shawano County Library 128 S Sawyer St Shawano WI 54166 USA South Sawyer Street 128 Shawano WI 54166 United States;X-APPLE-RADIUS=500;X-TITLE=South Sawyer Street 128:geo:-88.6071624,44.7810031
END:VEVENT
BEGIN:VEVENT
DTSTART;TZID=America/Chicago:20251104T103000
DTEND;TZID=America/Chicago:20251104T110000
DTSTAMP:20260425T074342
CREATED:20250610T035623Z
LAST-MODIFIED:20250610T035626Z
UID:10009812-1762252200-1762254000@ruralnewfamilies.com
SUMMARY:📚 Bonduel/Story Time
DESCRIPTION:NEW DAY AND TIME! Bring the little ones to the library for a story\, a song\, and a fun craft!
URL:https://ruralnewfamilies.com/event/%f0%9f%93%9a-bonduel-story-time/2025-11-04/
LOCATION:Bonduel Library\, North Washington Street 125\, Bonduel\, WI\, 54107\, United States
CATEGORIES:FREE,Library/Museum,Storytime,Summer Reading Program
GEO:44.7384574;-88.4412828
X-APPLE-STRUCTURED-LOCATION;VALUE=URI;X-ADDRESS=Bonduel Library North Washington Street 125 Bonduel WI 54107 United States;X-APPLE-RADIUS=500;X-TITLE=North Washington Street 125:geo:-88.4412828,44.7384574
END:VEVENT
BEGIN:VEVENT
DTSTART;TZID=America/Chicago:20251104T120000
DTEND;TZID=America/Chicago:20251104T124500
DTSTAMP:20260425T074342
CREATED:20250911T025103Z
LAST-MODIFIED:20250911T025106Z
UID:10011070-1762257600-1762260300@ruralnewfamilies.com
SUMMARY:Noon Nature Walks Tuesdays and Thursdays at Bay Beach Wildlife Sanctuary
DESCRIPTION:Noon Nature WalksFREE Program!TUES/THURS at NOON meet at the Nature Center at Bay Beach Wildlife Sanctuary
URL:https://ruralnewfamilies.com/event/noon-nature-walks-tuesdays-and-thursdays-at-bay-beach-wildlife-sanctuary/2025-11-04/
LOCATION:Bay Beach Wildlife Sanctuary\, East Shore Drive 1660\, Green Bay\, WI\, 54302\, United States
CATEGORIES:Class,Community Resource,FREE,Nature Center
GEO:44.5275131;-87.9737794
X-APPLE-STRUCTURED-LOCATION;VALUE=URI;X-ADDRESS=Bay Beach Wildlife Sanctuary East Shore Drive 1660 Green Bay WI 54302 United States;X-APPLE-RADIUS=500;X-TITLE=East Shore Drive 1660:geo:-87.9737794,44.5275131
END:VEVENT
BEGIN:VEVENT
DTSTART;TZID=America/Chicago:20251105T000000
DTEND;TZID=America/Chicago:20251105T235959
DTSTAMP:20260425T074342
CREATED:20251023T030409Z
LAST-MODIFIED:20251114T201314Z
UID:10011391-1762300800-1762387199@ruralnewfamilies.com
SUMMARY:Goodfellows Holiday Distribution Signup
DESCRIPTION:English Sign Up Form \n\n\n\nSpanish Sign Up Form \n\n\n\nAlternative Sign Up Link
URL:https://ruralnewfamilies.com/event/goodfellows-holiday-distribution-signup/2025-11-05/
LOCATION:Wisconsin
CATEGORIES:Christmas,Community Resource,FREE,Goodfellows of Marion and Clintonville,Plan Ahead,RSVP - Pre-Registration Required
END:VEVENT
BEGIN:VEVENT
DTSTART;TZID=America/Chicago:20251105T000000
DTEND;TZID=America/Chicago:20251105T235959
DTSTAMP:20260425T074342
CREATED:20251027T160730Z
LAST-MODIFIED:20251027T160732Z
UID:10011430-1762300800-1762387199@ruralnewfamilies.com
SUMMARY:🎄🇺🇸 Operation: Christmas Angel Program
DESCRIPTION:Veterans who need assistance for Christmas can apply through their local county Veteran Service Office.  Registration is open now through Nov 14. \n\n\n\nFor families that would like to help Veterans with Christmas – the program is run through the Patriot Guard Riders – Operation: Christmas Angel \n\n\n\nThey have an Amazon Wishlist that will get updated as new families get added to the list.  There will also be opportunities for volunteers to help wrap gifts.
URL:https://ruralnewfamilies.com/event/%f0%9f%8e%84%f0%9f%87%ba%f0%9f%87%b8-operation-christmas-angel-program/2025-11-05/
LOCATION:Wisconsin
CATEGORIES:Christmas,Community Resource,FREE,Plan Ahead,RSVP - Pre-Registration Required,Veterans,Volunteer Opportunity
END:VEVENT
END:VCALENDAR