BEGIN:VCALENDAR
VERSION:2.0
PRODID:-//Rural Northeast Wisconsin Families - ECPv6.15.20//NONSGML v1.0//EN
CALSCALE:GREGORIAN
METHOD:PUBLISH
X-WR-CALNAME:Rural Northeast Wisconsin Families
X-ORIGINAL-URL:https://ruralnewfamilies.com
X-WR-CALDESC:Events for Rural Northeast Wisconsin Families
REFRESH-INTERVAL;VALUE=DURATION:PT1H
X-Robots-Tag:noindex
X-PUBLISHED-TTL:PT1H
BEGIN:VTIMEZONE
TZID:America/Chicago
BEGIN:DAYLIGHT
TZOFFSETFROM:-0600
TZOFFSETTO:-0500
TZNAME:CDT
DTSTART:20240310T080000
END:DAYLIGHT
BEGIN:STANDARD
TZOFFSETFROM:-0500
TZOFFSETTO:-0600
TZNAME:CST
DTSTART:20241103T070000
END:STANDARD
BEGIN:DAYLIGHT
TZOFFSETFROM:-0600
TZOFFSETTO:-0500
TZNAME:CDT
DTSTART:20250309T080000
END:DAYLIGHT
BEGIN:STANDARD
TZOFFSETFROM:-0500
TZOFFSETTO:-0600
TZNAME:CST
DTSTART:20251102T070000
END:STANDARD
BEGIN:DAYLIGHT
TZOFFSETFROM:-0600
TZOFFSETTO:-0500
TZNAME:CDT
DTSTART:20260308T080000
END:DAYLIGHT
BEGIN:STANDARD
TZOFFSETFROM:-0500
TZOFFSETTO:-0600
TZNAME:CST
DTSTART:20261101T070000
END:STANDARD
END:VTIMEZONE
BEGIN:VEVENT
DTSTART;TZID=America/Chicago:20251107T000000
DTEND;TZID=America/Chicago:20251107T235959
DTSTAMP:20260425T105944
CREATED:20251023T030409Z
LAST-MODIFIED:20251114T201314Z
UID:10011393-1762473600-1762559999@ruralnewfamilies.com
SUMMARY:Goodfellows Holiday Distribution Signup
DESCRIPTION:English Sign Up Form \n\n\n\nSpanish Sign Up Form \n\n\n\nAlternative Sign Up Link
URL:https://ruralnewfamilies.com/event/goodfellows-holiday-distribution-signup/2025-11-07/
LOCATION:Wisconsin
CATEGORIES:Christmas,Community Resource,FREE,Goodfellows of Marion and Clintonville,Plan Ahead,RSVP - Pre-Registration Required
END:VEVENT
BEGIN:VEVENT
DTSTART;TZID=America/Chicago:20251107T000000
DTEND;TZID=America/Chicago:20251107T235959
DTSTAMP:20260425T105944
CREATED:20251027T160730Z
LAST-MODIFIED:20251027T160732Z
UID:10011432-1762473600-1762559999@ruralnewfamilies.com
SUMMARY:🎄🇺🇸 Operation: Christmas Angel Program
DESCRIPTION:Veterans who need assistance for Christmas can apply through their local county Veteran Service Office.  Registration is open now through Nov 14. \n\n\n\nFor families that would like to help Veterans with Christmas – the program is run through the Patriot Guard Riders – Operation: Christmas Angel \n\n\n\nThey have an Amazon Wishlist that will get updated as new families get added to the list.  There will also be opportunities for volunteers to help wrap gifts.
URL:https://ruralnewfamilies.com/event/%f0%9f%8e%84%f0%9f%87%ba%f0%9f%87%b8-operation-christmas-angel-program/2025-11-07/
LOCATION:Wisconsin
CATEGORIES:Christmas,Community Resource,FREE,Plan Ahead,RSVP - Pre-Registration Required,Veterans,Volunteer Opportunity
END:VEVENT
BEGIN:VEVENT
DTSTART;TZID=America/Chicago:20251107T000000
DTEND;TZID=America/Chicago:20251107T235959
DTSTAMP:20260425T105944
CREATED:20251110T015129Z
LAST-MODIFIED:20251110T020739Z
UID:10011621-1762473600-1762559999@ruralnewfamilies.com
SUMMARY:🇺🇸 Veteran's Day Events
DESCRIPTION:This list is current as of 11/7/2025.  If your event is missing\, please contact us at mariev@ruralnewfamilies.com or via FB Messenger \n\n\n\nVeteran Resources\n\n\n\nVeterans Crisis Hotline – 988 (listen to the options for Veterans) OR 800.273.8255  \n\n\n\nR&R House – Peer-Run Respite for Veterans – 262.336.9540 \n\n\n\nMultiple Day/Year-Round Events\n\n\n\nFarm Wisconsin Discovery Center – FREE admission for all veterans Thursday Friday and Saturday (November 6-8) \n\n\n\nLongshots Pearson Smokehouse – Veterans Eat FREE Nov 8 No Restrictions \n\n\n\nVeterans Day Event – Nov 7th Coleman-Pound Lions Club and American Legion and 13 Area Restaurants \n\n\n\n2510 Restaurant Deli – Nov 11 \n\n\n\nOlmstead’s Big Falls Mill – 10% discount this week (through Nov ) \n\n\n\nHeritage Hill Nov 8 Celebrating Veterans – Free admission for Veterans \n\n\n\nA&W Clintonville –  One FREE combo for Veterans and Active Military from Nov 1 to Nov 16th with ID. (Mug Club Members\, check your e-mail for your coupon.) Veterans Day – All Veterans receive one free combo\, no coupon required.  ALL YEAR – Veterans receive 10% off order. \n\n\n\nNovember 11\n\n\n\nVeterans Crisis Hotline – 988 (listen to the options for Veterans) OR 800.273.8255 \n\n\n\n \n\n\n\nClintonville School District Veteran’s Day Assembly 2:30pm Nov 11th \n\n\n\nTigerton School District 10:30am 11.11.25 All are welcome and encouraged to attend \n\n\n\nPartial List of National Chains \n\n\n\nThe Senior Center – Antigo – 11:30am Free Lunch\, Speakers\, and Presentations \n\n\n\nThe Rustic Oven – Cecil – 10% discount to Veterans every day.  \n\n\n\nNo Filter Nutrition – Antigo – highest available discount with ID \n\n\n\nFestival Foods – Up to 16 Free items (while supplies last) with a separate $20 purchase and ID. \n\n\n\nPopp’s Ballpark Diner – Shawano – Free Breakfast (2 eggs\, toast\, sausage links or bacon) for Veterans or 20% off any meal until 2pm \n\n\n\nShawano’s Cafe – Free Breakfast (2 eggs\, toast\, sausage links or bacon) for Veterans or 20% off any meal until 2pm \n\n\n\nPopp’s Place – Cecil – Free Breakfast (2 eggs\, toast\, sausage links or bacon) for Veterans or 20% off any meal until 2pm \n\n\n\nVeterans Free Dental Day \n\n\n\nYMCA Fox Cities – Free Week Pass for Veterans Nov 10th – 16th – see flyer below for details. \n\n\n\nParticipating Businesses Via American Legion website Various Restaurants and Retailers Nationwide \n\n\n\nParticipating Businesses via WBAY website – Various Restaurants and Retailers Nationwide \n\n\n\nYou can also view our Restaurant Guide for local restaurants that recognize Veterans year-round.
URL:https://ruralnewfamilies.com/event/%f0%9f%87%ba%f0%9f%87%b8-veterans-day-events-4/2025-11-07/
LOCATION:Wisconsin
CATEGORIES:FREE,Holidays,Veteran's Day,Veterans
ATTACH;FMTTYPE=image/png:https://ruralnewfamilies.com/wp-content/uploads/2024/11/ruralnewfamilie.com-1.png
END:VEVENT
BEGIN:VEVENT
DTSTART;TZID=America/Chicago:20251107T113000
DTEND;TZID=America/Chicago:20251107T123000
DTSTAMP:20260425T105944
CREATED:20251107T024445Z
LAST-MODIFIED:20251107T030436Z
UID:10011498-1762515000-1762518600@ruralnewfamilies.com
SUMMARY:Fall Listening Session
DESCRIPTION:This is an opportunity for residents of the the 29th Senate District to bring their concerns and comments to the Senator’s attention.  It’s also an opportunity to find out what the Legislature are working on in Madison. \n\n\n\nBreast Cancer BillSB156SB3575 \n\n\n\nMap of the 29th Senate District
URL:https://ruralnewfamilies.com/event/fall-listening-session/
LOCATION:Marion City Hall\, 217 N Main St\, Marion\, Wisconsin\, 54950\, United States
CATEGORIES:Community Meetings,Election,FREE
GEO:44.6719577;-88.8890567
X-APPLE-STRUCTURED-LOCATION;VALUE=URI;X-ADDRESS=Marion City Hall 217 N Main St Marion Wisconsin 54950 United States;X-APPLE-RADIUS=500;X-TITLE=217 N Main St:geo:-88.8890567,44.6719577
END:VEVENT
BEGIN:VEVENT
DTSTART;TZID=America/Chicago:20251107T140000
DTEND;TZID=America/Chicago:20251107T160000
DTSTAMP:20260425T105944
CREATED:20251031T014645Z
LAST-MODIFIED:20251031T014647Z
UID:10011447-1762524000-1762531200@ruralnewfamilies.com
SUMMARY:Community Craft Connection
DESCRIPTION:Bring a craft or project to work on while visiting with your neighbors!No registration is required. We can’t wait to see what you’re working on!Food and drink are welcome.Clean-up is just like at home. If you make a mess\, clean it up. Ask for cleaning supplies when needed.If the meeting room is needed for another library purpose\, space for the Community Craft Connection will be provided in the magazine area.Community Craft Connection is self-directed. Librarians will be in the building but not leading this group.This is an exploratory series. Please suggest changes for improvements.
URL:https://ruralnewfamilies.com/event/community-craft-connection/2025-11-07/
LOCATION:Sturm Memorial Library\, North Bridge Street 130\, Manawa\, Wisconsin\, 54949\, United States
CATEGORIES:DIY Crafts,FREE,Library/Museum
GEO:44.4667058;-88.9196516
X-APPLE-STRUCTURED-LOCATION;VALUE=URI;X-ADDRESS=Sturm Memorial Library North Bridge Street 130 Manawa Wisconsin 54949 United States;X-APPLE-RADIUS=500;X-TITLE=North Bridge Street 130:geo:-88.9196516,44.4667058
END:VEVENT
BEGIN:VEVENT
DTSTART;TZID=America/Chicago:20251107T163000
DTEND;TZID=America/Chicago:20251107T173000
DTSTAMP:20260425T105944
CREATED:20251107T030839Z
LAST-MODIFIED:20251107T030841Z
UID:10011499-1762533000-1762536600@ruralnewfamilies.com
SUMMARY:Fall Listening Session
DESCRIPTION:This is an opportunity for residents of the the 29th Senate District to bring their concerns and comments to the Senator’s attention.  It’s also an opportunity to find out what the Legislature are working on in Madison. \n\n\n\nBreast Cancer BillSB156SB3575 \n\n\n\nMap of the 29th Senate District
URL:https://ruralnewfamilies.com/event/fall-listening-session-2/
LOCATION:Village of Scandinavia Municipal Center\, 349 N Main St\, Scandinavia\, Wisconsin\, 54977\, United States
CATEGORIES:Community Meetings,Election,FREE
GEO:44.4584795;-89.1478627
X-APPLE-STRUCTURED-LOCATION;VALUE=URI;X-ADDRESS=Village of Scandinavia Municipal Center 349 N Main St Scandinavia Wisconsin 54977 United States;X-APPLE-RADIUS=500;X-TITLE=349 N Main St:geo:-89.1478627,44.4584795
END:VEVENT
BEGIN:VEVENT
DTSTART;TZID=America/Chicago:20251108T000000
DTEND;TZID=America/Chicago:20251108T235959
DTSTAMP:20260425T105944
CREATED:20251023T030409Z
LAST-MODIFIED:20251114T201314Z
UID:10011394-1762560000-1762646399@ruralnewfamilies.com
SUMMARY:Goodfellows Holiday Distribution Signup
DESCRIPTION:English Sign Up Form \n\n\n\nSpanish Sign Up Form \n\n\n\nAlternative Sign Up Link
URL:https://ruralnewfamilies.com/event/goodfellows-holiday-distribution-signup/2025-11-08/
LOCATION:Wisconsin
CATEGORIES:Christmas,Community Resource,FREE,Goodfellows of Marion and Clintonville,Plan Ahead,RSVP - Pre-Registration Required
END:VEVENT
BEGIN:VEVENT
DTSTART;TZID=America/Chicago:20251108T000000
DTEND;TZID=America/Chicago:20251108T235959
DTSTAMP:20260425T105944
CREATED:20251027T160730Z
LAST-MODIFIED:20251027T160732Z
UID:10011433-1762560000-1762646399@ruralnewfamilies.com
SUMMARY:🎄🇺🇸 Operation: Christmas Angel Program
DESCRIPTION:Veterans who need assistance for Christmas can apply through their local county Veteran Service Office.  Registration is open now through Nov 14. \n\n\n\nFor families that would like to help Veterans with Christmas – the program is run through the Patriot Guard Riders – Operation: Christmas Angel \n\n\n\nThey have an Amazon Wishlist that will get updated as new families get added to the list.  There will also be opportunities for volunteers to help wrap gifts.
URL:https://ruralnewfamilies.com/event/%f0%9f%8e%84%f0%9f%87%ba%f0%9f%87%b8-operation-christmas-angel-program/2025-11-08/
LOCATION:Wisconsin
CATEGORIES:Christmas,Community Resource,FREE,Plan Ahead,RSVP - Pre-Registration Required,Veterans,Volunteer Opportunity
END:VEVENT
BEGIN:VEVENT
DTSTART;TZID=America/Chicago:20251108T000000
DTEND;TZID=America/Chicago:20251108T235959
DTSTAMP:20260425T105944
CREATED:20251110T015129Z
LAST-MODIFIED:20251110T020739Z
UID:10011622-1762560000-1762646399@ruralnewfamilies.com
SUMMARY:🇺🇸 Veteran's Day Events
DESCRIPTION:This list is current as of 11/7/2025.  If your event is missing\, please contact us at mariev@ruralnewfamilies.com or via FB Messenger \n\n\n\nVeteran Resources\n\n\n\nVeterans Crisis Hotline – 988 (listen to the options for Veterans) OR 800.273.8255  \n\n\n\nR&R House – Peer-Run Respite for Veterans – 262.336.9540 \n\n\n\nMultiple Day/Year-Round Events\n\n\n\nFarm Wisconsin Discovery Center – FREE admission for all veterans Thursday Friday and Saturday (November 6-8) \n\n\n\nLongshots Pearson Smokehouse – Veterans Eat FREE Nov 8 No Restrictions \n\n\n\nVeterans Day Event – Nov 7th Coleman-Pound Lions Club and American Legion and 13 Area Restaurants \n\n\n\n2510 Restaurant Deli – Nov 11 \n\n\n\nOlmstead’s Big Falls Mill – 10% discount this week (through Nov ) \n\n\n\nHeritage Hill Nov 8 Celebrating Veterans – Free admission for Veterans \n\n\n\nA&W Clintonville –  One FREE combo for Veterans and Active Military from Nov 1 to Nov 16th with ID. (Mug Club Members\, check your e-mail for your coupon.) Veterans Day – All Veterans receive one free combo\, no coupon required.  ALL YEAR – Veterans receive 10% off order. \n\n\n\nNovember 11\n\n\n\nVeterans Crisis Hotline – 988 (listen to the options for Veterans) OR 800.273.8255 \n\n\n\n \n\n\n\nClintonville School District Veteran’s Day Assembly 2:30pm Nov 11th \n\n\n\nTigerton School District 10:30am 11.11.25 All are welcome and encouraged to attend \n\n\n\nPartial List of National Chains \n\n\n\nThe Senior Center – Antigo – 11:30am Free Lunch\, Speakers\, and Presentations \n\n\n\nThe Rustic Oven – Cecil – 10% discount to Veterans every day.  \n\n\n\nNo Filter Nutrition – Antigo – highest available discount with ID \n\n\n\nFestival Foods – Up to 16 Free items (while supplies last) with a separate $20 purchase and ID. \n\n\n\nPopp’s Ballpark Diner – Shawano – Free Breakfast (2 eggs\, toast\, sausage links or bacon) for Veterans or 20% off any meal until 2pm \n\n\n\nShawano’s Cafe – Free Breakfast (2 eggs\, toast\, sausage links or bacon) for Veterans or 20% off any meal until 2pm \n\n\n\nPopp’s Place – Cecil – Free Breakfast (2 eggs\, toast\, sausage links or bacon) for Veterans or 20% off any meal until 2pm \n\n\n\nVeterans Free Dental Day \n\n\n\nYMCA Fox Cities – Free Week Pass for Veterans Nov 10th – 16th – see flyer below for details. \n\n\n\nParticipating Businesses Via American Legion website Various Restaurants and Retailers Nationwide \n\n\n\nParticipating Businesses via WBAY website – Various Restaurants and Retailers Nationwide \n\n\n\nYou can also view our Restaurant Guide for local restaurants that recognize Veterans year-round.
URL:https://ruralnewfamilies.com/event/%f0%9f%87%ba%f0%9f%87%b8-veterans-day-events-4/2025-11-08/
LOCATION:Wisconsin
CATEGORIES:FREE,Holidays,Veteran's Day,Veterans
ATTACH;FMTTYPE=image/png:https://ruralnewfamilies.com/wp-content/uploads/2024/11/ruralnewfamilie.com-1.png
END:VEVENT
END:VCALENDAR