BEGIN:VCALENDAR
VERSION:2.0
PRODID:-//Rural Northeast Wisconsin Families - ECPv6.15.20//NONSGML v1.0//EN
CALSCALE:GREGORIAN
METHOD:PUBLISH
X-ORIGINAL-URL:https://ruralnewfamilies.com
X-WR-CALDESC:Events for Rural Northeast Wisconsin Families
REFRESH-INTERVAL;VALUE=DURATION:PT1H
X-Robots-Tag:noindex
X-PUBLISHED-TTL:PT1H
BEGIN:VTIMEZONE
TZID:America/Chicago
BEGIN:DAYLIGHT
TZOFFSETFROM:-0600
TZOFFSETTO:-0500
TZNAME:CDT
DTSTART:20240310T080000
END:DAYLIGHT
BEGIN:STANDARD
TZOFFSETFROM:-0500
TZOFFSETTO:-0600
TZNAME:CST
DTSTART:20241103T070000
END:STANDARD
BEGIN:DAYLIGHT
TZOFFSETFROM:-0600
TZOFFSETTO:-0500
TZNAME:CDT
DTSTART:20250309T080000
END:DAYLIGHT
BEGIN:STANDARD
TZOFFSETFROM:-0500
TZOFFSETTO:-0600
TZNAME:CST
DTSTART:20251102T070000
END:STANDARD
BEGIN:DAYLIGHT
TZOFFSETFROM:-0600
TZOFFSETTO:-0500
TZNAME:CDT
DTSTART:20260308T080000
END:DAYLIGHT
BEGIN:STANDARD
TZOFFSETFROM:-0500
TZOFFSETTO:-0600
TZNAME:CST
DTSTART:20261101T070000
END:STANDARD
END:VTIMEZONE
BEGIN:VEVENT
DTSTART;TZID=America/Chicago:20251113T000000
DTEND;TZID=America/Chicago:20251113T235959
DTSTAMP:20260425T074518
CREATED:20251023T030409Z
LAST-MODIFIED:20251114T201314Z
UID:10011399-1762992000-1763078399@ruralnewfamilies.com
SUMMARY:Goodfellows Holiday Distribution Signup
DESCRIPTION:English Sign Up Form \n\n\n\nSpanish Sign Up Form \n\n\n\nAlternative Sign Up Link
URL:https://ruralnewfamilies.com/event/goodfellows-holiday-distribution-signup/2025-11-13/
LOCATION:Wisconsin
CATEGORIES:Christmas,Community Resource,FREE,Goodfellows of Marion and Clintonville,Plan Ahead,RSVP - Pre-Registration Required
END:VEVENT
BEGIN:VEVENT
DTSTART;TZID=America/Chicago:20251113T000000
DTEND;TZID=America/Chicago:20251113T235959
DTSTAMP:20260425T074518
CREATED:20251027T160730Z
LAST-MODIFIED:20251027T160732Z
UID:10011438-1762992000-1763078399@ruralnewfamilies.com
SUMMARY:🎄🇺🇸 Operation: Christmas Angel Program
DESCRIPTION:Veterans who need assistance for Christmas can apply through their local county Veteran Service Office.  Registration is open now through Nov 14. \n\n\n\nFor families that would like to help Veterans with Christmas – the program is run through the Patriot Guard Riders – Operation: Christmas Angel \n\n\n\nThey have an Amazon Wishlist that will get updated as new families get added to the list.  There will also be opportunities for volunteers to help wrap gifts.
URL:https://ruralnewfamilies.com/event/%f0%9f%8e%84%f0%9f%87%ba%f0%9f%87%b8-operation-christmas-angel-program/2025-11-13/
LOCATION:Wisconsin
CATEGORIES:Christmas,Community Resource,FREE,Plan Ahead,RSVP - Pre-Registration Required,Veterans,Volunteer Opportunity
END:VEVENT
BEGIN:VEVENT
DTSTART;TZID=America/Chicago:20251113T000000
DTEND;TZID=America/Chicago:20251113T235959
DTSTAMP:20260425T074518
CREATED:20251110T052442Z
LAST-MODIFIED:20251110T053229Z
UID:10011647-1762992000-1763078399@ruralnewfamilies.com
SUMMARY:🎄🎁 The Giving Tree - Langlade County Residents (2025)
DESCRIPTION:For residents of Langlade County\, WI needing help with Christmas gifts for your children. DEADLINE: NOVEMBER 24\, 2025. PLEASE SIGN UP EARLY\, DO NOT PROCRASTINATE!! \n\n\n\nIMPORTANT: You can access the online form at this link: https://forms.gle/MgddjZu4w31Bq2sd7 \n\n\n\nPLEASE READ THE FORM IT HAS IMPORTANT INFORMATION – YOU WILL FILL OUT ONE FORM PER CHILD. \n\n\n\nThis program is first come first serve\, so please go online\, and submit the form in as soon as possible. All forms are due by November 24th\, but to get tags on Giving Trees and get the gifts back in time\, please submit your form ASAP! The sooner you turn your form in\, the sooner your tags get on trees\, which means more exposure time and a better chance for us to fulfill your children’s wishes. \n\n\n\nFacebook Page for more information and for ways to help!
URL:https://ruralnewfamilies.com/event/the-giving-tree-langlade-county-residents-2024/2025-11-13/
LOCATION:Wisconsin
CATEGORIES:Christmas,Community Events & Parades,Community Resource,FREE,Holidays,Plan Ahead,RSVP - Pre-Registration Required,Volunteer Opportunity,Youth & Family Programs
END:VEVENT
BEGIN:VEVENT
DTSTART;TZID=America/Chicago:20251113T120000
DTEND;TZID=America/Chicago:20251113T124500
DTSTAMP:20260425T074518
CREATED:20250911T025103Z
LAST-MODIFIED:20250911T025106Z
UID:10011073-1763035200-1763037900@ruralnewfamilies.com
SUMMARY:Noon Nature Walks Tuesdays and Thursdays at Bay Beach Wildlife Sanctuary
DESCRIPTION:Noon Nature WalksFREE Program!TUES/THURS at NOON meet at the Nature Center at Bay Beach Wildlife Sanctuary
URL:https://ruralnewfamilies.com/event/noon-nature-walks-tuesdays-and-thursdays-at-bay-beach-wildlife-sanctuary/2025-11-13/
LOCATION:Bay Beach Wildlife Sanctuary\, East Shore Drive 1660\, Green Bay\, WI\, 54302\, United States
CATEGORIES:Class,Community Resource,FREE,Nature Center
GEO:44.5275131;-87.9737794
X-APPLE-STRUCTURED-LOCATION;VALUE=URI;X-ADDRESS=Bay Beach Wildlife Sanctuary East Shore Drive 1660 Green Bay WI 54302 United States;X-APPLE-RADIUS=500;X-TITLE=East Shore Drive 1660:geo:-87.9737794,44.5275131
END:VEVENT
BEGIN:VEVENT
DTSTART;TZID=America/Chicago:20251113T130000
DTEND;TZID=America/Chicago:20251113T140000
DTSTAMP:20260425T074518
CREATED:20251107T042246Z
LAST-MODIFIED:20251107T042249Z
UID:10011517-1763038800-1763042400@ruralnewfamilies.com
SUMMARY:Bingo - Marion
DESCRIPTION:Join us for FREE Bingo and win great prizes! \n\n\n\nRefreshments will be served \n\n\n\nAll ages are welcome.  Children under 8 need an adult with them.
URL:https://ruralnewfamilies.com/event/bingo-marion-2/2025-11-13/
LOCATION:Marion Public Library\, North Main Street 120\, Marion\, Wisconsin\, 54950\, United States
CATEGORIES:Community Events & Parades,FREE,Library/Museum,Wheel-Chair Accessible
GEO:44.6712452;-88.8889175
X-APPLE-STRUCTURED-LOCATION;VALUE=URI;X-ADDRESS=Marion Public Library North Main Street 120 Marion Wisconsin 54950 United States;X-APPLE-RADIUS=500;X-TITLE=North Main Street 120:geo:-88.8889175,44.6712452
END:VEVENT
BEGIN:VEVENT
DTSTART;TZID=America/Chicago:20251113T170000
DTEND;TZID=America/Chicago:20251113T183000
DTSTAMP:20260425T074518
CREATED:20251107T195523Z
LAST-MODIFIED:20251107T195525Z
UID:10011522-1763053200-1763058600@ruralnewfamilies.com
SUMMARY:🍽️ Free Community Meal
DESCRIPTION:Come Join us for a Free Community Meal- \n\n\n\nMenu: \n\n\n\n\nHam\n\n\n\nMashed Potatoes\n\n\n\nGravy\n\n\n\nMixed Vegetables\n\n\n\nBread\n\n\n\nPumpkin Pie\n\n\n\n\nInvite your friends\, family and neighbors.  Everyone is welcome.
URL:https://ruralnewfamilies.com/event/%f0%9f%8d%bd%ef%b8%8f-free-community-meal/
LOCATION:Mattoon-Antigo Church of the Nazarene – Birnamwood\, N10399 County Rd D\, Birnamwood\, Wisconsin\, United States
CATEGORIES:Community Events & Parades,Community Meals,Community Resource,FREE
GEO:44.9672916;-89.0421714
X-APPLE-STRUCTURED-LOCATION;VALUE=URI;X-ADDRESS=Mattoon-Antigo Church of the Nazarene – Birnamwood N10399 County Rd D Birnamwood Wisconsin United States;X-APPLE-RADIUS=500;X-TITLE=N10399 County Rd D:geo:-89.0421714,44.9672916
END:VEVENT
BEGIN:VEVENT
DTSTART;TZID=America/Chicago:20251114T000000
DTEND;TZID=America/Chicago:20251114T235959
DTSTAMP:20260425T074518
CREATED:20251023T030409Z
LAST-MODIFIED:20251114T201314Z
UID:10011400-1763078400-1763164799@ruralnewfamilies.com
SUMMARY:Goodfellows Holiday Distribution Signup
DESCRIPTION:English Sign Up Form \n\n\n\nSpanish Sign Up Form \n\n\n\nAlternative Sign Up Link
URL:https://ruralnewfamilies.com/event/goodfellows-holiday-distribution-signup/2025-11-14/
LOCATION:Wisconsin
CATEGORIES:Christmas,Community Resource,FREE,Goodfellows of Marion and Clintonville,Plan Ahead,RSVP - Pre-Registration Required
END:VEVENT
BEGIN:VEVENT
DTSTART;TZID=America/Chicago:20251114T000000
DTEND;TZID=America/Chicago:20251114T235959
DTSTAMP:20260425T074518
CREATED:20251027T160730Z
LAST-MODIFIED:20251027T160732Z
UID:10011439-1763078400-1763164799@ruralnewfamilies.com
SUMMARY:🎄🇺🇸 Operation: Christmas Angel Program
DESCRIPTION:Veterans who need assistance for Christmas can apply through their local county Veteran Service Office.  Registration is open now through Nov 14. \n\n\n\nFor families that would like to help Veterans with Christmas – the program is run through the Patriot Guard Riders – Operation: Christmas Angel \n\n\n\nThey have an Amazon Wishlist that will get updated as new families get added to the list.  There will also be opportunities for volunteers to help wrap gifts.
URL:https://ruralnewfamilies.com/event/%f0%9f%8e%84%f0%9f%87%ba%f0%9f%87%b8-operation-christmas-angel-program/2025-11-14/
LOCATION:Wisconsin
CATEGORIES:Christmas,Community Resource,FREE,Plan Ahead,RSVP - Pre-Registration Required,Veterans,Volunteer Opportunity
END:VEVENT
BEGIN:VEVENT
DTSTART;TZID=America/Chicago:20251114T000000
DTEND;TZID=America/Chicago:20251114T235959
DTSTAMP:20260425T074518
CREATED:20251110T052442Z
LAST-MODIFIED:20251110T053229Z
UID:10011648-1763078400-1763164799@ruralnewfamilies.com
SUMMARY:🎄🎁 The Giving Tree - Langlade County Residents (2025)
DESCRIPTION:For residents of Langlade County\, WI needing help with Christmas gifts for your children. DEADLINE: NOVEMBER 24\, 2025. PLEASE SIGN UP EARLY\, DO NOT PROCRASTINATE!! \n\n\n\nIMPORTANT: You can access the online form at this link: https://forms.gle/MgddjZu4w31Bq2sd7 \n\n\n\nPLEASE READ THE FORM IT HAS IMPORTANT INFORMATION – YOU WILL FILL OUT ONE FORM PER CHILD. \n\n\n\nThis program is first come first serve\, so please go online\, and submit the form in as soon as possible. All forms are due by November 24th\, but to get tags on Giving Trees and get the gifts back in time\, please submit your form ASAP! The sooner you turn your form in\, the sooner your tags get on trees\, which means more exposure time and a better chance for us to fulfill your children’s wishes. \n\n\n\nFacebook Page for more information and for ways to help!
URL:https://ruralnewfamilies.com/event/the-giving-tree-langlade-county-residents-2024/2025-11-14/
LOCATION:Wisconsin
CATEGORIES:Christmas,Community Events & Parades,Community Resource,FREE,Holidays,Plan Ahead,RSVP - Pre-Registration Required,Volunteer Opportunity,Youth & Family Programs
END:VEVENT
END:VCALENDAR