BEGIN:VCALENDAR
VERSION:2.0
PRODID:-//Rural Northeast Wisconsin Families - ECPv6.15.20//NONSGML v1.0//EN
CALSCALE:GREGORIAN
METHOD:PUBLISH
X-WR-CALNAME:Rural Northeast Wisconsin Families
X-ORIGINAL-URL:https://ruralnewfamilies.com
X-WR-CALDESC:Events for Rural Northeast Wisconsin Families
REFRESH-INTERVAL;VALUE=DURATION:PT1H
X-Robots-Tag:noindex
X-PUBLISHED-TTL:PT1H
BEGIN:VTIMEZONE
TZID:America/Chicago
BEGIN:DAYLIGHT
TZOFFSETFROM:-0600
TZOFFSETTO:-0500
TZNAME:CDT
DTSTART:20240310T080000
END:DAYLIGHT
BEGIN:STANDARD
TZOFFSETFROM:-0500
TZOFFSETTO:-0600
TZNAME:CST
DTSTART:20241103T070000
END:STANDARD
BEGIN:DAYLIGHT
TZOFFSETFROM:-0600
TZOFFSETTO:-0500
TZNAME:CDT
DTSTART:20250309T080000
END:DAYLIGHT
BEGIN:STANDARD
TZOFFSETFROM:-0500
TZOFFSETTO:-0600
TZNAME:CST
DTSTART:20251102T070000
END:STANDARD
BEGIN:DAYLIGHT
TZOFFSETFROM:-0600
TZOFFSETTO:-0500
TZNAME:CDT
DTSTART:20260308T080000
END:DAYLIGHT
BEGIN:STANDARD
TZOFFSETFROM:-0500
TZOFFSETTO:-0600
TZNAME:CST
DTSTART:20261101T070000
END:STANDARD
END:VTIMEZONE
BEGIN:VEVENT
DTSTART;TZID=America/Chicago:20251115T000000
DTEND;TZID=America/Chicago:20251115T235959
DTSTAMP:20260425T074357
CREATED:20251023T030409Z
LAST-MODIFIED:20251114T201314Z
UID:10011401-1763164800-1763251199@ruralnewfamilies.com
SUMMARY:Goodfellows Holiday Distribution Signup
DESCRIPTION:English Sign Up Form \n\n\n\nSpanish Sign Up Form \n\n\n\nAlternative Sign Up Link
URL:https://ruralnewfamilies.com/event/goodfellows-holiday-distribution-signup/2025-11-15/
LOCATION:Wisconsin
CATEGORIES:Christmas,Community Resource,FREE,Goodfellows of Marion and Clintonville,Plan Ahead,RSVP - Pre-Registration Required
END:VEVENT
BEGIN:VEVENT
DTSTART;TZID=America/Chicago:20251115T000000
DTEND;TZID=America/Chicago:20251115T235959
DTSTAMP:20260425T074357
CREATED:20251110T052442Z
LAST-MODIFIED:20251110T053229Z
UID:10011649-1763164800-1763251199@ruralnewfamilies.com
SUMMARY:🎄🎁 The Giving Tree - Langlade County Residents (2025)
DESCRIPTION:For residents of Langlade County\, WI needing help with Christmas gifts for your children. DEADLINE: NOVEMBER 24\, 2025. PLEASE SIGN UP EARLY\, DO NOT PROCRASTINATE!! \n\n\n\nIMPORTANT: You can access the online form at this link: https://forms.gle/MgddjZu4w31Bq2sd7 \n\n\n\nPLEASE READ THE FORM IT HAS IMPORTANT INFORMATION – YOU WILL FILL OUT ONE FORM PER CHILD. \n\n\n\nThis program is first come first serve\, so please go online\, and submit the form in as soon as possible. All forms are due by November 24th\, but to get tags on Giving Trees and get the gifts back in time\, please submit your form ASAP! The sooner you turn your form in\, the sooner your tags get on trees\, which means more exposure time and a better chance for us to fulfill your children’s wishes. \n\n\n\nFacebook Page for more information and for ways to help!
URL:https://ruralnewfamilies.com/event/the-giving-tree-langlade-county-residents-2024/2025-11-15/
LOCATION:Wisconsin
CATEGORIES:Christmas,Community Events & Parades,Community Resource,FREE,Holidays,Plan Ahead,RSVP - Pre-Registration Required,Volunteer Opportunity,Youth & Family Programs
END:VEVENT
BEGIN:VEVENT
DTSTART;TZID=America/Chicago:20251115T110000
DTEND;TZID=America/Chicago:20251115T120000
DTSTAMP:20260425T074357
CREATED:20250222T190140Z
LAST-MODIFIED:20250222T190143Z
UID:10008262-1763204400-1763208000@ruralnewfamilies.com
SUMMARY:🐊Doc's Zoo - Alligator Feeding
DESCRIPTION:Come on out and visit Doc’s Zoo!  Alligators get fed every Saturday at 11am (sharp).  You’ll want to get there early enough to park and find your spot.  Leave enough time to wander around the zoo and see ALL the amazing animals.  If you run early – check out Doc’s Amazing Breakfast at Doc’s Timeline Saloon served from 7-11. \n\n\n\nBe sure to visit the indoor and outdoor animals.  If you have older kids\, be sure to check out Doc’s Museum as well.
URL:https://ruralnewfamilies.com/event/%f0%9f%90%8adocs-zoo-alligator-feeding-18/2025-11-15/
LOCATION:Doc’s Harley-Davidson\, Wisconsin 29 w2709\, Bonduel\, WI\, 54107\, United States
CATEGORIES:FREE,Kids Outdoors
GEO:44.704505;-88.374849
X-APPLE-STRUCTURED-LOCATION;VALUE=URI;X-ADDRESS=Doc’s Harley-Davidson Wisconsin 29 w2709 Bonduel WI 54107 United States;X-APPLE-RADIUS=500;X-TITLE=Wisconsin 29 w2709:geo:-88.374849,44.704505
END:VEVENT
BEGIN:VEVENT
DTSTART;TZID=America/Chicago:20251116T000000
DTEND;TZID=America/Chicago:20251116T235959
DTSTAMP:20260425T074357
CREATED:20251110T052442Z
LAST-MODIFIED:20251110T053229Z
UID:10011650-1763251200-1763337599@ruralnewfamilies.com
SUMMARY:🎄🎁 The Giving Tree - Langlade County Residents (2025)
DESCRIPTION:For residents of Langlade County\, WI needing help with Christmas gifts for your children. DEADLINE: NOVEMBER 24\, 2025. PLEASE SIGN UP EARLY\, DO NOT PROCRASTINATE!! \n\n\n\nIMPORTANT: You can access the online form at this link: https://forms.gle/MgddjZu4w31Bq2sd7 \n\n\n\nPLEASE READ THE FORM IT HAS IMPORTANT INFORMATION – YOU WILL FILL OUT ONE FORM PER CHILD. \n\n\n\nThis program is first come first serve\, so please go online\, and submit the form in as soon as possible. All forms are due by November 24th\, but to get tags on Giving Trees and get the gifts back in time\, please submit your form ASAP! The sooner you turn your form in\, the sooner your tags get on trees\, which means more exposure time and a better chance for us to fulfill your children’s wishes. \n\n\n\nFacebook Page for more information and for ways to help!
URL:https://ruralnewfamilies.com/event/the-giving-tree-langlade-county-residents-2024/2025-11-16/
LOCATION:Wisconsin
CATEGORIES:Christmas,Community Events & Parades,Community Resource,FREE,Holidays,Plan Ahead,RSVP - Pre-Registration Required,Volunteer Opportunity,Youth & Family Programs
END:VEVENT
END:VCALENDAR