BEGIN:VCALENDAR
VERSION:2.0
PRODID:-//Rural Northeast Wisconsin Families - ECPv6.15.20//NONSGML v1.0//EN
CALSCALE:GREGORIAN
METHOD:PUBLISH
X-ORIGINAL-URL:https://ruralnewfamilies.com
X-WR-CALDESC:Events for Rural Northeast Wisconsin Families
REFRESH-INTERVAL;VALUE=DURATION:PT1H
X-Robots-Tag:noindex
X-PUBLISHED-TTL:PT1H
BEGIN:VTIMEZONE
TZID:America/Chicago
BEGIN:DAYLIGHT
TZOFFSETFROM:-0600
TZOFFSETTO:-0500
TZNAME:CDT
DTSTART:20240310T080000
END:DAYLIGHT
BEGIN:STANDARD
TZOFFSETFROM:-0500
TZOFFSETTO:-0600
TZNAME:CST
DTSTART:20241103T070000
END:STANDARD
BEGIN:DAYLIGHT
TZOFFSETFROM:-0600
TZOFFSETTO:-0500
TZNAME:CDT
DTSTART:20250309T080000
END:DAYLIGHT
BEGIN:STANDARD
TZOFFSETFROM:-0500
TZOFFSETTO:-0600
TZNAME:CST
DTSTART:20251102T070000
END:STANDARD
BEGIN:DAYLIGHT
TZOFFSETFROM:-0600
TZOFFSETTO:-0500
TZNAME:CDT
DTSTART:20260308T080000
END:DAYLIGHT
BEGIN:STANDARD
TZOFFSETFROM:-0500
TZOFFSETTO:-0600
TZNAME:CST
DTSTART:20261101T070000
END:STANDARD
END:VTIMEZONE
BEGIN:VEVENT
DTSTART;TZID=America/Chicago:20251121T000000
DTEND;TZID=America/Chicago:20251121T235959
DTSTAMP:20260425T074337
CREATED:20251110T052442Z
LAST-MODIFIED:20251110T053229Z
UID:10011655-1763683200-1763769599@ruralnewfamilies.com
SUMMARY:🎄🎁 The Giving Tree - Langlade County Residents (2025)
DESCRIPTION:For residents of Langlade County\, WI needing help with Christmas gifts for your children. DEADLINE: NOVEMBER 24\, 2025. PLEASE SIGN UP EARLY\, DO NOT PROCRASTINATE!! \n\n\n\nIMPORTANT: You can access the online form at this link: https://forms.gle/MgddjZu4w31Bq2sd7 \n\n\n\nPLEASE READ THE FORM IT HAS IMPORTANT INFORMATION – YOU WILL FILL OUT ONE FORM PER CHILD. \n\n\n\nThis program is first come first serve\, so please go online\, and submit the form in as soon as possible. All forms are due by November 24th\, but to get tags on Giving Trees and get the gifts back in time\, please submit your form ASAP! The sooner you turn your form in\, the sooner your tags get on trees\, which means more exposure time and a better chance for us to fulfill your children’s wishes. \n\n\n\nFacebook Page for more information and for ways to help!
URL:https://ruralnewfamilies.com/event/the-giving-tree-langlade-county-residents-2024/2025-11-21/
LOCATION:Wisconsin
CATEGORIES:Christmas,Community Events & Parades,Community Resource,FREE,Holidays,Plan Ahead,RSVP - Pre-Registration Required,Volunteer Opportunity,Youth & Family Programs
END:VEVENT
BEGIN:VEVENT
DTSTART;TZID=America/Chicago:20251121T100000
DTEND;TZID=America/Chicago:20251126T200000
DTSTAMP:20260425T074337
CREATED:20251120T031934Z
LAST-MODIFIED:20251120T031937Z
UID:10011687-1763719200-1764187200@ruralnewfamilies.com
SUMMARY:💃 Kids Free Days at the Nutcracker
DESCRIPTION:November 21-26\, 2025\, children enjoy free admission to self-guided tours of Nutcracker in the Castle at the Paine in Oshkosh with a paid adult admission! Experience the Nutcracker fairytale brought to life through elaborate decorations\, dazzling displays\, and more than 70 fantastical Christmas trees. Read the story from humongous storybooks in each room and wander among a wonderland at your own pace. It’s like stepping into a fairytale! \n\n\n\nUp to five children ages 17 and under enjoy free admission with a paid adult admission. Reservations are required. Make plans at thepaine.org.Before or after tours of Nutcracker\, stop by the Sugar Plum Fairy’s Cupcake Café (check café hours)\, located in the Conservatory at the back of the property. There\, you’ll meet a fairy from the Land of the Sugar Plums and enjoy a delightful sweet treat!Kids Free Days at the Nutcracker is courtesy of Verve\, a Credit Union. Verve will also collect donations to Toys for Tots. Reservations are required.Hours and Admission:November 21–26\, 202510:00 AM–8:00 PM$17 | Adults (free for Paine Members)Up to 5 children free per adultReservations required at thepaine.org.Sugar Plum Fairy’s Cupcake Café hours:Nov. 21 | 5:00–7:30 PMNov. 22-23 | 11:00 AM–7:30 PMNov. 24-26 | 5:00–7:30 PM$9 includes cupcake and hot cocoa\, milk\, or coffeeNo reservations necessary
URL:https://ruralnewfamilies.com/event/%f0%9f%92%83-kids-free-days-at-the-nutcracker/
LOCATION:1410 Algoma Blvd\, Stits Road 3261\, Oshkosh\, WI\, 54902\, United States
CATEGORIES:Christmas,Community Events & Parades,Concert/Performances,FREE,Holidays,Library/Museum,Music, Arts, Culture, & Tours,Plan Ahead,RSVP - Pre-Registration Required
GEO:43.9777522;-88.5764482
X-APPLE-STRUCTURED-LOCATION;VALUE=URI;X-ADDRESS=1410 Algoma Blvd Stits Road 3261 Oshkosh WI 54902 United States;X-APPLE-RADIUS=500;X-TITLE=Stits Road 3261:geo:-88.5764482,43.9777522
END:VEVENT
BEGIN:VEVENT
DTSTART;TZID=America/Chicago:20251121T140000
DTEND;TZID=America/Chicago:20251121T160000
DTSTAMP:20260425T074337
CREATED:20251031T014645Z
LAST-MODIFIED:20251031T014647Z
UID:10011449-1763733600-1763740800@ruralnewfamilies.com
SUMMARY:Community Craft Connection
DESCRIPTION:Bring a craft or project to work on while visiting with your neighbors!No registration is required. We can’t wait to see what you’re working on!Food and drink are welcome.Clean-up is just like at home. If you make a mess\, clean it up. Ask for cleaning supplies when needed.If the meeting room is needed for another library purpose\, space for the Community Craft Connection will be provided in the magazine area.Community Craft Connection is self-directed. Librarians will be in the building but not leading this group.This is an exploratory series. Please suggest changes for improvements.
URL:https://ruralnewfamilies.com/event/community-craft-connection/2025-11-21/
LOCATION:Sturm Memorial Library\, North Bridge Street 130\, Manawa\, Wisconsin\, 54949\, United States
CATEGORIES:DIY Crafts,FREE,Library/Museum
GEO:44.4667058;-88.9196516
X-APPLE-STRUCTURED-LOCATION;VALUE=URI;X-ADDRESS=Sturm Memorial Library North Bridge Street 130 Manawa Wisconsin 54949 United States;X-APPLE-RADIUS=500;X-TITLE=North Bridge Street 130:geo:-88.9196516,44.4667058
END:VEVENT
BEGIN:VEVENT
DTSTART;TZID=America/Chicago:20251121T151500
DTEND;TZID=America/Chicago:20251121T181500
DTSTAMP:20260425T074337
CREATED:20251120T200829Z
LAST-MODIFIED:20251120T200831Z
UID:10011336-1763738100-1763748900@ruralnewfamilies.com
SUMMARY:🐕 Sage the Tail Waggin' Tutor
DESCRIPTION:Sage the Tail Waggin’ Tutor loves listening to children read. Do you think you could pick out a story she’d like?This program provides children with the opportunity to practice their reading skills in a supportive environment. By reading aloud to a dog\, children can eliminate the fear of judgment and feel more at ease. The presence of an attentive dog allows them to focus on their reading without distraction. As a result\, their reading improves through practice\, while also building self-esteem and creating positive associations with reading.Sage’s human\, Tory Suehs\, is a Licensed Professional Counselor with over 20 years of experience working with children and families in both residential and outpatient mental health settings.No registration is required.
URL:https://ruralnewfamilies.com/event/%f0%9f%90%95-sage-the-tail-waggin-tutor/
LOCATION:Sturm Memorial Library\, North Bridge Street 130\, Manawa\, Wisconsin\, 54949\, United States
CATEGORIES:FREE,Indoor Event,Library/Museum
GEO:44.4667058;-88.9196516
X-APPLE-STRUCTURED-LOCATION;VALUE=URI;X-ADDRESS=Sturm Memorial Library North Bridge Street 130 Manawa Wisconsin 54949 United States;X-APPLE-RADIUS=500;X-TITLE=North Bridge Street 130:geo:-88.9196516,44.4667058
END:VEVENT
BEGIN:VEVENT
DTSTART;TZID=America/Chicago:20251122T000000
DTEND;TZID=America/Chicago:20251122T235959
DTSTAMP:20260425T074337
CREATED:20251110T052442Z
LAST-MODIFIED:20251110T053229Z
UID:10011656-1763769600-1763855999@ruralnewfamilies.com
SUMMARY:🎄🎁 The Giving Tree - Langlade County Residents (2025)
DESCRIPTION:For residents of Langlade County\, WI needing help with Christmas gifts for your children. DEADLINE: NOVEMBER 24\, 2025. PLEASE SIGN UP EARLY\, DO NOT PROCRASTINATE!! \n\n\n\nIMPORTANT: You can access the online form at this link: https://forms.gle/MgddjZu4w31Bq2sd7 \n\n\n\nPLEASE READ THE FORM IT HAS IMPORTANT INFORMATION – YOU WILL FILL OUT ONE FORM PER CHILD. \n\n\n\nThis program is first come first serve\, so please go online\, and submit the form in as soon as possible. All forms are due by November 24th\, but to get tags on Giving Trees and get the gifts back in time\, please submit your form ASAP! The sooner you turn your form in\, the sooner your tags get on trees\, which means more exposure time and a better chance for us to fulfill your children’s wishes. \n\n\n\nFacebook Page for more information and for ways to help!
URL:https://ruralnewfamilies.com/event/the-giving-tree-langlade-county-residents-2024/2025-11-22/
LOCATION:Wisconsin
CATEGORIES:Christmas,Community Events & Parades,Community Resource,FREE,Holidays,Plan Ahead,RSVP - Pre-Registration Required,Volunteer Opportunity,Youth & Family Programs
END:VEVENT
END:VCALENDAR