BEGIN:VCALENDAR
VERSION:2.0
PRODID:-//Rural Northeast Wisconsin Families - ECPv6.15.20//NONSGML v1.0//EN
CALSCALE:GREGORIAN
METHOD:PUBLISH
X-ORIGINAL-URL:https://ruralnewfamilies.com
X-WR-CALDESC:Events for Rural Northeast Wisconsin Families
REFRESH-INTERVAL;VALUE=DURATION:PT1H
X-Robots-Tag:noindex
X-PUBLISHED-TTL:PT1H
BEGIN:VTIMEZONE
TZID:America/Chicago
BEGIN:DAYLIGHT
TZOFFSETFROM:-0600
TZOFFSETTO:-0500
TZNAME:CDT
DTSTART:20240310T080000
END:DAYLIGHT
BEGIN:STANDARD
TZOFFSETFROM:-0500
TZOFFSETTO:-0600
TZNAME:CST
DTSTART:20241103T070000
END:STANDARD
BEGIN:DAYLIGHT
TZOFFSETFROM:-0600
TZOFFSETTO:-0500
TZNAME:CDT
DTSTART:20250309T080000
END:DAYLIGHT
BEGIN:STANDARD
TZOFFSETFROM:-0500
TZOFFSETTO:-0600
TZNAME:CST
DTSTART:20251102T070000
END:STANDARD
BEGIN:DAYLIGHT
TZOFFSETFROM:-0600
TZOFFSETTO:-0500
TZNAME:CDT
DTSTART:20260308T080000
END:DAYLIGHT
BEGIN:STANDARD
TZOFFSETFROM:-0500
TZOFFSETTO:-0600
TZNAME:CST
DTSTART:20261101T070000
END:STANDARD
END:VTIMEZONE
BEGIN:VEVENT
DTSTART;TZID=America/Chicago:20251201T080000
DTEND;TZID=America/Chicago:20251215T080000
DTSTAMP:20260423T123818
CREATED:20251129T111111Z
LAST-MODIFIED:20251129T111113Z
UID:10011495-1764576000-1765785600@ruralnewfamilies.com
SUMMARY:Winter Wonderland Event Schedule
DESCRIPTION:Winter Wonderland just got even bigger!WOW & the Wittenberg Chamber are bringing holiday magic all December long—with some brand-new events this year you won’t want to miss.Save the Dates — check out the full schedule and join us for the fun!
URL:https://ruralnewfamilies.com/event/winter-wonderland-event-schedule/
LOCATION:114 W Vinal St\, CountyRoad Ww 100\, Brokaw\, WI\, 54417\, United States
CATEGORIES:Christmas,Community Events & Parades,FREE,Holidays,Plan Ahead,Youth & Family Programs
GEO:45.0325948;-89.646766
X-APPLE-STRUCTURED-LOCATION;VALUE=URI;X-ADDRESS=114 W Vinal St CountyRoad Ww 100 Brokaw WI 54417 United States;X-APPLE-RADIUS=500;X-TITLE=CountyRoad Ww 100:geo:-89.646766,45.0325948
END:VEVENT
BEGIN:VEVENT
DTSTART;TZID=America/Chicago:20251204T120000
DTEND;TZID=America/Chicago:20251204T124500
DTSTAMP:20260423T123818
CREATED:20250911T025103Z
LAST-MODIFIED:20250911T025106Z
UID:10011078-1764849600-1764852300@ruralnewfamilies.com
SUMMARY:Noon Nature Walks Tuesdays and Thursdays at Bay Beach Wildlife Sanctuary
DESCRIPTION:Noon Nature WalksFREE Program!TUES/THURS at NOON meet at the Nature Center at Bay Beach Wildlife Sanctuary
URL:https://ruralnewfamilies.com/event/noon-nature-walks-tuesdays-and-thursdays-at-bay-beach-wildlife-sanctuary/2025-12-04/
LOCATION:Bay Beach Wildlife Sanctuary\, East Shore Drive 1660\, Green Bay\, WI\, 54302\, United States
CATEGORIES:Class,Community Resource,FREE,Nature Center
GEO:44.5275131;-87.9737794
X-APPLE-STRUCTURED-LOCATION;VALUE=URI;X-ADDRESS=Bay Beach Wildlife Sanctuary East Shore Drive 1660 Green Bay WI 54302 United States;X-APPLE-RADIUS=500;X-TITLE=East Shore Drive 1660:geo:-87.9737794,44.5275131
END:VEVENT
BEGIN:VEVENT
DTSTART;TZID=America/Chicago:20251204T183000
DTEND;TZID=America/Chicago:20251204T203000
DTSTAMP:20260423T123818
CREATED:20251204T205229Z
LAST-MODIFIED:20251204T205232Z
UID:10011832-1764873000-1764880200@ruralnewfamilies.com
SUMMARY:🗺️🧭 Maps\, Mysteries and History
DESCRIPTION:Join us as Joel Kroenke shares rare maps dating back centuries — right here in Oconto! \n\n\n\nSee early villages\, prehistoric travel routes\, Wisconsin’s frontier lines\, and more — all brought to life in the meeting room of the Beyer Home & Carriage Museum. \n\n\n\nLight Refreshments provided \n\n\n\nFree and Open to the Public
URL:https://ruralnewfamilies.com/event/%f0%9f%97%ba%ef%b8%8f%f0%9f%a7%ad-maps-mysteries-and-history/
LOCATION:The Beyer Home and Carriage Museum\, Park Avenue 915\, Oconto\, Wisconsin\, 54153\, United States
CATEGORIES:Community Events & Parades,Community Resource,FREE,Indoor Event,Library/Museum,Music, Arts, Culture, & Tours,Speaker Series
GEO:44.892968;-87.8653681
X-APPLE-STRUCTURED-LOCATION;VALUE=URI;X-ADDRESS=The Beyer Home and Carriage Museum Park Avenue 915 Oconto Wisconsin 54153 United States;X-APPLE-RADIUS=500;X-TITLE=Park Avenue 915:geo:-87.8653681,44.892968
END:VEVENT
END:VCALENDAR