BEGIN:VCALENDAR
VERSION:2.0
PRODID:-//Rural Northeast Wisconsin Families - ECPv6.15.20//NONSGML v1.0//EN
CALSCALE:GREGORIAN
METHOD:PUBLISH
X-ORIGINAL-URL:https://ruralnewfamilies.com
X-WR-CALDESC:Events for Rural Northeast Wisconsin Families
REFRESH-INTERVAL;VALUE=DURATION:PT1H
X-Robots-Tag:noindex
X-PUBLISHED-TTL:PT1H
BEGIN:VTIMEZONE
TZID:America/Chicago
BEGIN:DAYLIGHT
TZOFFSETFROM:-0600
TZOFFSETTO:-0500
TZNAME:CDT
DTSTART:20240310T080000
END:DAYLIGHT
BEGIN:STANDARD
TZOFFSETFROM:-0500
TZOFFSETTO:-0600
TZNAME:CST
DTSTART:20241103T070000
END:STANDARD
BEGIN:DAYLIGHT
TZOFFSETFROM:-0600
TZOFFSETTO:-0500
TZNAME:CDT
DTSTART:20250309T080000
END:DAYLIGHT
BEGIN:STANDARD
TZOFFSETFROM:-0500
TZOFFSETTO:-0600
TZNAME:CST
DTSTART:20251102T070000
END:STANDARD
BEGIN:DAYLIGHT
TZOFFSETFROM:-0600
TZOFFSETTO:-0500
TZNAME:CDT
DTSTART:20260308T080000
END:DAYLIGHT
BEGIN:STANDARD
TZOFFSETFROM:-0500
TZOFFSETTO:-0600
TZNAME:CST
DTSTART:20261101T070000
END:STANDARD
END:VTIMEZONE
BEGIN:VEVENT
DTSTART;TZID=America/Chicago:20251201T080000
DTEND;TZID=America/Chicago:20251215T080000
DTSTAMP:20260425T102657
CREATED:20251129T111111Z
LAST-MODIFIED:20251129T111113Z
UID:10011495-1764576000-1765785600@ruralnewfamilies.com
SUMMARY:Winter Wonderland Event Schedule
DESCRIPTION:Winter Wonderland just got even bigger!WOW & the Wittenberg Chamber are bringing holiday magic all December long—with some brand-new events this year you won’t want to miss.Save the Dates — check out the full schedule and join us for the fun!
URL:https://ruralnewfamilies.com/event/winter-wonderland-event-schedule/
LOCATION:114 W Vinal St\, CountyRoad Ww 100\, Brokaw\, WI\, 54417\, United States
CATEGORIES:Christmas,Community Events & Parades,FREE,Holidays,Plan Ahead,Youth & Family Programs
GEO:45.0325948;-89.646766
X-APPLE-STRUCTURED-LOCATION;VALUE=URI;X-ADDRESS=114 W Vinal St CountyRoad Ww 100 Brokaw WI 54417 United States;X-APPLE-RADIUS=500;X-TITLE=CountyRoad Ww 100:geo:-89.646766,45.0325948
END:VEVENT
BEGIN:VEVENT
DTSTART;TZID=America/Chicago:20251205T100000
DTEND;TZID=America/Chicago:20251205T140000
DTSTAMP:20260425T102657
CREATED:20251201T071511Z
LAST-MODIFIED:20251201T071514Z
UID:10011701-1764928800-1764943200@ruralnewfamilies.com
SUMMARY:🎁 💫 Christmas Wrapping Station 💫🎁
DESCRIPTION:Need a place to wrap gifts away from prying eyes? Come to the Lena Public Library and take stress out of holiday wrapping!We’ll play Christmas movies and provide some wrapping paper and bows- or bring your own from home. Use our spacious meeting room with a big clean table to make wrapping easy and enjoyable!
URL:https://ruralnewfamilies.com/event/%f0%9f%8e%81-%f0%9f%92%ab-christmas-wrapping-station-%f0%9f%92%ab%f0%9f%8e%81/
LOCATION:Lena Public Library\, East Main Street 200\, Lena\, Wisconsin\, 54139\, United States
CATEGORIES:Christmas,FREE,Library/Museum
GEO:44.9512899;-88.045058
X-APPLE-STRUCTURED-LOCATION;VALUE=URI;X-ADDRESS=Lena Public Library East Main Street 200 Lena Wisconsin 54139 United States;X-APPLE-RADIUS=500;X-TITLE=East Main Street 200:geo:-88.045058,44.9512899
END:VEVENT
BEGIN:VEVENT
DTSTART;TZID=America/Chicago:20251205T140000
DTEND;TZID=America/Chicago:20251205T160000
DTSTAMP:20260425T102657
CREATED:20251031T014645Z
LAST-MODIFIED:20251031T014647Z
UID:10011450-1764943200-1764950400@ruralnewfamilies.com
SUMMARY:Community Craft Connection
DESCRIPTION:Bring a craft or project to work on while visiting with your neighbors!No registration is required. We can’t wait to see what you’re working on!Food and drink are welcome.Clean-up is just like at home. If you make a mess\, clean it up. Ask for cleaning supplies when needed.If the meeting room is needed for another library purpose\, space for the Community Craft Connection will be provided in the magazine area.Community Craft Connection is self-directed. Librarians will be in the building but not leading this group.This is an exploratory series. Please suggest changes for improvements.
URL:https://ruralnewfamilies.com/event/community-craft-connection/2025-12-05/
LOCATION:Sturm Memorial Library\, North Bridge Street 130\, Manawa\, Wisconsin\, 54949\, United States
CATEGORIES:DIY Crafts,FREE,Library/Museum
GEO:44.4667058;-88.9196516
X-APPLE-STRUCTURED-LOCATION;VALUE=URI;X-ADDRESS=Sturm Memorial Library North Bridge Street 130 Manawa Wisconsin 54949 United States;X-APPLE-RADIUS=500;X-TITLE=North Bridge Street 130:geo:-88.9196516,44.4667058
END:VEVENT
BEGIN:VEVENT
DTSTART;TZID=America/Chicago:20251205T140000
DTEND;TZID=America/Chicago:20251205T170000
DTSTAMP:20260425T102657
CREATED:20251201T072925Z
LAST-MODIFIED:20251201T072927Z
UID:10011700-1764943200-1764954000@ruralnewfamilies.com
SUMMARY:Exploding Cards!
DESCRIPTION:Let’s get crafty for the holidays!We’ll provide all the supplies to create a one-of-a-kind holiday decoration.Drop in anytime between 2:00 and 3:00 p.m. and plan to spend approximately an hour to complete your project.Free adult craft. No registration required.
URL:https://ruralnewfamilies.com/event/exploding-cards/
LOCATION:Sturm Memorial Library\, North Bridge Street 130\, Manawa\, Wisconsin\, 54949\, United States
CATEGORIES:Christmas,DIY Crafts,FREE,Holidays,Library/Museum,Music, Arts, Culture, & Tours
GEO:44.4667058;-88.9196516
X-APPLE-STRUCTURED-LOCATION;VALUE=URI;X-ADDRESS=Sturm Memorial Library North Bridge Street 130 Manawa Wisconsin 54949 United States;X-APPLE-RADIUS=500;X-TITLE=North Bridge Street 130:geo:-88.9196516,44.4667058
END:VEVENT
BEGIN:VEVENT
DTSTART;TZID=America/Chicago:20251205T150000
DTEND;TZID=America/Chicago:20251205T180000
DTSTAMP:20260425T102657
CREATED:20251201T075343Z
LAST-MODIFIED:20251201T114919Z
UID:10011690-1764946800-1764957600@ruralnewfamilies.com
SUMMARY:🎅 Free Pictures with Santa at Fleet Farm - Antigo
DESCRIPTION:Santa Claus is coming to town!Grab your family and join us for free pictures with Santa at Fleet Farm! Santa will be at our store in Antigo on December 5th from 3pm to 6pm. Bring a smile\, and your smartphone or camera for some memorable holiday photos!
URL:https://ruralnewfamilies.com/event/%f0%9f%8e%85-free-pictures-with-santa-at-fleet-farm/
LOCATION:Fleet Farm – Antigo\, Neva Road 2511\, Antigo\, Wisconsin\, 54409\, United States
CATEGORIES:Christmas,FREE,Holidays,Santa Visit
GEO:45.1659795;-89.1471603
X-APPLE-STRUCTURED-LOCATION;VALUE=URI;X-ADDRESS=Fleet Farm – Antigo Neva Road 2511 Antigo Wisconsin 54409 United States;X-APPLE-RADIUS=500;X-TITLE=Neva Road 2511:geo:-89.1471603,45.1659795
END:VEVENT
BEGIN:VEVENT
DTSTART;TZID=America/Chicago:20251205T160000
DTEND;TZID=America/Chicago:20251205T180000
DTSTAMP:20260425T102657
CREATED:20251201T085825Z
LAST-MODIFIED:20251201T085828Z
UID:10011751-1764950400-1764957600@ruralnewfamilies.com
SUMMARY:🎅 Santa's Coming to Shawano\, WI!
DESCRIPTION:Celebrate the Holidays with Coldwell Banker Real Estate Group!Before the Shawano Holiday Parade\, bring the family to our Coldwell Banker Real Estate Group Shawano Office for family-friendly holiday fun! Join us to see Santa\, take photos\, enjoy a sweet treat\, and a fun goodie bag before the holiday parade.Bring your family and friends to celebrate the season! We can’t wait to share the joy and festivities with you!
URL:https://ruralnewfamilies.com/event/%f0%9f%8e%85-santas-coming-to-shawano-wi/
LOCATION:Coldwell Banker\, South Washington Street 105\, Shawano\, Wisconsin\, 54166\, United States
CATEGORIES:Christmas,Community Events & Parades,FREE,Holidays,Santa Visit
GEO:44.7817971;-88.6108055
X-APPLE-STRUCTURED-LOCATION;VALUE=URI;X-ADDRESS=Coldwell Banker South Washington Street 105 Shawano Wisconsin 54166 United States;X-APPLE-RADIUS=500;X-TITLE=South Washington Street 105:geo:-88.6108055,44.7817971
END:VEVENT
BEGIN:VEVENT
DTSTART;TZID=America/Chicago:20251205T160000
DTEND;TZID=America/Chicago:20251205T190000
DTSTAMP:20260425T102657
CREATED:20251201T081703Z
LAST-MODIFIED:20251201T112728Z
UID:10011792-1764950400-1764961200@ruralnewfamilies.com
SUMMARY:🎅 Free Pictures with Santa - Waupaca
DESCRIPTION:Santa Claus is coming to town!Grab your family and join us for free pictures with Santa at Fleet Farm!  Bring a smile\, and your smartphone or camera for some memorable holiday photos!
URL:https://ruralnewfamilies.com/event/%f0%9f%8e%85-free-pictures-with-santa-4/
LOCATION:Fleet Farm – Waupaca\, Farm Drive 2016\, Waupaca\, Wisconsin\, 54981\, United States
CATEGORIES:Christmas,FREE,Holidays,Santa Visit
GEO:44.3321222;-89.0483927
X-APPLE-STRUCTURED-LOCATION;VALUE=URI;X-ADDRESS=Fleet Farm – Waupaca Farm Drive 2016 Waupaca Wisconsin 54981 United States;X-APPLE-RADIUS=500;X-TITLE=Farm Drive 2016:geo:-89.0483927,44.3321222
END:VEVENT
BEGIN:VEVENT
DTSTART;TZID=America/Chicago:20251205T160000
DTEND;TZID=America/Chicago:20251205T190000
DTSTAMP:20260425T102657
CREATED:20251201T110402Z
LAST-MODIFIED:20251203T192814Z
UID:10011721-1764950400-1764961200@ruralnewfamilies.com
SUMMARY:Shawano Berkshire Hathaway's Holiday Hoopla with GRINCH!
DESCRIPTION:☕ Join us for a fun-filled evening with the Grinch himself! Enjoy cocoa\, sweet treats\, and a picture with everyone’s favorite green grouch.🎁 Bring a new\, unwrapped gift for our Toys for Tots drive to help us GIVE BACK to our community!Let’s make this season special for our local kids in need while celebrating with some Grinchy fun!
URL:https://ruralnewfamilies.com/event/shawano-berkshire-hathaways-holiday-hoopla-with-grinch/
LOCATION:Berkshire Hathaway HomeServices Bay Area Realty – Shawano Office\, South Main Street 109\, Shawano\, Wisconsin\, 54166\, United States
CATEGORIES:Christmas,Community Events & Parades,FREE,Holidays,Toys for Tots
GEO:44.7817358;-88.6095444
X-APPLE-STRUCTURED-LOCATION;VALUE=URI;X-ADDRESS=Berkshire Hathaway HomeServices Bay Area Realty – Shawano Office South Main Street 109 Shawano Wisconsin 54166 United States;X-APPLE-RADIUS=500;X-TITLE=South Main Street 109:geo:-88.6095444,44.7817358
END:VEVENT
BEGIN:VEVENT
DTSTART;TZID=America/Chicago:20251205T170000
DTEND;TZID=America/Chicago:20251205T193000
DTSTAMP:20260425T102657
CREATED:20251203T174509Z
LAST-MODIFIED:20251203T174512Z
UID:10011181-1764954000-1764963000@ruralnewfamilies.com
SUMMARY:❄️🎄Winter Wonderland on the Wolf
DESCRIPTION:📅 Mark your calendars – Winter Wonderland on the Wolf is back! 🎅❄️ Hosted by Familiar Grounds.🗓 Friday\, December 5th\, 2025📍 Downtown New LondonThe New London Area Chamber of Commerce invites you to celebrate the season as we transform the city into a magical Winter Wonderland ✨🏙Here’s how you can join in the fun ⬇️🎇 Light Up New London Map – Deck out your home or business with Christmas lights 🎄💡 Register by Dec. 4th to be featured on the map! Families can download it online\, at the Tourism Center\, or from our Facebook page to enjoy dazzling holiday displays all season.🧝‍♂️ Selfie with Elfie – Back by popular demand! 🤳 Spot Chamber Elves at local businesses between Dec. 5–14th and follow the posted instructions for a chance to WIN 💵 $100 in Chamber Bucks! Winners announced Dec. 15th.🌲✨ Winter Wonderland Displays – On Dec. 5th\, stroll through a sparkling trail of lights and Christmas trees at Longevity Nutrition while sipping hot cocoa ☕ and enjoying carolers 🎶.🎉 Winter Wonderland Parade – Parade kicks off at 5:45 p.m. 🚜🎄 Starting at State St.\, heading down N. Water St. to Pearl St. ➡️ Wolf River Ave. Don’t miss the ribbon-cutting before the parade! 🥳 Best parade entry wins 💵 $50 Chamber Bucks (chosen by Mayor Mark!).🎅 Visit with Santa – Stop by Longevity Nutrition to meet Santa 🎁\, grab a Santa Bag of goodies\, and drop your letter in his 🎄 mailbox (don’t forget your name and return address!).🦌💃 Reindeer Boogie – After the parade\, dance across the glowing Pearl St. Bridge from 6:30–7:30 p.m.🐴 Wagon Rides – Cozy up for wagon rides between Longevity Nutrition & downtown from 5–7:30 p.m.🙌 Volunteer Opportunities – Help us spread the magic! 🌟 Find ways to get involved on our website.✨ It’s going to be a night full of lights\, laughter\, and holiday cheer in New London – we can’t wait to see you there!🎄 Event Schedule – December 5th\, 20255 – 7:30 p.m. – Tour Winter Wonderland Christmas Displays at Longevity Nutrition5:45 p.m. – Winter Wonderland Parade – See the map below for the parade route – Please note the parade entries will disperse before Longevity Nutrition\, so plan to sit along North Water St or the Pearl St. bridge for best viewing spot!6 – 7:30 p.m. – Visit with Santa at Longevity Nutrition6:30 – 7:30 p.m. – Reindeer BoogieSelfie with Elfie Contest – TBD
URL:https://ruralnewfamilies.com/event/%e2%9d%84%ef%b8%8f%f0%9f%8e%84winter-wonderland-on-the-wolf/
LOCATION:Downtown New London\, New London\, Wisconsin\, United States
CATEGORIES:Christmas,Community Events & Parades,Concert/Performances,FREE,Holidays,Parade,Santa Visit,Sleigh Rides
END:VEVENT
BEGIN:VEVENT
DTSTART;TZID=America/Chicago:20251205T180000
DTEND;TZID=America/Chicago:20251205T210000
DTSTAMP:20260425T102657
CREATED:20251203T193142Z
LAST-MODIFIED:20251203T193322Z
UID:10011484-1764957600-1764968400@ruralnewfamilies.com
SUMMARY:🎄🎅 Shawano Santa Parade - 2025
DESCRIPTION:The Shawano Santa parade\, brought to you by ✨𝐂𝐡𝐚𝐫𝐥𝐢𝐞’𝐬 𝐂𝐨𝐮𝐧𝐭𝐲 𝐌𝐚𝐫𝐤𝐞𝐭✨\, is a long-time Shawano tradition. Bring the whole family and join the community in celebrating the holiday season with the 31st annual Shawano Santa parade.This year’s parade theme is: “𝐒𝐨𝐧𝐠𝐬 𝐨𝐟 𝐂𝐡𝐫𝐢𝐬𝐭𝐦𝐚𝐬” 🎶🎅To enter your company or organization in the Santa parade\, please register at:👉www.shawanodowntown.com/santa-paradeParade route: Start at Elizabeth and Main\, proceed north on Main to Green Bay Street\, turn west (left) one block to Washington Street\, turn south (left) and end at Franklin Park.𝐁𝐞𝐟𝐨𝐫𝐞 𝐭𝐡𝐞 𝐩𝐚𝐫𝐚𝐝𝐞: Check back soon for details about visiting with Santa before the parade. Santa – Coldwell BankerGrinch – Berkshire Hathaway𝐀𝐟𝐭𝐞𝐫 𝐭𝐡𝐞 𝐩𝐚𝐫𝐚𝐝𝐞: Visit with Santa in The Naberhood (214 S. Main Street) following the parade.
URL:https://ruralnewfamilies.com/event/%f0%9f%8e%84%f0%9f%8e%85-shawano-santa-parade-2025/
LOCATION:Downtown Shawano\, South Main Street\, Shawano\, WI\, 54166\, United States
CATEGORIES:Christmas,Community Events & Parades,FREE,Holidays,Outdoor Event,Parade,Parade,Santa Visit,Youth & Family Programs
GEO:44.772461;-88.6090239
X-APPLE-STRUCTURED-LOCATION;VALUE=URI;X-ADDRESS=Downtown Shawano South Main Street Shawano WI 54166 United States;X-APPLE-RADIUS=500;X-TITLE=South Main Street:geo:-88.6090239,44.772461
END:VEVENT
END:VCALENDAR