BEGIN:VCALENDAR
VERSION:2.0
PRODID:-//Rural Northeast Wisconsin Families - ECPv6.15.20//NONSGML v1.0//EN
CALSCALE:GREGORIAN
METHOD:PUBLISH
X-WR-CALNAME:Rural Northeast Wisconsin Families
X-ORIGINAL-URL:https://ruralnewfamilies.com
X-WR-CALDESC:Events for Rural Northeast Wisconsin Families
REFRESH-INTERVAL;VALUE=DURATION:PT1H
X-Robots-Tag:noindex
X-PUBLISHED-TTL:PT1H
BEGIN:VTIMEZONE
TZID:America/Chicago
BEGIN:DAYLIGHT
TZOFFSETFROM:-0600
TZOFFSETTO:-0500
TZNAME:CDT
DTSTART:20240310T080000
END:DAYLIGHT
BEGIN:STANDARD
TZOFFSETFROM:-0500
TZOFFSETTO:-0600
TZNAME:CST
DTSTART:20241103T070000
END:STANDARD
BEGIN:DAYLIGHT
TZOFFSETFROM:-0600
TZOFFSETTO:-0500
TZNAME:CDT
DTSTART:20250309T080000
END:DAYLIGHT
BEGIN:STANDARD
TZOFFSETFROM:-0500
TZOFFSETTO:-0600
TZNAME:CST
DTSTART:20251102T070000
END:STANDARD
BEGIN:DAYLIGHT
TZOFFSETFROM:-0600
TZOFFSETTO:-0500
TZNAME:CDT
DTSTART:20260308T080000
END:DAYLIGHT
BEGIN:STANDARD
TZOFFSETFROM:-0500
TZOFFSETTO:-0600
TZNAME:CST
DTSTART:20261101T070000
END:STANDARD
END:VTIMEZONE
BEGIN:VEVENT
DTSTART;TZID=America/Chicago:20251201T080000
DTEND;TZID=America/Chicago:20251215T080000
DTSTAMP:20260423T123341
CREATED:20251129T111111Z
LAST-MODIFIED:20251129T111113Z
UID:10011495-1764576000-1765785600@ruralnewfamilies.com
SUMMARY:Winter Wonderland Event Schedule
DESCRIPTION:Winter Wonderland just got even bigger!WOW & the Wittenberg Chamber are bringing holiday magic all December long—with some brand-new events this year you won’t want to miss.Save the Dates — check out the full schedule and join us for the fun!
URL:https://ruralnewfamilies.com/event/winter-wonderland-event-schedule/
LOCATION:114 W Vinal St\, CountyRoad Ww 100\, Brokaw\, WI\, 54417\, United States
CATEGORIES:Christmas,Community Events & Parades,FREE,Holidays,Plan Ahead,Youth & Family Programs
GEO:45.0325948;-89.646766
X-APPLE-STRUCTURED-LOCATION;VALUE=URI;X-ADDRESS=114 W Vinal St CountyRoad Ww 100 Brokaw WI 54417 United States;X-APPLE-RADIUS=500;X-TITLE=CountyRoad Ww 100:geo:-89.646766,45.0325948
END:VEVENT
BEGIN:VEVENT
DTSTART;TZID=America/Chicago:20251206T090000
DTEND;TZID=America/Chicago:20251206T120000
DTSTAMP:20260423T123341
CREATED:20251205T171619Z
LAST-MODIFIED:20251205T171622Z
UID:10011837-1765011600-1765022400@ruralnewfamilies.com
SUMMARY:🎅🚒 🥞 Santa at the Fire Station!
DESCRIPTION:SANTA IS COMING TO TOWN!!Join us for Christmas at the Fire Station!!🕘 9am – 12pm 🥞 Porkie & Pancake Breakfast (free will donation) \n\n\n\nSanta Visit – 10am-12pm (don’t forget letters (with return address) and cameras!)Bring along your letters to Santa! Be sure to include your address\, to get a letter in return!!🎅🏼 Santa will arrive at 10am so make sure to bring your 📸. There will be a community breakfast\, cookie decorating\, face painting\, balloon twisting and MORE while you wait for your chance to see Santa!!
URL:https://ruralnewfamilies.com/event/%f0%9f%8e%85%f0%9f%9a%92-%f0%9f%a5%9e-santa-at-the-fire-station/
LOCATION:Black Creek Fire & Rescue\, W5200 County Rd B\, Black Creek\, Wisconsin\, United States
CATEGORIES:Christmas,Community Events & Parades,Community Resource,FREE,Holidays,Santa Visit,Youth & Family Programs
GEO:44.4672528;-88.4462559
X-APPLE-STRUCTURED-LOCATION;VALUE=URI;X-ADDRESS=Black Creek Fire & Rescue W5200 County Rd B Black Creek Wisconsin United States;X-APPLE-RADIUS=500;X-TITLE=W5200 County Rd B:geo:-88.4462559,44.4672528
END:VEVENT
BEGIN:VEVENT
DTSTART;TZID=America/Chicago:20251206T090000
DTEND;TZID=America/Chicago:20251206T160000
DTSTAMP:20260423T123341
CREATED:20251203T203703Z
LAST-MODIFIED:20251203T203706Z
UID:10011695-1765011600-1765036800@ruralnewfamilies.com
SUMMARY:🎅🏍️ Santa Pictures\, Craft & Bake Sale
DESCRIPTION:1 Festive Day…3 Unique Events!PICTURES WITH SANTA ON A HARLEY – 10am-2pmJoin us in the showroom at Doc’s for pictures with Santa on a Harley. Well-behaved & leashed 4-legged friends are welcome too!  A portion of the picture sales will be donated to the Shawano Humane Society. You are welcome to take your own pictures at no charge. \n\n\n\nCRAFT & VENDOR SALE 9am-3pmShop a unique variety of items at our Craft & Vendor Sale in the Hog Barn at Doc’s. Free admission! \n\n\n\nWOLF RIVER CHAPTER BAKE SALE 9am-4pmVisit the Bake Sale inside the showroom at Doc’s  & purchase some tasty treats at the Wolf River Chapter Bake Sale.
URL:https://ruralnewfamilies.com/event/%f0%9f%8e%85%f0%9f%8f%8d%ef%b8%8f-santa-pictures-craft-bake-sale/
LOCATION:Doc’s Harley-Davidson\, Wisconsin 29 w2709\, Bonduel\, WI\, 54107\, United States
CATEGORIES:Christmas,Craft/Vendor Shows,FREE,Fundraiser,Holidays,Santa Visit
GEO:44.704505;-88.374849
X-APPLE-STRUCTURED-LOCATION;VALUE=URI;X-ADDRESS=Doc’s Harley-Davidson Wisconsin 29 w2709 Bonduel WI 54107 United States;X-APPLE-RADIUS=500;X-TITLE=Wisconsin 29 w2709:geo:-88.374849,44.704505
END:VEVENT
BEGIN:VEVENT
DTSTART;TZID=America/Chicago:20251206T100000
DTEND;TZID=America/Chicago:20251206T120000
DTSTAMP:20260423T123341
CREATED:20251115T091349Z
LAST-MODIFIED:20251115T091351Z
UID:10011709-1765015200-1765022400@ruralnewfamilies.com
SUMMARY:🎅 Saturdays with Santa
DESCRIPTION:We are thrilled to be bringing back Saturdays with Santa at the Naberhood (the area right by Franklin Park – you can see the lighted trees and Santa in the same morning!). \n\n\n\nEvery Saturday in December leading up to Christmas\, Santa and some of his elves will be at the Santa House for meet and greets and pictures!
URL:https://ruralnewfamilies.com/event/%f0%9f%8e%85-saturdays-with-santa/2025-12-06/
LOCATION:The Naberhood\, South Main Street 214\, Shawano\, Wisconsin\, 54166\, United States
CATEGORIES:Christmas,Community Events & Parades,Community Resource,FREE,Holidays,Kids Outdoors,Outdoor Event,Park and Rec,Santa Visit,Youth & Family Programs
GEO:44.779699;-88.6087019
X-APPLE-STRUCTURED-LOCATION;VALUE=URI;X-ADDRESS=The Naberhood South Main Street 214 Shawano Wisconsin 54166 United States;X-APPLE-RADIUS=500;X-TITLE=South Main Street 214:geo:-88.6087019,44.779699
END:VEVENT
BEGIN:VEVENT
DTSTART;TZID=America/Chicago:20251206T100000
DTEND;TZID=America/Chicago:20251206T120000
DTSTAMP:20260423T123341
CREATED:20251202T191305Z
LAST-MODIFIED:20251202T191308Z
UID:10011801-1765015200-1765022400@ruralnewfamilies.com
SUMMARY:🚂☕ Polar Express - Marion Library
DESCRIPTION:
URL:https://ruralnewfamilies.com/event/%f0%9f%9a%82%e2%98%95-polar-express-marion-library/
LOCATION:Marion Public Library\, North Main Street 120\, Marion\, Wisconsin\, 54950\, United States
CATEGORIES:Christmas,FREE,Holidays,Library/Museum
GEO:44.6712452;-88.8889175
X-APPLE-STRUCTURED-LOCATION;VALUE=URI;X-ADDRESS=Marion Public Library North Main Street 120 Marion Wisconsin 54950 United States;X-APPLE-RADIUS=500;X-TITLE=North Main Street 120:geo:-88.8889175,44.6712452
END:VEVENT
BEGIN:VEVENT
DTSTART;TZID=America/Chicago:20251206T100000
DTEND;TZID=America/Chicago:20251206T130000
DTSTAMP:20260423T123341
CREATED:20251204T201724Z
LAST-MODIFIED:20251204T201727Z
UID:10011724-1765015200-1765026000@ruralnewfamilies.com
SUMMARY:🚢 🎄 Christmas Tree Ship Day
DESCRIPTION:Join us for our annual Christmas Tree Ship Day festivities! Santa will arrive on a Susie-Q fish tug with a load of Christmas trees at 10:00am. After docking\, he will greet families in the Museum. Submarine tours will be available all day long. Tiny Art will be available for purchase in the Riverside Gallery. Admission for the entire day is FREE! \n\n\n\nSanta – inside the museum\, approximately 10am-1pm
URL:https://ruralnewfamilies.com/event/%f0%9f%9a%a2-%f0%9f%8e%84-christmas-tree-ship-day/
LOCATION:Wisconsin Maritime Museum\, 75 Maritime Dr\, Manitowoc\, Wisconsin\, United States
CATEGORIES:Christmas,FREE,Holidays,Library/Museum,Music, Arts, Culture, & Tours,Santa Visit,Shopping
GEO:44.0927648;-87.6556883
X-APPLE-STRUCTURED-LOCATION;VALUE=URI;X-ADDRESS=Wisconsin Maritime Museum 75 Maritime Dr Manitowoc Wisconsin United States;X-APPLE-RADIUS=500;X-TITLE=75 Maritime Dr:geo:-87.6556883,44.0927648
END:VEVENT
BEGIN:VEVENT
DTSTART;TZID=America/Chicago:20251206T100000
DTEND;TZID=America/Chicago:20251206T130000
DTSTAMP:20260423T123341
CREATED:20251204T203037Z
LAST-MODIFIED:20251204T203040Z
UID:10011804-1765015200-1765026000@ruralnewfamilies.com
SUMMARY:🇺🇸🎄🪖 A WWII Christmas Family Event
DESCRIPTION:Bring the family to the museum to play games and other activities. Make Holiday Cards for Veterans and create a 1940s Ornament. 1940s refreshments will be provided by the American Legion Auxiliary.For one day only\, original letters written by the Barber Brothers while stationed on the USS Oklahoma at Pearl Harbor\, just months before they were killed in the attack on Pearl Harbor\, will be on display. They were written to a local boyhood friend of theirs and show a much different perspective of military life than what they may have been writing home to their family. Come see this amazing piece of history.If you believe in protecting our history and keeping access free for every family in our community\, we’d love to welcome you as a Friend of the New London Public Museum.
URL:https://ruralnewfamilies.com/event/%f0%9f%87%ba%f0%9f%87%b8%f0%9f%8e%84%f0%9f%aa%96-a-wwii-christmas-family-event/
LOCATION:New London Public Museum\, South Pearl Street 406\, New London\, Wisconsin\, 54961\, United States
CATEGORIES:Christmas,Community Events & Parades,Community Resource,DIY Crafts,FREE,Holidays,Library/Museum,Music, Arts, Culture, & Tours,Youth & Family Programs
GEO:44.3895883;-88.7393637
X-APPLE-STRUCTURED-LOCATION;VALUE=URI;X-ADDRESS=New London Public Museum South Pearl Street 406 New London Wisconsin 54961 United States;X-APPLE-RADIUS=500;X-TITLE=South Pearl Street 406:geo:-88.7393637,44.3895883
END:VEVENT
BEGIN:VEVENT
DTSTART;TZID=America/Chicago:20251206T110000
DTEND;TZID=America/Chicago:20251206T120000
DTSTAMP:20260423T123341
CREATED:20250222T190140Z
LAST-MODIFIED:20250222T190143Z
UID:10008265-1765018800-1765022400@ruralnewfamilies.com
SUMMARY:🐊Doc's Zoo - Alligator Feeding
DESCRIPTION:Come on out and visit Doc’s Zoo!  Alligators get fed every Saturday at 11am (sharp).  You’ll want to get there early enough to park and find your spot.  Leave enough time to wander around the zoo and see ALL the amazing animals.  If you run early – check out Doc’s Amazing Breakfast at Doc’s Timeline Saloon served from 7-11. \n\n\n\nBe sure to visit the indoor and outdoor animals.  If you have older kids\, be sure to check out Doc’s Museum as well.
URL:https://ruralnewfamilies.com/event/%f0%9f%90%8adocs-zoo-alligator-feeding-18/2025-12-06/
LOCATION:Doc’s Harley-Davidson\, Wisconsin 29 w2709\, Bonduel\, WI\, 54107\, United States
CATEGORIES:FREE,Kids Outdoors
GEO:44.704505;-88.374849
X-APPLE-STRUCTURED-LOCATION;VALUE=URI;X-ADDRESS=Doc’s Harley-Davidson Wisconsin 29 w2709 Bonduel WI 54107 United States;X-APPLE-RADIUS=500;X-TITLE=Wisconsin 29 w2709:geo:-88.374849,44.704505
END:VEVENT
BEGIN:VEVENT
DTSTART;TZID=America/Chicago:20251206T110000
DTEND;TZID=America/Chicago:20251206T180000
DTSTAMP:20260423T123341
CREATED:20251106T225537Z
LAST-MODIFIED:20251106T225539Z
UID:10011497-1765018800-1765044000@ruralnewfamilies.com
SUMMARY:🎄 🎅 Christmas in the Park
DESCRIPTION:Activities in the Expo Hall 11am- 4:30pm \n\n\n\n\n4H Cake Walk\n\n\n\nFace-Painting/Balloon Animals\n\n\n\nMake & Take Crafts\n\n\n\nReindeer Games\n\n\n\nWagon Rides\n\n\n\nFood and More\n\n\n\nPictures with Santa in a framed folder for a nominal fee\n\n\n\n\n\n\nActivities/Craft/Vendor Fair 10am-3p \n\n\n\n\nBucket Raffle Drawing\n\n\n\nFood and More\n\n\n\n\nCaroling in the Expo Hall 4:45pm \n\n\n\nChristmas Tree Lighting 5pm \n\n\n\n🎆 Fireworks
URL:https://ruralnewfamilies.com/event/%f0%9f%8e%84-%f0%9f%8e%85-christmas-in-the-park/
LOCATION:Zippel Park\, 150 McKenzie\, Gillett\, Wisconsin\, United States
CATEGORIES:Christmas,Community Events & Parades,Craft/Vendor Shows,Fireworks,FREE,Holidays,Music, Arts, Culture, & Tours,Santa Visit,Shopping,Tree Lighting,Youth & Family Programs
GEO:44.8899914;-88.3073234
X-APPLE-STRUCTURED-LOCATION;VALUE=URI;X-ADDRESS=Zippel Park 150 McKenzie Gillett Wisconsin United States;X-APPLE-RADIUS=500;X-TITLE=150 McKenzie:geo:-88.3073234,44.8899914
END:VEVENT
BEGIN:VEVENT
DTSTART;TZID=America/Chicago:20251206T130000
DTEND;TZID=America/Chicago:20251206T160000
DTSTAMP:20260423T123341
CREATED:20251205T000737Z
LAST-MODIFIED:20251205T000739Z
UID:10011836-1765026000-1765036800@ruralnewfamilies.com
SUMMARY:Christmas at the Historical Village
DESCRIPTION:Come out to enjoy a simpler Christmas celebration. There is no fee to attend. Donations are happily accepted. \n\n\n\nTour historic buildings decorated for the holidays\, enjoy festive cookies and hot chocolate and join the fun in our Santa scavenger hunt.  Fun for all ages!  Come celebrate a cozy\, old-fashioned\, Christmas.
URL:https://ruralnewfamilies.com/event/christmas-at-the-historical-village-2/
LOCATION:New London Historical Village\, 900 Montgomery St\, New London\, Wisconsin\, United States
CATEGORIES:Christmas,FREE,Holidays,Library/Museum,Music, Arts, Culture, & Tours
GEO:44.3855835;-88.728451
X-APPLE-STRUCTURED-LOCATION;VALUE=URI;X-ADDRESS=New London Historical Village 900 Montgomery St New London Wisconsin United States;X-APPLE-RADIUS=500;X-TITLE=900 Montgomery St:geo:-88.728451,44.3855835
END:VEVENT
BEGIN:VEVENT
DTSTART;TZID=America/Chicago:20251206T140000
DTEND;TZID=America/Chicago:20251206T160000
DTSTAMP:20260423T123341
CREATED:20251201T114537Z
LAST-MODIFIED:20251201T114540Z
UID:10011794-1765029600-1765036800@ruralnewfamilies.com
SUMMARY:🎅 Free Pictures with Santa - Appleton
DESCRIPTION:Santa Claus is coming to town!Grab your family and join us for free pictures with Santa at Fleet Farm! Bring a smile\, and your smartphone or camera for some memorable holiday photos!
URL:https://ruralnewfamilies.com/event/%f0%9f%8e%85-free-pictures-with-santa-appleton/
LOCATION:Fleet Farm – Appleton\, 3035 W Wisconsin Ave\, Appleton\, Wisconsin\, United States
CATEGORIES:Christmas,FREE,Holidays,Santa Visit
GEO:44.2724119;-88.4543179
X-APPLE-STRUCTURED-LOCATION;VALUE=URI;X-ADDRESS=Fleet Farm – Appleton 3035 W Wisconsin Ave Appleton Wisconsin United States;X-APPLE-RADIUS=500;X-TITLE=3035 W Wisconsin Ave:geo:-88.4543179,44.2724119
END:VEVENT
BEGIN:VEVENT
DTSTART;TZID=America/Chicago:20251206T140000
DTEND;TZID=America/Chicago:20251206T200000
DTSTAMP:20260423T123341
CREATED:20251106T211008Z
LAST-MODIFIED:20251106T211011Z
UID:10011489-1765029600-1765051200@ruralnewfamilies.com
SUMMARY:🎄Marion's Tree-mendous Christmas
DESCRIPTION:All Aboard The Polar Express – Marion Public Library – Pre-Register by Dec 2nd\n\n\n\nChristmas Tree Lighting 4:45pm – Gazebo – Music by the Marion High School Choir\n\n\n\nSanta and Mrs Claus 2p-4p Marion Historical Society – Visit with Children\n\n\n\nSanta and Mrs Claus – Fire Truck Tour through Town\n\n\n\nA Christmas Evening in the Museum – 5p-8p\n\nMusic by Brayden Grimm 5:30p-7:30p\n\n\n\nMost Beautiful Tree Judging Dec 6 & Dec 13th ($1 per vote – Proceeds to be split between the winning tree and the Historical Society)Cookies\, Punch\, Hot Chocolate\, Coffee\n\n\n\nHot Dogs or Cup of Soup – Free Will Offering\n\n\n\nSeveral Baskets Available for the Basket Raffle
URL:https://ruralnewfamilies.com/event/%f0%9f%8e%84marions-tree-mendous-christmas/
LOCATION:Marion Public Library\, North Main Street 120\, Marion\, Wisconsin\, 54950\, United States
CATEGORIES:Christmas,Community Events & Parades,Community Resource,Food Pantry,FREE,Fundraiser,Holidays,Indoor Event,Library/Museum,Live Music,Music, Arts, Culture, & Tours,Plan Ahead,RSVP - Pre-Registration Required,Santa Visit,Tree Lighting,Youth & Family Programs
GEO:44.6712452;-88.8889175
X-APPLE-STRUCTURED-LOCATION;VALUE=URI;X-ADDRESS=Marion Public Library North Main Street 120 Marion Wisconsin 54950 United States;X-APPLE-RADIUS=500;X-TITLE=North Main Street 120:geo:-88.8889175,44.6712452
END:VEVENT
BEGIN:VEVENT
DTSTART;TZID=America/Chicago:20251206T150000
DTEND;TZID=America/Chicago:20251206T180000
DTSTAMP:20260423T123341
CREATED:20251201T081156Z
LAST-MODIFIED:20251201T112902Z
UID:10011791-1765033200-1765044000@ruralnewfamilies.com
SUMMARY:🎅 Free Pictures with Santa - Stevens Point
DESCRIPTION:Santa Claus is coming to town!Grab your family and join us for free pictures with Santa at Fleet Farm!  Bring a smile\, and your smartphone or camera for some memorable holiday photos!
URL:https://ruralnewfamilies.com/event/%f0%9f%8e%85-free-pictures-with-santa-3/
LOCATION:Fleet Farm – Stevens Point\, U.S. 10 5590\, Stevens Point\, Wisconsin\, 54482\, United States
CATEGORIES:Christmas,FREE,Holidays,Santa Visit
GEO:44.5256039;-89.5131202
X-APPLE-STRUCTURED-LOCATION;VALUE=URI;X-ADDRESS=Fleet Farm – Stevens Point U.S. 10 5590 Stevens Point Wisconsin 54482 United States;X-APPLE-RADIUS=500;X-TITLE=U.S. 10 5590:geo:-89.5131202,44.5256039
END:VEVENT
BEGIN:VEVENT
DTSTART;TZID=America/Chicago:20251206T150000
DTEND;TZID=America/Chicago:20251206T190000
DTSTAMP:20260423T123341
CREATED:20251205T170016Z
LAST-MODIFIED:20251205T174631Z
UID:10011705-1765033200-1765047600@ruralnewfamilies.com
SUMMARY:🌲 🌟 Santa Letter Writing Station for Lena Village of Lights 🌟 🌲
DESCRIPTION:Stop by the Lena Public Library during the Village of Lights festivities and write your letter to Santa! 🎅 We’ll have sweet treats\, a hot cocoa bar\, and classic Christmas cartoons playing to keep the holiday spirit bright.Take a break from the cold and warm up with a snack\, and enjoy some festive fun before heading back out to experience all the village celebrations.
URL:https://ruralnewfamilies.com/event/%f0%9f%8c%b2-%f0%9f%8c%9f-santa-letter-writing-station-for-lena-village-of-lights-%f0%9f%8c%9f-%f0%9f%8c%b2/
LOCATION:Lena Public Library\, East Main Street 200\, Lena\, Wisconsin\, 54139\, United States
CATEGORIES:Community Events & Parades,FREE
GEO:44.9512899;-88.045058
X-APPLE-STRUCTURED-LOCATION;VALUE=URI;X-ADDRESS=Lena Public Library East Main Street 200 Lena Wisconsin 54139 United States;X-APPLE-RADIUS=500;X-TITLE=East Main Street 200:geo:-88.045058,44.9512899
END:VEVENT
BEGIN:VEVENT
DTSTART;TZID=America/Chicago:20251206T150000
DTEND;TZID=America/Chicago:20251206T190000
DTSTAMP:20260423T123341
CREATED:20251205T174527Z
LAST-MODIFIED:20251205T174530Z
UID:10011838-1765033200-1765047600@ruralnewfamilies.com
SUMMARY:🎄 Village of Lights
DESCRIPTION:Join us for a Great Evening in Lena Celebrating the Holiday Season!3:00-7:00PM – Let’s Celebrate the Village of Lights! \n\n\n\n \n\n\n\n\nStart your evening at the Lena Village Hall to pick up your Blizzard Bingo Card. \n\n\n\nVisit participating businesses throughout the Village to fill your Bingo Card!  When it’s filled\, return it to the Village hall for a chance to win a prize\n\n\n\nSanta Letter Writing – Lena Public Library\n\n\n\n4:45 PM – 4th Annual Reindeer Dash 5K-Run- Lena High School  (sponsored by the Lena High School Baseball Team)\n\n\n\n5:00 PM – Tree Lighting with Lena High School Choir – Lena Village Hall\n\n\n\n5:00-7:00 PM – Santa Arrives at the Lena Village Hall\n\n\n\n5:00-7:00 PM – Horse-Drawn Carriage Rides from the Lena Village Hall (Sponsored by Saputo)\n\n\n\nJOIN US FOR A FUN FILLED EVENING!!
URL:https://ruralnewfamilies.com/event/%f0%9f%8e%84-village-of-lights/
LOCATION:Village of Lena\, 117 E Main St\, Lena\, Wisconsin\, 54139\, United States
CATEGORIES:5K Walk/Run,Christmas,Community Events & Parades,FREE,Holidays,Santa Visit,Sleigh Rides,Tree Lighting
GEO:44.9508366;-88.0460561
X-APPLE-STRUCTURED-LOCATION;VALUE=URI;X-ADDRESS=Village of Lena 117 E Main St Lena Wisconsin 54139 United States;X-APPLE-RADIUS=500;X-TITLE=117 E Main St:geo:-88.0460561,44.9508366
END:VEVENT
BEGIN:VEVENT
DTSTART;TZID=America/Chicago:20251206T163000
DTEND;TZID=America/Chicago:20251206T170000
DTSTAMP:20260423T123341
CREATED:20251202T193132Z
LAST-MODIFIED:20251202T193135Z
UID:10011802-1765038600-1765040400@ruralnewfamilies.com
SUMMARY:🎄 Community Tree Lighting - Marion
DESCRIPTION:Join us as we light the Community Tree decorated with ornaments by Marion Elementary School Students. \n\n\n\nMarion High School Choir will be singing carols to help set. \n\n\n\nSanta will be riding through Marion with the Fire Department – ending at the Tree Lighting. Follow Marion Police Dept for route and estimated times \n\n\n\nBe sure to see ALL the other activities happening that day with Marion’s Tree-mendous Christmas Event
URL:https://ruralnewfamilies.com/event/%f0%9f%8e%84-community-tree-lighting-marion/
LOCATION:Marion Gazebo\, 405 N Main St\, Marion\, Wisconsin\, 54950\, United States
CATEGORIES:Christmas,Community Events & Parades,FREE,Holidays,Live Music,Music, Arts, Culture, & Tours,Outdoor Event,Tree Lighting
GEO:44.6730757;-88.8888282
X-APPLE-STRUCTURED-LOCATION;VALUE=URI;X-ADDRESS=Marion Gazebo 405 N Main St Marion Wisconsin 54950 United States;X-APPLE-RADIUS=500;X-TITLE=405 N Main St:geo:-88.8888282,44.6730757
END:VEVENT
BEGIN:VEVENT
DTSTART;TZID=America/Chicago:20251206T170000
DTEND;TZID=America/Chicago:20251206T200000
DTSTAMP:20260423T123341
CREATED:20251205T164540Z
LAST-MODIFIED:20251205T164542Z
UID:10011726-1765040400-1765051200@ruralnewfamilies.com
SUMMARY:🎄🧑‍🎄☕🦌 CHRISTMAS IN BONDUEL
DESCRIPTION:CHRISTMAS IN BONDUEL12p-2p Santa will arrive at the Lumberyard Bar & Grill (all children receive a gift bag).  Petting Zoo and Wagon Rides available. \n\n\n\n1p-3p – Red Rooster Cafe & Catering – Kids Decorate a Cut-Out Cookie2p-4:30pm (or while supplies last): Shop the SANTA SHOP at Wayne’s Place. Kids can score gifts for their favorite people. \n\n\n\nHungry Bear will be open for breakfast\, lunch and dinner. From 12p-6p children can make REINDEER FOOD and snack crafts.  \n\n\n\n1:30 pm to 3 pm – Can’t have Santa without the Grinch! Pictures with the Grinch at Gehm’s Club 117. \n\n\n\nHead to VILLAGE PARK to make an ornament for the Celebrate Bonduel kid’s tree before the tree lighting around 5pm-5:30pm \n\n\n\nNew this year: Light Tunnel to the Wish Tree – put your wish in an ornament and hang it on the tree.Kids Activities at Captain’s AxeDecorate a Stocking at Good VibesStep into the Winter Wonderland for a gift bag at Flowers from the Heart \n\n\n\nSt Paul Lutheran Church Live Nativity 3p-5p – see flyer belowHot Chocolate will be available and……TREE LIGHTING AT DARK!Enjoy the beautiful trees\, friends and a nice campfire while sipping on hot chocolate.SEE YOU THERE!
URL:https://ruralnewfamilies.com/event/%f0%9f%8e%84%f0%9f%a7%91%f0%9f%8e%84%e2%98%95%f0%9f%a6%8c-christmas-in-bonduel/
LOCATION:Red Rooster Cafe & Catering\, 237 S Cecil St\, Bonduel\, WI\, United States
CATEGORIES:Christmas,Community Events & Parades,DIY Crafts,FREE,Holidays,Kids' Shopping,Santa Visit,Sleigh Rides,Tree Lighting
GEO:44.7375287;-88.4464235
X-APPLE-STRUCTURED-LOCATION;VALUE=URI;X-ADDRESS=Red Rooster Cafe & Catering 237 S Cecil St Bonduel WI United States;X-APPLE-RADIUS=500;X-TITLE=237 S Cecil St:geo:-88.4464235,44.7375287
END:VEVENT
END:VCALENDAR