BEGIN:VCALENDAR
VERSION:2.0
PRODID:-//Rural Northeast Wisconsin Families - ECPv6.15.20//NONSGML v1.0//EN
CALSCALE:GREGORIAN
METHOD:PUBLISH
X-ORIGINAL-URL:https://ruralnewfamilies.com
X-WR-CALDESC:Events for Rural Northeast Wisconsin Families
REFRESH-INTERVAL;VALUE=DURATION:PT1H
X-Robots-Tag:noindex
X-PUBLISHED-TTL:PT1H
BEGIN:VTIMEZONE
TZID:America/Chicago
BEGIN:DAYLIGHT
TZOFFSETFROM:-0600
TZOFFSETTO:-0500
TZNAME:CDT
DTSTART:20240310T080000
END:DAYLIGHT
BEGIN:STANDARD
TZOFFSETFROM:-0500
TZOFFSETTO:-0600
TZNAME:CST
DTSTART:20241103T070000
END:STANDARD
BEGIN:DAYLIGHT
TZOFFSETFROM:-0600
TZOFFSETTO:-0500
TZNAME:CDT
DTSTART:20250309T080000
END:DAYLIGHT
BEGIN:STANDARD
TZOFFSETFROM:-0500
TZOFFSETTO:-0600
TZNAME:CST
DTSTART:20251102T070000
END:STANDARD
BEGIN:DAYLIGHT
TZOFFSETFROM:-0600
TZOFFSETTO:-0500
TZNAME:CDT
DTSTART:20260308T080000
END:DAYLIGHT
BEGIN:STANDARD
TZOFFSETFROM:-0500
TZOFFSETTO:-0600
TZNAME:CST
DTSTART:20261101T070000
END:STANDARD
END:VTIMEZONE
BEGIN:VEVENT
DTSTART;TZID=America/Chicago:20251201T080000
DTEND;TZID=America/Chicago:20251215T080000
DTSTAMP:20260423T124044
CREATED:20251129T111111Z
LAST-MODIFIED:20251129T111113Z
UID:10011495-1764576000-1765785600@ruralnewfamilies.com
SUMMARY:Winter Wonderland Event Schedule
DESCRIPTION:Winter Wonderland just got even bigger!WOW & the Wittenberg Chamber are bringing holiday magic all December long—with some brand-new events this year you won’t want to miss.Save the Dates — check out the full schedule and join us for the fun!
URL:https://ruralnewfamilies.com/event/winter-wonderland-event-schedule/
LOCATION:114 W Vinal St\, CountyRoad Ww 100\, Brokaw\, WI\, 54417\, United States
CATEGORIES:Christmas,Community Events & Parades,FREE,Holidays,Plan Ahead,Youth & Family Programs
GEO:45.0325948;-89.646766
X-APPLE-STRUCTURED-LOCATION;VALUE=URI;X-ADDRESS=114 W Vinal St CountyRoad Ww 100 Brokaw WI 54417 United States;X-APPLE-RADIUS=500;X-TITLE=CountyRoad Ww 100:geo:-89.646766,45.0325948
END:VEVENT
BEGIN:VEVENT
DTSTART;TZID=America/Chicago:20251209T100000
DTEND;TZID=America/Chicago:20251209T120000
DTSTAMP:20260423T124044
CREATED:20251207T005801Z
LAST-MODIFIED:20251207T005803Z
UID:10011496-1765274400-1765281600@ruralnewfamilies.com
SUMMARY:⭐ Wrapped Stars
DESCRIPTION:We’re excited to bring back a favorite! Come join us for a fun\, hands-on workshop with Jeni Mursau from Woven Blessings. Jeni will show us how to create beautiful wrapped stars together!This workshop is open for adults and has space for just 12 participants\, so make sure to grab your spot! You can stop by the library or give us a call at 920-596-2252 to sign up.
URL:https://ruralnewfamilies.com/event/%e2%ad%90-wrapped-stars/
LOCATION:Sturm Memorial Library\, North Bridge Street 130\, Manawa\, Wisconsin\, 54949\, United States
CATEGORIES:Christmas,DIY Crafts,FREE,Holidays
GEO:44.4667058;-88.9196516
X-APPLE-STRUCTURED-LOCATION;VALUE=URI;X-ADDRESS=Sturm Memorial Library North Bridge Street 130 Manawa Wisconsin 54949 United States;X-APPLE-RADIUS=500;X-TITLE=North Bridge Street 130:geo:-88.9196516,44.4667058
END:VEVENT
BEGIN:VEVENT
DTSTART;TZID=America/Chicago:20251209T100000
DTEND;TZID=America/Chicago:20251209T130000
DTSTAMP:20260423T124044
CREATED:20250422T040610Z
LAST-MODIFIED:20250422T040612Z
UID:10009014-1765274400-1765285200@ruralnewfamilies.com
SUMMARY:Story Time
DESCRIPTION:Join us Tuesdays at 10:00 a.m. for a fun program of stories\, activities\, songs and dancing followed by a craft. We can’t wait to see you there!
URL:https://ruralnewfamilies.com/event/story-time-12/2025-12-09/
LOCATION:Shawano County Library\, 128 S Sawyer St\, Shawano\, WI 54166\, USA\, South Sawyer Street 128\, Shawano\, WI\, 54166\, United States
CATEGORIES:FREE,Library/Museum,Storytime
GEO:44.7810031;-88.6071624
X-APPLE-STRUCTURED-LOCATION;VALUE=URI;X-ADDRESS=Shawano County Library 128 S Sawyer St Shawano WI 54166 USA South Sawyer Street 128 Shawano WI 54166 United States;X-APPLE-RADIUS=500;X-TITLE=South Sawyer Street 128:geo:-88.6071624,44.7810031
END:VEVENT
BEGIN:VEVENT
DTSTART;TZID=America/Chicago:20251209T103000
DTEND;TZID=America/Chicago:20251209T110000
DTSTAMP:20260423T124044
CREATED:20250610T035623Z
LAST-MODIFIED:20250610T035626Z
UID:10009817-1765276200-1765278000@ruralnewfamilies.com
SUMMARY:📚 Bonduel/Story Time
DESCRIPTION:NEW DAY AND TIME! Bring the little ones to the library for a story\, a song\, and a fun craft!
URL:https://ruralnewfamilies.com/event/%f0%9f%93%9a-bonduel-story-time/2025-12-09/
LOCATION:Bonduel Library\, North Washington Street 125\, Bonduel\, WI\, 54107\, United States
CATEGORIES:FREE,Library/Museum,Storytime,Summer Reading Program
GEO:44.7384574;-88.4412828
X-APPLE-STRUCTURED-LOCATION;VALUE=URI;X-ADDRESS=Bonduel Library North Washington Street 125 Bonduel WI 54107 United States;X-APPLE-RADIUS=500;X-TITLE=North Washington Street 125:geo:-88.4412828,44.7384574
END:VEVENT
BEGIN:VEVENT
DTSTART;TZID=America/Chicago:20251209T120000
DTEND;TZID=America/Chicago:20251209T124500
DTSTAMP:20260423T124044
CREATED:20250911T025103Z
LAST-MODIFIED:20250911T025106Z
UID:10011079-1765281600-1765284300@ruralnewfamilies.com
SUMMARY:Noon Nature Walks Tuesdays and Thursdays at Bay Beach Wildlife Sanctuary
DESCRIPTION:Noon Nature WalksFREE Program!TUES/THURS at NOON meet at the Nature Center at Bay Beach Wildlife Sanctuary
URL:https://ruralnewfamilies.com/event/noon-nature-walks-tuesdays-and-thursdays-at-bay-beach-wildlife-sanctuary/2025-12-09/
LOCATION:Bay Beach Wildlife Sanctuary\, East Shore Drive 1660\, Green Bay\, WI\, 54302\, United States
CATEGORIES:Class,Community Resource,FREE,Nature Center
GEO:44.5275131;-87.9737794
X-APPLE-STRUCTURED-LOCATION;VALUE=URI;X-ADDRESS=Bay Beach Wildlife Sanctuary East Shore Drive 1660 Green Bay WI 54302 United States;X-APPLE-RADIUS=500;X-TITLE=East Shore Drive 1660:geo:-87.9737794,44.5275131
END:VEVENT
END:VCALENDAR