BEGIN:VCALENDAR
VERSION:2.0
PRODID:-//Rural Northeast Wisconsin Families - ECPv6.15.20//NONSGML v1.0//EN
CALSCALE:GREGORIAN
METHOD:PUBLISH
X-ORIGINAL-URL:https://ruralnewfamilies.com
X-WR-CALDESC:Events for Rural Northeast Wisconsin Families
REFRESH-INTERVAL;VALUE=DURATION:PT1H
X-Robots-Tag:noindex
X-PUBLISHED-TTL:PT1H
BEGIN:VTIMEZONE
TZID:America/Chicago
BEGIN:DAYLIGHT
TZOFFSETFROM:-0600
TZOFFSETTO:-0500
TZNAME:CDT
DTSTART:20240310T080000
END:DAYLIGHT
BEGIN:STANDARD
TZOFFSETFROM:-0500
TZOFFSETTO:-0600
TZNAME:CST
DTSTART:20241103T070000
END:STANDARD
BEGIN:DAYLIGHT
TZOFFSETFROM:-0600
TZOFFSETTO:-0500
TZNAME:CDT
DTSTART:20250309T080000
END:DAYLIGHT
BEGIN:STANDARD
TZOFFSETFROM:-0500
TZOFFSETTO:-0600
TZNAME:CST
DTSTART:20251102T070000
END:STANDARD
BEGIN:DAYLIGHT
TZOFFSETFROM:-0600
TZOFFSETTO:-0500
TZNAME:CDT
DTSTART:20260308T080000
END:DAYLIGHT
BEGIN:STANDARD
TZOFFSETFROM:-0500
TZOFFSETTO:-0600
TZNAME:CST
DTSTART:20261101T070000
END:STANDARD
END:VTIMEZONE
BEGIN:VEVENT
DTSTART;TZID=America/Chicago:20251201T080000
DTEND;TZID=America/Chicago:20251215T080000
DTSTAMP:20260423T125221
CREATED:20251129T111111Z
LAST-MODIFIED:20251129T111113Z
UID:10011495-1764576000-1765785600@ruralnewfamilies.com
SUMMARY:Winter Wonderland Event Schedule
DESCRIPTION:Winter Wonderland just got even bigger!WOW & the Wittenberg Chamber are bringing holiday magic all December long—with some brand-new events this year you won’t want to miss.Save the Dates — check out the full schedule and join us for the fun!
URL:https://ruralnewfamilies.com/event/winter-wonderland-event-schedule/
LOCATION:114 W Vinal St\, CountyRoad Ww 100\, Brokaw\, WI\, 54417\, United States
CATEGORIES:Christmas,Community Events & Parades,FREE,Holidays,Plan Ahead,Youth & Family Programs
GEO:45.0325948;-89.646766
X-APPLE-STRUCTURED-LOCATION;VALUE=URI;X-ADDRESS=114 W Vinal St CountyRoad Ww 100 Brokaw WI 54417 United States;X-APPLE-RADIUS=500;X-TITLE=CountyRoad Ww 100:geo:-89.646766,45.0325948
END:VEVENT
BEGIN:VEVENT
DTSTART;TZID=America/Chicago:20251213T080000
DTEND;TZID=America/Chicago:20251213T103000
DTSTAMP:20260423T125221
CREATED:20251120T202857Z
LAST-MODIFIED:20251120T202900Z
UID:10011739-1765612800-1765621800@ruralnewfamilies.com
SUMMARY:🎅🥞 ⏰ 16th Annual Breakfast with Santa
DESCRIPTION:All youth age 12 and under will receive a Christmas present\, get to see Santa and enjoy a FREE breakfast made by the Elks Lodge Members. \n\n\n\n \n\n\n\nRegistration is open for the 𝟏𝟔𝒕𝒉 𝑨𝒏𝒏𝒖𝒂𝒍 𝑩𝒓𝒆𝒂𝒌𝒇𝒂𝒔𝒕 𝒘𝒊𝒕𝒉 𝑺𝒂𝒏𝒕𝒂! \n\n\n\n 𝑆𝑐𝑎𝑛 𝑡ℎ𝑒 𝑄𝑅 𝑐𝑜𝑑𝑒 𝑖𝑛 𝑡ℎ𝑒 𝑖𝑚𝑎𝑔𝑒 𝑜𝑟 𝑐𝑙𝑖𝑐𝑘 𝑡ℎ𝑒 𝑙𝑖𝑛𝑘 to pick your time slot — we can’t wait to see you! \n\n\n\nRegister Here  by November 30th \n\n\n\n\n\n\n\n𝑺𝒖𝒑𝒑𝒐𝒓𝒕 𝒕𝒉𝒆 𝒇𝒖𝒕𝒖𝒓𝒆—𝒎𝒂𝒌𝒆 𝒂 𝒅𝒐𝒏𝒂𝒕𝒊𝒐𝒏 𝒕𝒐 𝒆𝒎𝒑𝒐𝒘𝒆𝒓 𝒐𝒖𝒓 𝒚𝒐𝒖𝒕𝒉 𝒕𝒐𝒅𝒂𝒚 𝒂𝒏𝒅 𝒊𝒏𝒗𝒆𝒔𝒕 𝒊𝒏 𝒐𝒖𝒓 𝒇𝒖𝒕𝒖𝒓𝒆 \n\n\n\n𝑫𝒐𝒏𝒂𝒕𝒆 𝑯𝒆𝒓𝒆: http://weblink.donorperfect.com/MonthyDonation
URL:https://ruralnewfamilies.com/event/%f0%9f%8e%85%f0%9f%a5%9e-%e2%8f%b0-16th-annual-breakfast-with-santa/
LOCATION:Antigo Elks Lodge\, 622 Clermont St\, Antigo\, Wisconsin\, United States
CATEGORIES:Christmas,Community Resource,FREE,Holidays,Plan Ahead,RSVP - Pre-Registration Required,Santa Visit,Youth & Family Programs
GEO:45.1412916;-89.1546702
X-APPLE-STRUCTURED-LOCATION;VALUE=URI;X-ADDRESS=Antigo Elks Lodge 622 Clermont St Antigo Wisconsin United States;X-APPLE-RADIUS=500;X-TITLE=622 Clermont St:geo:-89.1546702,45.1412916
END:VEVENT
BEGIN:VEVENT
DTSTART;TZID=America/Chicago:20251213T100000
DTEND;TZID=America/Chicago:20251213T120000
DTSTAMP:20260423T125221
CREATED:20251115T091349Z
LAST-MODIFIED:20251115T091351Z
UID:10011710-1765620000-1765627200@ruralnewfamilies.com
SUMMARY:🎅 Saturdays with Santa
DESCRIPTION:We are thrilled to be bringing back Saturdays with Santa at the Naberhood (the area right by Franklin Park – you can see the lighted trees and Santa in the same morning!). \n\n\n\nEvery Saturday in December leading up to Christmas\, Santa and some of his elves will be at the Santa House for meet and greets and pictures!
URL:https://ruralnewfamilies.com/event/%f0%9f%8e%85-saturdays-with-santa/2025-12-13/
LOCATION:The Naberhood\, South Main Street 214\, Shawano\, Wisconsin\, 54166\, United States
CATEGORIES:Christmas,Community Events & Parades,Community Resource,FREE,Holidays,Kids Outdoors,Outdoor Event,Park and Rec,Santa Visit,Youth & Family Programs
GEO:44.779699;-88.6087019
X-APPLE-STRUCTURED-LOCATION;VALUE=URI;X-ADDRESS=The Naberhood South Main Street 214 Shawano Wisconsin 54166 United States;X-APPLE-RADIUS=500;X-TITLE=South Main Street 214:geo:-88.6087019,44.779699
END:VEVENT
BEGIN:VEVENT
DTSTART;TZID=America/Chicago:20251213T110000
DTEND;TZID=America/Chicago:20251213T120000
DTSTAMP:20260423T125221
CREATED:20250222T190140Z
LAST-MODIFIED:20250222T190143Z
UID:10008266-1765623600-1765627200@ruralnewfamilies.com
SUMMARY:🐊Doc's Zoo - Alligator Feeding
DESCRIPTION:Come on out and visit Doc’s Zoo!  Alligators get fed every Saturday at 11am (sharp).  You’ll want to get there early enough to park and find your spot.  Leave enough time to wander around the zoo and see ALL the amazing animals.  If you run early – check out Doc’s Amazing Breakfast at Doc’s Timeline Saloon served from 7-11. \n\n\n\nBe sure to visit the indoor and outdoor animals.  If you have older kids\, be sure to check out Doc’s Museum as well.
URL:https://ruralnewfamilies.com/event/%f0%9f%90%8adocs-zoo-alligator-feeding-18/2025-12-13/
LOCATION:Doc’s Harley-Davidson\, Wisconsin 29 w2709\, Bonduel\, WI\, 54107\, United States
CATEGORIES:FREE,Kids Outdoors
GEO:44.704505;-88.374849
X-APPLE-STRUCTURED-LOCATION;VALUE=URI;X-ADDRESS=Doc’s Harley-Davidson Wisconsin 29 w2709 Bonduel WI 54107 United States;X-APPLE-RADIUS=500;X-TITLE=Wisconsin 29 w2709:geo:-88.374849,44.704505
END:VEVENT
BEGIN:VEVENT
DTSTART;TZID=America/Chicago:20251213T110000
DTEND;TZID=America/Chicago:20251213T160000
DTSTAMP:20260423T125221
CREATED:20251213T204551Z
LAST-MODIFIED:20251213T204554Z
UID:10011610-1765623600-1765641600@ruralnewfamilies.com
SUMMARY:Miracle on Bridge Street at the Library
DESCRIPTION:Miracle on Bridge Street is a fun-filled day in Manawa\, organized by local businesses and the Manawa Area Chamber of Commerce.Visit the Sturm Memorial Library to create a keepsake Lego reindeer.Early elementary-age children will need help from their grown-ups for this project\, as the pieces are pretty small.
URL:https://ruralnewfamilies.com/event/miracle-on-bridge-street-at-the-library/
LOCATION:Sturm Memorial Library\, North Bridge Street 130\, Manawa\, Wisconsin\, 54949\, United States
CATEGORIES:Christmas,DIY Crafts,FREE,Holidays
GEO:44.4667058;-88.9196516
X-APPLE-STRUCTURED-LOCATION;VALUE=URI;X-ADDRESS=Sturm Memorial Library North Bridge Street 130 Manawa Wisconsin 54949 United States;X-APPLE-RADIUS=500;X-TITLE=North Bridge Street 130:geo:-88.9196516,44.4667058
END:VEVENT
BEGIN:VEVENT
DTSTART;TZID=America/Chicago:20251213T130000
DTEND;TZID=America/Chicago:20251213T160000
DTSTAMP:20260423T125221
CREATED:20251213T213013Z
LAST-MODIFIED:20251213T213016Z
UID:10011850-1765630800-1765641600@ruralnewfamilies.com
SUMMARY:Santa is coming to Tipsy’z 101
DESCRIPTION:Santa will be at Tipsy’s 101 on December 13 from 1:00-4:00 PMHot Coco (add your favorite beverage to it)Hot CoffeeCookies
URL:https://ruralnewfamilies.com/event/santa-is-coming-to-tipsyz-101/
LOCATION:Tipsy’z 101\, 101 N Main St\, Marion\, Wisconsin\, 54950\, United States
CATEGORIES:Christmas,FREE,Holidays,Santa Visit
GEO:44.6711564;-88.8896347
X-APPLE-STRUCTURED-LOCATION;VALUE=URI;X-ADDRESS=Tipsy’z 101 101 N Main St Marion Wisconsin 54950 United States;X-APPLE-RADIUS=500;X-TITLE=101 N Main St:geo:-88.8896347,44.6711564
END:VEVENT
BEGIN:VEVENT
DTSTART;TZID=America/Chicago:20251213T143000
DTEND;TZID=America/Chicago:20251213T163000
DTSTAMP:20260423T125221
CREATED:20251213T205911Z
LAST-MODIFIED:20251213T205914Z
UID:10011859-1765636200-1765643400@ruralnewfamilies.com
SUMMARY:🧑‍🎄✈️ Twas the Flight Before Christmas
DESCRIPTION:🎅 Watch Santa Make a Spectacular Arrival… in a JET! ✈️Straight from the North Pole!✨ Santa Arrives by Jet at 2:30 PMWhat to Expect:• 📸 Photos with Santa• ☕ Refreshments• ✈️ Learn About Aviation• 🎁 Goody Bags for the First 200 Children Under 10Proudly Sponsored By:AULTRA Tanks • Northern Flight Alliance • American Marine & Motorsports • Culver’s
URL:https://ruralnewfamilies.com/event/%f0%9f%a7%91%f0%9f%8e%84%e2%9c%88%ef%b8%8f-twas-the-flight-before-christmas/
LOCATION:Shawano Municipal Airport\, Gumaer Road W6300\, Shawano\, WI\, 54166\, United States
CATEGORIES:Christmas,Community Resource,FREE,Holidays,Santa Visit
GEO:44.7906001;-88.5587166
X-APPLE-STRUCTURED-LOCATION;VALUE=URI;X-ADDRESS=Shawano Municipal Airport Gumaer Road W6300 Shawano WI 54166 United States;X-APPLE-RADIUS=500;X-TITLE=Gumaer Road W6300:geo:-88.5587166,44.7906001
END:VEVENT
END:VCALENDAR