BEGIN:VCALENDAR
VERSION:2.0
PRODID:-//Rural Northeast Wisconsin Families - ECPv6.15.20//NONSGML v1.0//EN
CALSCALE:GREGORIAN
METHOD:PUBLISH
X-WR-CALNAME:Rural Northeast Wisconsin Families
X-ORIGINAL-URL:https://ruralnewfamilies.com
X-WR-CALDESC:Events for Rural Northeast Wisconsin Families
REFRESH-INTERVAL;VALUE=DURATION:PT1H
X-Robots-Tag:noindex
X-PUBLISHED-TTL:PT1H
BEGIN:VTIMEZONE
TZID:America/Chicago
BEGIN:DAYLIGHT
TZOFFSETFROM:-0600
TZOFFSETTO:-0500
TZNAME:CDT
DTSTART:20240310T080000
END:DAYLIGHT
BEGIN:STANDARD
TZOFFSETFROM:-0500
TZOFFSETTO:-0600
TZNAME:CST
DTSTART:20241103T070000
END:STANDARD
BEGIN:DAYLIGHT
TZOFFSETFROM:-0600
TZOFFSETTO:-0500
TZNAME:CDT
DTSTART:20250309T080000
END:DAYLIGHT
BEGIN:STANDARD
TZOFFSETFROM:-0500
TZOFFSETTO:-0600
TZNAME:CST
DTSTART:20251102T070000
END:STANDARD
BEGIN:DAYLIGHT
TZOFFSETFROM:-0600
TZOFFSETTO:-0500
TZNAME:CDT
DTSTART:20260308T080000
END:DAYLIGHT
BEGIN:STANDARD
TZOFFSETFROM:-0500
TZOFFSETTO:-0600
TZNAME:CST
DTSTART:20261101T070000
END:STANDARD
END:VTIMEZONE
BEGIN:VEVENT
DTSTART;TZID=America/Chicago:20251227T080000
DTEND;TZID=America/Chicago:20251227T110000
DTSTAMP:20260421T154045
CREATED:20251220T043540Z
LAST-MODIFIED:20251220T043542Z
UID:10011957-1766822400-1766833200@ruralnewfamilies.com
SUMMARY:🧇 Waffle Breakfast
DESCRIPTION:Join us for Nick’s Famous Waffles\, coffee\, Hot chocolate\, Toppings and sausages \n\n\n\nDonations will be accepted for Antigo Bike and Ski Club to continue maintaining and enhancing the Gartzke Flowage Recreation Area \n\n\n\nBring your friends and family!!   All ages welcome!!  \n\n\n\nHike or hopefully snowshoe or ski down to the cabin \n\n\n\n \n\n\n\nThe breakfast is sponsored by the Antigo Bike and Ski Club with breakfast donations helping the club maintain and build hiking\, snowshoe and XC ski trails at Gartzke Flowage.
URL:https://ruralnewfamilies.com/event/%f0%9f%a7%87-waffle-breakfast/
LOCATION:Gartzke Recreational Area\, W6379 Fifth Avenue Rd\, Bryant\, Wisconsin\, 54418\, United States
CATEGORIES:Community Events & Parades,Community Resource,FREE,Fundraiser,Hunting/Fishing/Outdoor Sports/Education,Indoor Event,Kids Outdoors,Natural Resources Protection,Outdoor Event,Youth & Family Programs
GEO:45.1271259;-88.96618
X-APPLE-STRUCTURED-LOCATION;VALUE=URI;X-ADDRESS=Gartzke Recreational Area W6379 Fifth Avenue Rd Bryant Wisconsin 54418 United States;X-APPLE-RADIUS=500;X-TITLE=W6379 Fifth Avenue Rd:geo:-88.96618,45.1271259
END:VEVENT
BEGIN:VEVENT
DTSTART;TZID=America/Chicago:20251227T110000
DTEND;TZID=America/Chicago:20251227T120000
DTSTAMP:20260421T154045
CREATED:20250222T190140Z
LAST-MODIFIED:20250222T190143Z
UID:10008268-1766833200-1766836800@ruralnewfamilies.com
SUMMARY:🐊Doc's Zoo - Alligator Feeding
DESCRIPTION:Come on out and visit Doc’s Zoo!  Alligators get fed every Saturday at 11am (sharp).  You’ll want to get there early enough to park and find your spot.  Leave enough time to wander around the zoo and see ALL the amazing animals.  If you run early – check out Doc’s Amazing Breakfast at Doc’s Timeline Saloon served from 7-11. \n\n\n\nBe sure to visit the indoor and outdoor animals.  If you have older kids\, be sure to check out Doc’s Museum as well.
URL:https://ruralnewfamilies.com/event/%f0%9f%90%8adocs-zoo-alligator-feeding-18/2025-12-27/
LOCATION:Doc’s Harley-Davidson\, Wisconsin 29 w2709\, Bonduel\, WI\, 54107\, United States
CATEGORIES:FREE,Kids Outdoors
GEO:44.704505;-88.374849
X-APPLE-STRUCTURED-LOCATION;VALUE=URI;X-ADDRESS=Doc’s Harley-Davidson Wisconsin 29 w2709 Bonduel WI 54107 United States;X-APPLE-RADIUS=500;X-TITLE=Wisconsin 29 w2709:geo:-88.374849,44.704505
END:VEVENT
END:VCALENDAR