BEGIN:VCALENDAR
VERSION:2.0
PRODID:-//Rural Northeast Wisconsin Families - ECPv6.15.20//NONSGML v1.0//EN
CALSCALE:GREGORIAN
METHOD:PUBLISH
X-WR-CALNAME:Rural Northeast Wisconsin Families
X-ORIGINAL-URL:https://ruralnewfamilies.com
X-WR-CALDESC:Events for Rural Northeast Wisconsin Families
REFRESH-INTERVAL;VALUE=DURATION:PT1H
X-Robots-Tag:noindex
X-PUBLISHED-TTL:PT1H
BEGIN:VTIMEZONE
TZID:America/Chicago
BEGIN:DAYLIGHT
TZOFFSETFROM:-0600
TZOFFSETTO:-0500
TZNAME:CDT
DTSTART:20250309T080000
END:DAYLIGHT
BEGIN:STANDARD
TZOFFSETFROM:-0500
TZOFFSETTO:-0600
TZNAME:CST
DTSTART:20251102T070000
END:STANDARD
BEGIN:DAYLIGHT
TZOFFSETFROM:-0600
TZOFFSETTO:-0500
TZNAME:CDT
DTSTART:20260308T080000
END:DAYLIGHT
BEGIN:STANDARD
TZOFFSETFROM:-0500
TZOFFSETTO:-0600
TZNAME:CST
DTSTART:20261101T070000
END:STANDARD
BEGIN:DAYLIGHT
TZOFFSETFROM:-0600
TZOFFSETTO:-0500
TZNAME:CDT
DTSTART:20270314T080000
END:DAYLIGHT
BEGIN:STANDARD
TZOFFSETFROM:-0500
TZOFFSETTO:-0600
TZNAME:CST
DTSTART:20271107T070000
END:STANDARD
END:VTIMEZONE
BEGIN:VEVENT
DTSTART;TZID=America/Chicago:20260103T174500
DTEND;TZID=America/Chicago:20260103T200000
DTSTAMP:20260421T122932
CREATED:20260103T055252Z
LAST-MODIFIED:20260128T002632Z
UID:10012000-1767462300-1767470400@ruralnewfamilies.com
SUMMARY:🌝🥾 Shawano Pathways - Moonlight Hike - Night of the 🐺Wolf Moon
DESCRIPTION:What to Expect: \n\n\n\n\nAll hikes begin within 15 minutes of Downtown Shawano\n\n\n\nArrive at least 15 minutes early to register and get gear on\n\n\n\nFREE – donations appreciated\n\n\n\nWeather can cause cancellations.  Watch for updates on our FB page or website\n\n\n\nBring your own snowshoes and water\n\n\n\nIn the event of No Snow – wear cleats or YakTrax over boots\n\n\n\nFor Moonlight hikes\, bring headlamp if you have one\n\n\n\nTo Save time\, fill out the Waiver/Emergency info online ahead of time\n\n\n\nQuestions – see flyer below.
URL:https://ruralnewfamilies.com/event/%f0%9f%8c%9d%f0%9f%a5%be-shawano-pathways-moonlight-hike-night-of-the-%f0%9f%90%bawolf-moon/
LOCATION:Kroenke Lake State Natural Area\, N7213 Beech Rd\, Shawano\, WI\, 54166\, United States
CATEGORIES:FREE,Hunting/Fishing/Outdoor Sports/Education,Natural Resources Protection,Outdoor Event
GEO:44.853229;-88.702124
X-APPLE-STRUCTURED-LOCATION;VALUE=URI;X-ADDRESS=Kroenke Lake State Natural Area N7213 Beech Rd Shawano WI 54166 United States;X-APPLE-RADIUS=500;X-TITLE=N7213 Beech Rd:geo:-88.702124,44.853229
END:VEVENT
END:VCALENDAR