BEGIN:VCALENDAR
VERSION:2.0
PRODID:-//Rural Northeast Wisconsin Families - ECPv6.15.20//NONSGML v1.0//EN
CALSCALE:GREGORIAN
METHOD:PUBLISH
X-WR-CALNAME:Rural Northeast Wisconsin Families
X-ORIGINAL-URL:https://ruralnewfamilies.com
X-WR-CALDESC:Events for Rural Northeast Wisconsin Families
REFRESH-INTERVAL;VALUE=DURATION:PT1H
X-Robots-Tag:noindex
X-PUBLISHED-TTL:PT1H
BEGIN:VTIMEZONE
TZID:America/Chicago
BEGIN:DAYLIGHT
TZOFFSETFROM:-0600
TZOFFSETTO:-0500
TZNAME:CDT
DTSTART:20250309T080000
END:DAYLIGHT
BEGIN:STANDARD
TZOFFSETFROM:-0500
TZOFFSETTO:-0600
TZNAME:CST
DTSTART:20251102T070000
END:STANDARD
BEGIN:DAYLIGHT
TZOFFSETFROM:-0600
TZOFFSETTO:-0500
TZNAME:CDT
DTSTART:20260308T080000
END:DAYLIGHT
BEGIN:STANDARD
TZOFFSETFROM:-0500
TZOFFSETTO:-0600
TZNAME:CST
DTSTART:20261101T070000
END:STANDARD
BEGIN:DAYLIGHT
TZOFFSETFROM:-0600
TZOFFSETTO:-0500
TZNAME:CDT
DTSTART:20270314T080000
END:DAYLIGHT
BEGIN:STANDARD
TZOFFSETFROM:-0500
TZOFFSETTO:-0600
TZNAME:CST
DTSTART:20271107T070000
END:STANDARD
END:VTIMEZONE
BEGIN:VEVENT
DTSTART;TZID=America/Chicago:20260124T070000
DTEND;TZID=America/Chicago:20260124T153000
DTSTAMP:20260425T144842
CREATED:20260104T071655Z
LAST-MODIFIED:20260104T071742Z
UID:10012027-1769238000-1769268600@ruralnewfamilies.com
SUMMARY:🎣 Manawa Cowboys Fisheree
DESCRIPTION:This is the Manawa Cowboys Football and Cheer Program’s second year of hosting the Manawa Cowboys Fisheree; formally known as the Fishing for Freedom Fisheree. Please come out and support our local youth program. 🙂 \n\n\n\nDue to Manawa not having the Mill Pond right now\, the fishing tournament for this year will include the following bodies of water: \n\n\n\n\nBear Lake\n\n\n\nSchool Section Lake\n\n\n\nCedar Lake\n\n\n\nWhite Lake\n\n\n\nWeyauwega Pond\n\n\n\n\n \n\n\n\nFishing times will be Midnight-1pm. \n\n\n\nPlease bring your fish back to the shelter and register your fish by 1pm to qualify for a trophy prize for the first-place fish in these 5 species: crappie\, bass\, northern\, perch\, blue gill. \n\n\n\nNo live fish can be registered! \n\n\n\nOther fun events: \n\n\n\n\nSoup Cook-off (1st\, 2nd\, & 3rd place)\n\n\n\nRaffle Baskets\n\n\n\nPaddle Wheel\n\n\n\n50/50\n\n\n\nSocial Outing\n\n\n\n\nTrophy/drawing times:50/50 Drawing – 1:30pmBiggest fish announcement – 2pmSoup Cook-off to followRaffle baskets to followRaffle tickets to follow \n\n\n\nOur Main Raffle Tickets:$10 each are available.10 winners\, no need to be present.Prizes include: \n\n\n\n\n-Aipas E-Bike\n\n\n\n-Diamondback 15 5.56MM\n\n\n\n-Portable Ice Shelter\n\n\n\n-CZP-10 9mm\n\n\n\n-Yeti Cooler Set\n\n\n\n-Savage Arms Axis 2 XP FDE 308\n\n\n\n-Milwaukee Tool Set\n\n\n\n-Ruger American Heartland 22LR\n\n\n\n-PS5\n\n\n\n-Ruger American G2 6mm Creedmoor\n\n\n\n\nThank you for all of the community’s support! We hope to see you on January 24th! \n\n\n\nDon’t forget to get your minnows and ice fishing gear from LWRO! \n\n\n\n \n\n\n\nAlcohol will be available on site\, however\, ID will be required – MUST be 21! \n\n\n\nWell-behaved\, leashed dogs are welcome. \n\n\n\nPublic restrooms are available.  This event is stroller and wheel-chair accessible. \n\n\n\n\n\n\n\n\n\n\n\n\n\nParking Locations
URL:https://ruralnewfamilies.com/event/%f0%9f%8e%a3-manawa-cowboys-fisheree/
LOCATION:Manawa Area Veterans Freedom Park\, 176 Beach Road\, Manawa\, WI\, 54949\, United States
CATEGORIES:Community Events & Parades,FREE,Fundraiser,Hunting/Fishing/Outdoor Sports/Education,Kids Outdoors,Outdoor Event,Sporting Events,Youth & Family Programs
GEO:44.4669672;-88.9192954
X-APPLE-STRUCTURED-LOCATION;VALUE=URI;X-ADDRESS=Manawa Area Veterans Freedom Park 176 Beach Road Manawa WI 54949 United States;X-APPLE-RADIUS=500;X-TITLE=176 Beach Road:geo:-88.9192954,44.4669672
END:VEVENT
BEGIN:VEVENT
DTSTART;TZID=America/Chicago:20260124T090000
DTEND;TZID=America/Chicago:20260124T120000
DTSTAMP:20260425T144842
CREATED:20260121T043426Z
LAST-MODIFIED:20260121T043428Z
UID:10012103-1769245200-1769256000@ruralnewfamilies.com
SUMMARY:FREE Hot Cocoa Bar at ALL Fleet Farm Locations
DESCRIPTION:Join us on Saturday\, January 24th for Fleet Farm’s FREE Hot Cocoa Bar!  \n\n\n\n☕ Don’t miss your chance to enjoy a nice hot cup of cocoa with tasty toppings and add-ins while you shop around the store! \n\n\n\nOur Hot Cocoa Bar will be at ALL Fleet Farm stores!
URL:https://ruralnewfamilies.com/event/free-hot-cocoa-bar-at-all-fleet-farm-locations/
LOCATION:Fleet Farm – Clintonville\, South Main Street 500\, Clintonville\, Wisconsin\, 54929\, United States
CATEGORIES:FREE,Shopping
ATTACH;FMTTYPE=image/jpeg:https://ruralnewfamilies.com/wp-content/uploads/2026/01/Fleet-Farm-Hot-Cocoa-Bar-January-2026.jpg
GEO:44.6005772;-88.7664355
X-APPLE-STRUCTURED-LOCATION;VALUE=URI;X-ADDRESS=Fleet Farm – Clintonville South Main Street 500 Clintonville Wisconsin 54929 United States;X-APPLE-RADIUS=500;X-TITLE=South Main Street 500:geo:-88.7664355,44.6005772
END:VEVENT
BEGIN:VEVENT
DTSTART;TZID=America/Chicago:20260124T133000
DTEND;TZID=America/Chicago:20260124T160000
DTSTAMP:20260425T144842
CREATED:20260107T150730Z
LAST-MODIFIED:20260120T042654Z
UID:10012037-1769261400-1769270400@ruralnewfamilies.com
SUMMARY:**Rescheduled due to weather** 🥾 Shawano Pathways Winter Hike
DESCRIPTION:This Hike Has Been Rescheduled to January 31st due to weather (1/19/2026)\n\n\n\n \n\n\n\nShawano Pathways will be hosting five winter hikes in 2026. Hikes are free (donations appreciated) and all are encouraged to participate.  \n\n\n\n**Note** – Product links below are affiliate links. \n\n\n\nNote: No RSVP is required.  Please be sure to arrive 15 minutes early.  To save time\, fill out the Annual Waiver online ahead of time. \n\n\n\nWhat to Expect: \n\n\n\n\nAll hikes begin within 15 minutes of Downtown Shawano – various hike lengths are offered at each event to encourage hikers of all abilities to participate\n\n\n\nArrive at least 15 minutes early to register and get gear on\n\n\n\nFREE – donations appreciated\n\n\n\nWell-behaved\, leashed Dogs are welcome\n\n\n\nNOTE – This location does NOT have public restrooms available.\n\n\n\nThis Event Is NOT wheel-chair/stroller accessible.\n\n\n\nWeather can cause cancellations. Watch for updates on our FB page or website\n\n\n\nBring your own snowshoes and water\n\n\n\nIn the event of Poor Snow Conditions – wear cleats or YakTrax (faster delivery option\,  Under $10 and fast shipping option) over boots\n\n\n\nFor Moonlight hikes\, bring headlamp (multi-purpose lamp only) if you have one\n\n\n\nTo Save time\, fill out the Waiver/Emergency info online ahead of time\n\n\n\nQuestions – see flyer below.\n\n\n\n\nUpdated Flyer Dates Due to Weather (1/19/2026)
URL:https://ruralnewfamilies.com/event/shawano-pathways-winter-hike-3/
LOCATION:Cotter Creek Trails\, W9050 Broadway Rd\, Shawano\, Wisconsin\, 54166\, United States
CATEGORIES:Community Events & Parades,Community Resource,FREE,Hunting/Fishing/Outdoor Sports/Education,Kids Outdoors,Natural Resources Protection,Outdoor Event,Plan Ahead,Youth & Family Programs
GEO:44.833147;-88.7004493
X-APPLE-STRUCTURED-LOCATION;VALUE=URI;X-ADDRESS=Cotter Creek Trails W9050 Broadway Rd Shawano Wisconsin 54166 United States;X-APPLE-RADIUS=500;X-TITLE=W9050 Broadway Rd:geo:-88.7004493,44.833147
END:VEVENT
END:VCALENDAR