BEGIN:VCALENDAR
VERSION:2.0
PRODID:-//Rural Northeast Wisconsin Families - ECPv6.15.20//NONSGML v1.0//EN
CALSCALE:GREGORIAN
METHOD:PUBLISH
X-WR-CALNAME:Rural Northeast Wisconsin Families
X-ORIGINAL-URL:https://ruralnewfamilies.com
X-WR-CALDESC:Events for Rural Northeast Wisconsin Families
REFRESH-INTERVAL;VALUE=DURATION:PT1H
X-Robots-Tag:noindex
X-PUBLISHED-TTL:PT1H
BEGIN:VTIMEZONE
TZID:America/Chicago
BEGIN:DAYLIGHT
TZOFFSETFROM:-0600
TZOFFSETTO:-0500
TZNAME:CDT
DTSTART:20250309T080000
END:DAYLIGHT
BEGIN:STANDARD
TZOFFSETFROM:-0500
TZOFFSETTO:-0600
TZNAME:CST
DTSTART:20251102T070000
END:STANDARD
BEGIN:DAYLIGHT
TZOFFSETFROM:-0600
TZOFFSETTO:-0500
TZNAME:CDT
DTSTART:20260308T080000
END:DAYLIGHT
BEGIN:STANDARD
TZOFFSETFROM:-0500
TZOFFSETTO:-0600
TZNAME:CST
DTSTART:20261101T070000
END:STANDARD
BEGIN:DAYLIGHT
TZOFFSETFROM:-0600
TZOFFSETTO:-0500
TZNAME:CDT
DTSTART:20270314T080000
END:DAYLIGHT
BEGIN:STANDARD
TZOFFSETFROM:-0500
TZOFFSETTO:-0600
TZNAME:CST
DTSTART:20271107T070000
END:STANDARD
END:VTIMEZONE
BEGIN:VEVENT
DTSTART;TZID=America/Chicago:20260203T100000
DTEND;TZID=America/Chicago:20260203T120000
DTSTAMP:20260421T122854
CREATED:20260128T025244Z
LAST-MODIFIED:20260128T025247Z
UID:10012167-1770112800-1770120000@ruralnewfamilies.com
SUMMARY:🏖️ Storytime Beach Day Party!
DESCRIPTION:☀️🏖️ Beach Day Storytime at the Library! 🏖️☀️Get ready for some sunny fun at the library! Join us for an extra special Beach Day storytime\, specially designed for children ages 0–5 and their caregivers\, but all are welcome to attend.We’ll enjoy:📚 Beach-themed stories and songs🎨 Beachy crafts for little hands🫧 Bubble fun!🎲 Sensory bins and beach games🍉 Tasty snacksBring your little beachgoers for a morning of learning\, play\, and summer smiles—no sunscreen required! 🌊😄
URL:https://ruralnewfamilies.com/event/%f0%9f%8f%96%ef%b8%8f-storytime-beach-day-party/
LOCATION:Clintonville Public Library\, 75 Hemlock St\, Clintonville\, WI 54929\, USA\, Hemlock Street 75\, Clintonville\, WI\, 54929\, United States
CATEGORIES:FREE,Library/Museum,Storytime
GEO:44.6216244;-88.7646184
X-APPLE-STRUCTURED-LOCATION;VALUE=URI;X-ADDRESS=Clintonville Public Library 75 Hemlock St Clintonville WI 54929 USA Hemlock Street 75 Clintonville WI 54929 United States;X-APPLE-RADIUS=500;X-TITLE=Hemlock Street 75:geo:-88.7646184,44.6216244
END:VEVENT
BEGIN:VEVENT
DTSTART;TZID=America/Chicago:20260203T103000
DTEND;TZID=America/Chicago:20260203T110000
DTSTAMP:20260421T122854
CREATED:20250610T035623Z
LAST-MODIFIED:20250610T035626Z
UID:10009825-1770114600-1770116400@ruralnewfamilies.com
SUMMARY:📚 Bonduel/Story Time
DESCRIPTION:NEW DAY AND TIME! Bring the little ones to the library for a story\, a song\, and a fun craft!
URL:https://ruralnewfamilies.com/event/%f0%9f%93%9a-bonduel-story-time/2026-02-03/
LOCATION:Bonduel Library\, North Washington Street 125\, Bonduel\, WI\, 54107\, United States
CATEGORIES:FREE,Library/Museum,Storytime,Summer Reading Program
GEO:44.7384574;-88.4412828
X-APPLE-STRUCTURED-LOCATION;VALUE=URI;X-ADDRESS=Bonduel Library North Washington Street 125 Bonduel WI 54107 United States;X-APPLE-RADIUS=500;X-TITLE=North Washington Street 125:geo:-88.4412828,44.7384574
END:VEVENT
END:VCALENDAR