BEGIN:VCALENDAR
VERSION:2.0
PRODID:-//Rural Northeast Wisconsin Families - ECPv6.15.20//NONSGML v1.0//EN
CALSCALE:GREGORIAN
METHOD:PUBLISH
X-ORIGINAL-URL:https://ruralnewfamilies.com
X-WR-CALDESC:Events for Rural Northeast Wisconsin Families
REFRESH-INTERVAL;VALUE=DURATION:PT1H
X-Robots-Tag:noindex
X-PUBLISHED-TTL:PT1H
BEGIN:VTIMEZONE
TZID:America/Chicago
BEGIN:DAYLIGHT
TZOFFSETFROM:-0600
TZOFFSETTO:-0500
TZNAME:CDT
DTSTART:20250309T080000
END:DAYLIGHT
BEGIN:STANDARD
TZOFFSETFROM:-0500
TZOFFSETTO:-0600
TZNAME:CST
DTSTART:20251102T070000
END:STANDARD
BEGIN:DAYLIGHT
TZOFFSETFROM:-0600
TZOFFSETTO:-0500
TZNAME:CDT
DTSTART:20260308T080000
END:DAYLIGHT
BEGIN:STANDARD
TZOFFSETFROM:-0500
TZOFFSETTO:-0600
TZNAME:CST
DTSTART:20261101T070000
END:STANDARD
BEGIN:DAYLIGHT
TZOFFSETFROM:-0600
TZOFFSETTO:-0500
TZNAME:CDT
DTSTART:20270314T080000
END:DAYLIGHT
BEGIN:STANDARD
TZOFFSETFROM:-0500
TZOFFSETTO:-0600
TZNAME:CST
DTSTART:20271107T070000
END:STANDARD
END:VTIMEZONE
BEGIN:VEVENT
DTSTART;TZID=America/Chicago:20260205T100000
DTEND;TZID=America/Chicago:20260205T170000
DTSTAMP:20260421T105945
CREATED:20260204T035744Z
LAST-MODIFIED:20260204T035746Z
UID:10012299-1770285600-1770310800@ruralnewfamilies.com
SUMMARY:Milwaukee Public Museum - FREE Admission
DESCRIPTION:Come see the Permanent Exhibits for FREE!  Children must be accompanied by an adult to receive free admission. \n\n\n\nReservations\n\n\n\nAdmission is free\, but we strongly recommend advance reservations.* Walk-up tickets are not guaranteed. \n\n\n\nNOTE: Please stay tuned as future dates are added. Reservations for Kohl’s Thank You Thursday can be made 7 days prior to the dates listed above. \n\n\n\nChildren ages 0-3 must be included when making your reservation.
URL:https://ruralnewfamilies.com/event/milwaukee-public-museum-free-admission/2026-02-05/
LOCATION:Milwaukee Public Museum\, 800 West Wells St\, Milwaukee\, Wisconsin\, United States
CATEGORIES:Community Events & Parades,Community Resource,FREE,Indoor Event,Library/Museum,Music, Arts, Culture, & Tours,Plan Ahead,Plan Ahead- RSVP Suggested- not required,Youth & Family Programs
GEO:43.0406616;-87.9211463
X-APPLE-STRUCTURED-LOCATION;VALUE=URI;X-ADDRESS=Milwaukee Public Museum 800 West Wells St Milwaukee Wisconsin United States;X-APPLE-RADIUS=500;X-TITLE=800 West Wells St:geo:-87.9211463,43.0406616
END:VEVENT
BEGIN:VEVENT
DTSTART;TZID=America/Chicago:20260205T130000
DTEND;TZID=America/Chicago:20260205T160000
DTSTAMP:20260421T105945
CREATED:20260131T085502Z
LAST-MODIFIED:20260131T085504Z
UID:10012212-1770296400-1770307200@ruralnewfamilies.com
SUMMARY:📚🍣 Books & Bites
DESCRIPTION:Join Miss Kelly and your friends! We’ll be learning\, reading\, and having fun in the kitchen; making banana sushi and peanut butter & jelly sushi. Pre-registration is required for this event.  \n\n\n\nSign up now by calling the library at 715-754-5368.Age 8+ (under 8 w/ supervision)
URL:https://ruralnewfamilies.com/event/%f0%9f%93%9a%f0%9f%8d%a3-books-bites/
LOCATION:Marion Public Library\, North Main Street 120\, Marion\, Wisconsin\, 54950\, United States
CATEGORIES:Class,Community Events & Parades,FREE,Library/Museum,Plan Ahead,RSVP - Pre-Registration Required,Youth & Family Programs
GEO:44.6712452;-88.8889175
X-APPLE-STRUCTURED-LOCATION;VALUE=URI;X-ADDRESS=Marion Public Library North Main Street 120 Marion Wisconsin 54950 United States;X-APPLE-RADIUS=500;X-TITLE=North Main Street 120:geo:-88.8889175,44.6712452
END:VEVENT
END:VCALENDAR