BEGIN:VCALENDAR
VERSION:2.0
PRODID:-//Rural Northeast Wisconsin Families - ECPv6.15.20//NONSGML v1.0//EN
CALSCALE:GREGORIAN
METHOD:PUBLISH
X-WR-CALNAME:Rural Northeast Wisconsin Families
X-ORIGINAL-URL:https://ruralnewfamilies.com
X-WR-CALDESC:Events for Rural Northeast Wisconsin Families
REFRESH-INTERVAL;VALUE=DURATION:PT1H
X-Robots-Tag:noindex
X-PUBLISHED-TTL:PT1H
BEGIN:VTIMEZONE
TZID:America/Chicago
BEGIN:DAYLIGHT
TZOFFSETFROM:-0600
TZOFFSETTO:-0500
TZNAME:CDT
DTSTART:20250309T080000
END:DAYLIGHT
BEGIN:STANDARD
TZOFFSETFROM:-0500
TZOFFSETTO:-0600
TZNAME:CST
DTSTART:20251102T070000
END:STANDARD
BEGIN:DAYLIGHT
TZOFFSETFROM:-0600
TZOFFSETTO:-0500
TZNAME:CDT
DTSTART:20260308T080000
END:DAYLIGHT
BEGIN:STANDARD
TZOFFSETFROM:-0500
TZOFFSETTO:-0600
TZNAME:CST
DTSTART:20261101T070000
END:STANDARD
BEGIN:DAYLIGHT
TZOFFSETFROM:-0600
TZOFFSETTO:-0500
TZNAME:CDT
DTSTART:20270314T080000
END:DAYLIGHT
BEGIN:STANDARD
TZOFFSETFROM:-0500
TZOFFSETTO:-0600
TZNAME:CST
DTSTART:20271107T070000
END:STANDARD
END:VTIMEZONE
BEGIN:VEVENT
DTSTART;TZID=America/Chicago:20260216T101500
DTEND;TZID=America/Chicago:20260216T111500
DTSTAMP:20260421T140528
CREATED:20260128T041836Z
LAST-MODIFIED:20260128T041921Z
UID:10012189-1771236900-1771240500@ruralnewfamilies.com
SUMMARY:Babygarten
DESCRIPTION:An event for babies!  Come\, play\, learn and grow together!  \n\n\n\nActivities include: \n\n\n\n\nStorytime and singing\n\n\n\nNursery Rhymes\n\n\n\nSocial Playtime\n\n\n\nCraft (once per month)
URL:https://ruralnewfamilies.com/event/babygarten-2/2026-02-16/
LOCATION:Marion Public Library\, North Main Street 120\, Marion\, Wisconsin\, 54950\, United States
CATEGORIES:FREE,Indoor Event,Library/Museum,Life Stages And Special Communities,Storytime,Youth & Family Programs
GEO:44.6712452;-88.8889175
X-APPLE-STRUCTURED-LOCATION;VALUE=URI;X-ADDRESS=Marion Public Library North Main Street 120 Marion Wisconsin 54950 United States;X-APPLE-RADIUS=500;X-TITLE=North Main Street 120:geo:-88.8889175,44.6712452
END:VEVENT
BEGIN:VEVENT
DTSTART;TZID=America/Chicago:20260216T103000
DTEND;TZID=America/Chicago:20260216T113000
DTSTAMP:20260421T140528
CREATED:20260208T054249Z
LAST-MODIFIED:20260208T054251Z
UID:10012396-1771237800-1771241400@ruralnewfamilies.com
SUMMARY:Playgroup
DESCRIPTION:Come to our meeting room every Monday for our Playgroup!   \n\n\n\nLots of Toy Stations\, Storytime and a Snack!
URL:https://ruralnewfamilies.com/event/playgroup/2026-02-16/
LOCATION:Oconto Falls Library\, North Main Street 251\, Oconto Falls\, WI\, 54154\, United States
CATEGORIES:Community Resource,FREE,Library/Museum,Storytime
GEO:44.876309;-88.1455453
X-APPLE-STRUCTURED-LOCATION;VALUE=URI;X-ADDRESS=Oconto Falls Library North Main Street 251 Oconto Falls WI 54154 United States;X-APPLE-RADIUS=500;X-TITLE=North Main Street 251:geo:-88.1455453,44.876309
END:VEVENT
BEGIN:VEVENT
DTSTART;TZID=America/Chicago:20260216T130000
DTEND;TZID=America/Chicago:20260216T160000
DTSTAMP:20260421T140528
CREATED:20260216T201803Z
LAST-MODIFIED:20260216T201806Z
UID:10012277-1771246800-1771257600@ruralnewfamilies.com
SUMMARY:🍵 Adult Crafternoon - decorate your own cup!
DESCRIPTION:A crafting session for adults! Come by on Monday\, February 16th at 1:00 PM to decorate your own cup!Laurie will have different size cups and saucers for you to decorate!Like all library programs\, this activity is free of charge. No sign up required – see you there!
URL:https://ruralnewfamilies.com/event/%f0%9f%8d%b5-adult-crafternoon-decorate-your-own-cup/
LOCATION:Oconto Falls Library\, North Main Street 251\, Oconto Falls\, WI\, 54154\, United States
CATEGORIES:DIY Crafts,FREE,Library/Museum
GEO:44.876309;-88.1455453
X-APPLE-STRUCTURED-LOCATION;VALUE=URI;X-ADDRESS=Oconto Falls Library North Main Street 251 Oconto Falls WI 54154 United States;X-APPLE-RADIUS=500;X-TITLE=North Main Street 251:geo:-88.1455453,44.876309
END:VEVENT
BEGIN:VEVENT
DTSTART;TZID=America/Chicago:20260216T180000
DTEND;TZID=America/Chicago:20260216T200000
DTSTAMP:20260421T140528
CREATED:20260216T195749Z
LAST-MODIFIED:20260216T195751Z
UID:10012570-1771264800-1771272000@ruralnewfamilies.com
SUMMARY:Sam25 Free Eye Clinic
DESCRIPTION:Free eye exams for those uninsured and  living near the poverty line\n\n\n\nPrescriptions for eyeglasses provided\n\n\n\nAffordable eyeglasses available
URL:https://ruralnewfamilies.com/event/sam25-free-eye-clinic/2026-02-16/
LOCATION:Sam25\, East Richmond Street 105\, Shawano\, WI\, 54166\, United States
CATEGORIES:Community Resource,FREE,Health and Safety
GEO:44.7747944;-88.608432
X-APPLE-STRUCTURED-LOCATION;VALUE=URI;X-ADDRESS=Sam25 East Richmond Street 105 Shawano WI 54166 United States;X-APPLE-RADIUS=500;X-TITLE=East Richmond Street 105:geo:-88.608432,44.7747944
END:VEVENT
END:VCALENDAR