BEGIN:VCALENDAR
VERSION:2.0
PRODID:-//Rural Northeast Wisconsin Families - ECPv6.15.20//NONSGML v1.0//EN
CALSCALE:GREGORIAN
METHOD:PUBLISH
X-WR-CALNAME:Rural Northeast Wisconsin Families
X-ORIGINAL-URL:https://ruralnewfamilies.com
X-WR-CALDESC:Events for Rural Northeast Wisconsin Families
REFRESH-INTERVAL;VALUE=DURATION:PT1H
X-Robots-Tag:noindex
X-PUBLISHED-TTL:PT1H
BEGIN:VTIMEZONE
TZID:America/Chicago
BEGIN:DAYLIGHT
TZOFFSETFROM:-0600
TZOFFSETTO:-0500
TZNAME:CDT
DTSTART:20250309T080000
END:DAYLIGHT
BEGIN:STANDARD
TZOFFSETFROM:-0500
TZOFFSETTO:-0600
TZNAME:CST
DTSTART:20251102T070000
END:STANDARD
BEGIN:DAYLIGHT
TZOFFSETFROM:-0600
TZOFFSETTO:-0500
TZNAME:CDT
DTSTART:20260308T080000
END:DAYLIGHT
BEGIN:STANDARD
TZOFFSETFROM:-0500
TZOFFSETTO:-0600
TZNAME:CST
DTSTART:20261101T070000
END:STANDARD
BEGIN:DAYLIGHT
TZOFFSETFROM:-0600
TZOFFSETTO:-0500
TZNAME:CDT
DTSTART:20270314T080000
END:DAYLIGHT
BEGIN:STANDARD
TZOFFSETFROM:-0500
TZOFFSETTO:-0600
TZNAME:CST
DTSTART:20271107T070000
END:STANDARD
END:VTIMEZONE
BEGIN:VEVENT
DTSTART;TZID=America/Chicago:20260217T103000
DTEND;TZID=America/Chicago:20260217T110000
DTSTAMP:20260421T140336
CREATED:20250610T035623Z
LAST-MODIFIED:20250610T035626Z
UID:10009827-1771324200-1771326000@ruralnewfamilies.com
SUMMARY:📚 Bonduel/Story Time
DESCRIPTION:NEW DAY AND TIME! Bring the little ones to the library for a story\, a song\, and a fun craft!
URL:https://ruralnewfamilies.com/event/%f0%9f%93%9a-bonduel-story-time/2026-02-17/
LOCATION:Bonduel Library\, North Washington Street 125\, Bonduel\, WI\, 54107\, United States
CATEGORIES:FREE,Library/Museum,Storytime,Summer Reading Program
GEO:44.7384574;-88.4412828
X-APPLE-STRUCTURED-LOCATION;VALUE=URI;X-ADDRESS=Bonduel Library North Washington Street 125 Bonduel WI 54107 United States;X-APPLE-RADIUS=500;X-TITLE=North Washington Street 125:geo:-88.4412828,44.7384574
END:VEVENT
BEGIN:VEVENT
DTSTART;TZID=America/Chicago:20260217T180000
DTEND;TZID=America/Chicago:20260217T200000
DTSTAMP:20260421T140336
CREATED:20260204T014010Z
LAST-MODIFIED:20260204T014013Z
UID:10012293-1771351200-1771358400@ruralnewfamilies.com
SUMMARY:🍁 Outdoor Education: Maple Syrup
DESCRIPTION:Two ways to attend: In-Person and Virtually via Zoom! \n\n\n\nThe program will cover: \n\n\n\n\nTree tapping details and timing\n\n\n\nSmall and Large production processes and equipment\n\n\n\nKey measurement techniques\n\n\n\nSupplies on display and for sale\n\n\n\nInfo for new and current producers\n\n\n\nBring your questions\n\n\n\n\nFor More Information and to Register for Zoom Link \n\n\n\n \n\n\n\nThis program should be of interest to those considering making maple syrup\, those who want to compare experiences and techniques and to those curious about the process of obtaining this tasty and necessary pancake product.
URL:https://ruralnewfamilies.com/event/%f0%9f%8d%81-outdoor-education-maple-syrup/
LOCATION:Wild Rivers Interpretive Center\, 5628 Forestry Dr\, Florence\, Wisconsin\, United States
CATEGORIES:Class,Community Resource,FREE,Hunting/Fishing/Outdoor Sports/Education,Natural Resources Protection,Plan Ahead,Plan Ahead- RSVP Suggested- not required,RSVP - Pre-Registration Required,Speaker Series
GEO:45.922306;-88.2610645
X-APPLE-STRUCTURED-LOCATION;VALUE=URI;X-ADDRESS=Wild Rivers Interpretive Center 5628 Forestry Dr Florence Wisconsin United States;X-APPLE-RADIUS=500;X-TITLE=5628 Forestry Dr:geo:-88.2610645,45.922306
END:VEVENT
END:VCALENDAR