BEGIN:VCALENDAR
VERSION:2.0
PRODID:-//Rural Northeast Wisconsin Families - ECPv6.15.20//NONSGML v1.0//EN
CALSCALE:GREGORIAN
METHOD:PUBLISH
X-WR-CALNAME:Rural Northeast Wisconsin Families
X-ORIGINAL-URL:https://ruralnewfamilies.com
X-WR-CALDESC:Events for Rural Northeast Wisconsin Families
REFRESH-INTERVAL;VALUE=DURATION:PT1H
X-Robots-Tag:noindex
X-PUBLISHED-TTL:PT1H
BEGIN:VTIMEZONE
TZID:America/Chicago
BEGIN:DAYLIGHT
TZOFFSETFROM:-0600
TZOFFSETTO:-0500
TZNAME:CDT
DTSTART:20250309T080000
END:DAYLIGHT
BEGIN:STANDARD
TZOFFSETFROM:-0500
TZOFFSETTO:-0600
TZNAME:CST
DTSTART:20251102T070000
END:STANDARD
BEGIN:DAYLIGHT
TZOFFSETFROM:-0600
TZOFFSETTO:-0500
TZNAME:CDT
DTSTART:20260308T080000
END:DAYLIGHT
BEGIN:STANDARD
TZOFFSETFROM:-0500
TZOFFSETTO:-0600
TZNAME:CST
DTSTART:20261101T070000
END:STANDARD
BEGIN:DAYLIGHT
TZOFFSETFROM:-0600
TZOFFSETTO:-0500
TZNAME:CDT
DTSTART:20270314T080000
END:DAYLIGHT
BEGIN:STANDARD
TZOFFSETFROM:-0500
TZOFFSETTO:-0600
TZNAME:CST
DTSTART:20271107T070000
END:STANDARD
END:VTIMEZONE
BEGIN:VEVENT
DTSTART;TZID=America/Chicago:20260219T090000
DTEND;TZID=America/Chicago:20260219T103000
DTSTAMP:20260423T064426
CREATED:20260217T230836Z
LAST-MODIFIED:20260217T230838Z
UID:10012635-1771491600-1771497000@ruralnewfamilies.com
SUMMARY:Waupaca County Highway Committee Meeting
DESCRIPTION:Waupaca County Highway Committee Meeting 2-19-26 Agenda\n\n\n\nWaupaca County Highway Committee Meeting Packet 2-19-2026 1-15-26 minutes
URL:https://ruralnewfamilies.com/event/waupaca-county-highway-committee-meeting/
LOCATION:Waupaca County Highway Office\, 2710 County Rd A\, Waupaca\, Wisconsin\, United States
CATEGORIES:Community Meetings,County Board,Election,FREE
GEO:44.321444;-89.0468776
X-APPLE-STRUCTURED-LOCATION;VALUE=URI;X-ADDRESS=Waupaca County Highway Office 2710 County Rd A Waupaca Wisconsin United States;X-APPLE-RADIUS=500;X-TITLE=2710 County Rd A:geo:-89.0468776,44.321444
END:VEVENT
BEGIN:VEVENT
DTSTART;TZID=America/Chicago:20260219T110000
DTEND;TZID=America/Chicago:20260219T123000
DTSTAMP:20260423T064426
CREATED:20260217T231757Z
LAST-MODIFIED:20260217T231759Z
UID:10012636-1771498800-1771504200@ruralnewfamilies.com
SUMMARY:Waupaca County Aging & ADRC Committee Meeting
DESCRIPTION:Waupaca County Aging and ADRC Committee meeting Agenda 2.19.26\n\n\n\nWaupaca County  Aging and ADRC Committee Meeting Packet 2.19.2026- Draft 12.18.25
URL:https://ruralnewfamilies.com/event/waupaca-county-aging-adrc-committee-meeting/
LOCATION:FVTC – Waupaca\, 1979 Godfrey Dr\, Waupaca\, Wisconsin\, United States
CATEGORIES:Community Meetings,Community Resource,County Board,Election,FREE,Senior Connections
GEO:44.3484937;-89.0357786
X-APPLE-STRUCTURED-LOCATION;VALUE=URI;X-ADDRESS=FVTC – Waupaca 1979 Godfrey Dr Waupaca Wisconsin United States;X-APPLE-RADIUS=500;X-TITLE=1979 Godfrey Dr:geo:-89.0357786,44.3484937
END:VEVENT
BEGIN:VEVENT
DTSTART;TZID=America/Chicago:20260219T120000
DTEND;TZID=America/Chicago:20260219T200000
DTSTAMP:20260423T064426
CREATED:20260220T174139Z
LAST-MODIFIED:20260220T174143Z
UID:10012712-1771502400-1771531200@ruralnewfamilies.com
SUMMARY:American Marine and Motorsports 14th Annual In-House Boat Show
DESCRIPTION:The American Marine & Motorsports 14th Annual In-House Boat Show is happening February 19–22\, and it’s packed with excitement for everyone! Come see the latest boats and powersports\, score incredible deals\, enjoy food and drinks\, play games\, and take part in giveaways. Whether you’re looking to buy\, browse\, or just have some fun\, there’s something for everyone all weekend long. \n\n\n\nHere’s what we’ll have going on during the show: \n\n\n\n\nStubborn Brothers Brewery on-site 🍺\n\n\n\nFood and other vendors (more details coming soon)\n\n\n\nHourly prizes\n\n\n\nGames you can play to win prizes\n\n\n\nFace painting for kids 🎨\n\n\n\nAmerican Marine’s best pricing with meet-or-beat deals\n\n\n\nFree t-shirts for the first 100 people through the door\n\n\n\n\nIt’s more than just a boat show — it’s a weekend full of fun\, deals\, and surprises. Come see what’s happening at the 14th Annual In-House Boat Show at American Marine & Motorsports! \n\n\n\nBoater Safety Class – Pre-Registration Required\n\n\n\n Boater Safety Course at the 14th Annual American Marine & Motorsports Boat Show!  \n\n\n\nWe’re excited to offer Boater Safety Education Classes during this year’s boat show! \n\n\n\n* When: Saturday & Sunday \n\n\n\n* Time: 10:30 AM – 2:30 PM \n\n\n\n* Pre-registration is REQUIRED \n\n\n\nSign up here: \n\n\n\nhttps://gowild.wi.gov/customers/safetyedclass \n\n\n\n Important: Classes are open to ANY current 11-year-old or older. Wisconsin law requires anyone born on or after January 1\, 1989 to pass a boater safety course and carry a Boater Education Card when operating a motorboat or personal watercraft (PWC) in Wisconsin. \n\n\n\nSpots fill fast — get registered and be ready for a safe season on the water!
URL:https://ruralnewfamilies.com/event/american-marine-and-motorsports-14th-annual-in-house-boat-show/2026-02-19/
LOCATION:American Marine and Motorsport\, 830 E Green Bay St\, Shawano\, Wisconsin\, 54166\, United States
CATEGORIES:Class,Expo,FREE,Hunting/Fishing/Outdoor Sports/Education,Indoor Event,Open House,Outdoor Recreation,Plan Ahead,RSVP - Pre-Registration Required,Shopping
GEO:44.7804959;-88.5979287
X-APPLE-STRUCTURED-LOCATION;VALUE=URI;X-ADDRESS=American Marine and Motorsport 830 E Green Bay St Shawano Wisconsin 54166 United States;X-APPLE-RADIUS=500;X-TITLE=830 E Green Bay St:geo:-88.5979287,44.7804959
END:VEVENT
BEGIN:VEVENT
DTSTART;TZID=America/Chicago:20260219T160000
DTEND;TZID=America/Chicago:20260219T200000
DTSTAMP:20260423T064426
CREATED:20260216T200400Z
LAST-MODIFIED:20260216T200438Z
UID:10012581-1771516800-1771531200@ruralnewfamilies.com
SUMMARY:Sam25 Free Health Clinic
DESCRIPTION:Doctors Available every week\n\n\n\nFREE Healthcare\n\n\n\nVideo Counseling Available\n\n\n\nHelp Finding Health Insurance\n\n\n\nWalk-Ins Welcome\n\n\n\nID or Documention NOT required\n\n\n\nFor those uninsured or living near the poverty level
URL:https://ruralnewfamilies.com/event/sam25-free-health-clinic/2026-02-19/
LOCATION:Sam25\, East Richmond Street 105\, Shawano\, WI\, 54166\, United States
CATEGORIES:Community Resource,FREE,Health and Safety
GEO:44.7747944;-88.608432
X-APPLE-STRUCTURED-LOCATION;VALUE=URI;X-ADDRESS=Sam25 East Richmond Street 105 Shawano WI 54166 United States;X-APPLE-RADIUS=500;X-TITLE=East Richmond Street 105:geo:-88.608432,44.7747944
END:VEVENT
BEGIN:VEVENT
DTSTART;TZID=America/Chicago:20260219T163000
DTEND;TZID=America/Chicago:20260219T180000
DTSTAMP:20260423T064426
CREATED:20260129T002419Z
LAST-MODIFIED:20260129T002422Z
UID:10012210-1771518600-1771524000@ruralnewfamilies.com
SUMMARY:Teen Only Night - Magic Clay Magnets
DESCRIPTION:Get creative and design your own magnet using magic air clay
URL:https://ruralnewfamilies.com/event/teen-only-night-magic-clay-magnets/
LOCATION:New London Public Library\, 406 S Pearl St\, New London\, Wisconsin\, 54961\, United States
CATEGORIES:FREE,Library/Museum,Teen
GEO:44.3895883;-88.7393637
X-APPLE-STRUCTURED-LOCATION;VALUE=URI;X-ADDRESS=New London Public Library 406 S Pearl St New London Wisconsin 54961 United States;X-APPLE-RADIUS=500;X-TITLE=406 S Pearl St:geo:-88.7393637,44.3895883
END:VEVENT
BEGIN:VEVENT
DTSTART;TZID=America/Chicago:20260219T183000
DTEND;TZID=America/Chicago:20260219T213000
DTSTAMP:20260423T064426
CREATED:20260218T001901Z
LAST-MODIFIED:20260218T001904Z
UID:10012278-1771525800-1771536600@ruralnewfamilies.com
SUMMARY:Circus Legends and Lore with Chad Lewis
DESCRIPTION:Free of chargeRefreshments provided
URL:https://ruralnewfamilies.com/event/circus-legends-and-lore-with-chad-lewis/
LOCATION:Suring Public Library\, East Main Street 604\, Suring\, Wisconsin\, 54174\, United States
CATEGORIES:FREE,Library/Museum
GEO:44.9992682;-88.3729785
X-APPLE-STRUCTURED-LOCATION;VALUE=URI;X-ADDRESS=Suring Public Library East Main Street 604 Suring Wisconsin 54174 United States;X-APPLE-RADIUS=500;X-TITLE=East Main Street 604:geo:-88.3729785,44.9992682
END:VEVENT
END:VCALENDAR