BEGIN:VCALENDAR
VERSION:2.0
PRODID:-//Rural Northeast Wisconsin Families - ECPv6.15.20//NONSGML v1.0//EN
CALSCALE:GREGORIAN
METHOD:PUBLISH
X-WR-CALNAME:Rural Northeast Wisconsin Families
X-ORIGINAL-URL:https://ruralnewfamilies.com
X-WR-CALDESC:Events for Rural Northeast Wisconsin Families
REFRESH-INTERVAL;VALUE=DURATION:PT1H
X-Robots-Tag:noindex
X-PUBLISHED-TTL:PT1H
BEGIN:VTIMEZONE
TZID:America/Chicago
BEGIN:DAYLIGHT
TZOFFSETFROM:-0600
TZOFFSETTO:-0500
TZNAME:CDT
DTSTART:20250309T080000
END:DAYLIGHT
BEGIN:STANDARD
TZOFFSETFROM:-0500
TZOFFSETTO:-0600
TZNAME:CST
DTSTART:20251102T070000
END:STANDARD
BEGIN:DAYLIGHT
TZOFFSETFROM:-0600
TZOFFSETTO:-0500
TZNAME:CDT
DTSTART:20260308T080000
END:DAYLIGHT
BEGIN:STANDARD
TZOFFSETFROM:-0500
TZOFFSETTO:-0600
TZNAME:CST
DTSTART:20261101T070000
END:STANDARD
BEGIN:DAYLIGHT
TZOFFSETFROM:-0600
TZOFFSETTO:-0500
TZNAME:CDT
DTSTART:20270314T080000
END:DAYLIGHT
BEGIN:STANDARD
TZOFFSETFROM:-0500
TZOFFSETTO:-0600
TZNAME:CST
DTSTART:20271107T070000
END:STANDARD
END:VTIMEZONE
BEGIN:VEVENT
DTSTART;TZID=America/Chicago:20260227T093000
DTEND;TZID=America/Chicago:20260227T133000
DTSTAMP:20260421T140518
CREATED:20260213T154747Z
LAST-MODIFIED:20260213T160335Z
UID:10012543-1772184600-1772199000@ruralnewfamilies.com
SUMMARY:Winter Farmers Market
DESCRIPTION:We have a great lineup of vendors featuring local maple syrup\, Christine’s salsa\, Bill’s honey\, and more. You’ll also find a wonderful selection of handmade jewelry\, woodcraft items\, and beading supplies. \n\n\n\nFrom 10:00 AM until they sell out\, Menominee High School students will have a booth set up to raise funds for their upcoming trip to the Crow Canyon Archaeological Field School in Mesa Verde this spring. Please consider stopping by to support their travel efforts and help them reach their fundraising goal. \n\n\n\nStarting at 11:00 AM\, we are excited to welcome a new vendor\, Sunnie’s Fry Bread by Phylly’s\, just in time for lunch! \n\n\n\nCampus Map
URL:https://ruralnewfamilies.com/event/winter-farmers-market/2026-02-27/
LOCATION:College of Menominee Nation\, Wisconsin 47 N 172\, Keshena\, Wisconsin\, 54135\, United States
CATEGORIES:Community Resource,Farmers Markets,FREE,Fundraiser,Indoor Event,Library/Museum,Music, Arts, Culture, & Tours,Shopping
GEO:44.8556522;-88.6262837
X-APPLE-STRUCTURED-LOCATION;VALUE=URI;X-ADDRESS=College of Menominee Nation Wisconsin 47 N 172 Keshena Wisconsin 54135 United States;X-APPLE-RADIUS=500;X-TITLE=Wisconsin 47 N 172:geo:-88.6262837,44.8556522
END:VEVENT
BEGIN:VEVENT
DTSTART;TZID=America/Chicago:20260227T140000
DTEND;TZID=America/Chicago:20260227T160000
DTSTAMP:20260421T140518
CREATED:20260109T165539Z
LAST-MODIFIED:20260109T165542Z
UID:10012051-1772200800-1772208000@ruralnewfamilies.com
SUMMARY:Community Craft Connection
DESCRIPTION:Bring a craft or project to work on while visiting with your neighbors!Fridays January through May 2:00 PM to 4:00 PMNo registration is required. We can’t wait to see what you’re working on!Food and drink are welcome.Clean-up is just like at home. If you make a mess\, clean it up. Ask for cleaning supplies when needed.If the meeting room is needed for another library purpose\, space for the Community Craft Connection will be provided in the magazine area.Community Craft Connection is self-directed. Librarians will be in the building but not leading this group.
URL:https://ruralnewfamilies.com/event/community-craft-connection-2/2026-02-27/
LOCATION:Sturm Memorial Library\, North Bridge Street 130\, Manawa\, Wisconsin\, 54949\, United States
CATEGORIES:DIY Crafts,FREE,Indoor Event,Library/Museum,Life Stages And Special Communities
GEO:44.4667058;-88.9196516
X-APPLE-STRUCTURED-LOCATION;VALUE=URI;X-ADDRESS=Sturm Memorial Library North Bridge Street 130 Manawa Wisconsin 54949 United States;X-APPLE-RADIUS=500;X-TITLE=North Bridge Street 130:geo:-88.9196516,44.4667058
END:VEVENT
END:VCALENDAR