BEGIN:VCALENDAR
VERSION:2.0
PRODID:-//Rural Northeast Wisconsin Families - ECPv6.15.20//NONSGML v1.0//EN
CALSCALE:GREGORIAN
METHOD:PUBLISH
X-WR-CALNAME:Rural Northeast Wisconsin Families
X-ORIGINAL-URL:https://ruralnewfamilies.com
X-WR-CALDESC:Events for Rural Northeast Wisconsin Families
REFRESH-INTERVAL;VALUE=DURATION:PT1H
X-Robots-Tag:noindex
X-PUBLISHED-TTL:PT1H
BEGIN:VTIMEZONE
TZID:America/Chicago
BEGIN:DAYLIGHT
TZOFFSETFROM:-0600
TZOFFSETTO:-0500
TZNAME:CDT
DTSTART:20250309T080000
END:DAYLIGHT
BEGIN:STANDARD
TZOFFSETFROM:-0500
TZOFFSETTO:-0600
TZNAME:CST
DTSTART:20251102T070000
END:STANDARD
BEGIN:DAYLIGHT
TZOFFSETFROM:-0600
TZOFFSETTO:-0500
TZNAME:CDT
DTSTART:20260308T080000
END:DAYLIGHT
BEGIN:STANDARD
TZOFFSETFROM:-0500
TZOFFSETTO:-0600
TZNAME:CST
DTSTART:20261101T070000
END:STANDARD
BEGIN:DAYLIGHT
TZOFFSETFROM:-0600
TZOFFSETTO:-0500
TZNAME:CDT
DTSTART:20270314T080000
END:DAYLIGHT
BEGIN:STANDARD
TZOFFSETFROM:-0500
TZOFFSETTO:-0600
TZNAME:CST
DTSTART:20271107T070000
END:STANDARD
END:VTIMEZONE
BEGIN:VEVENT
DTSTART;TZID=America/Chicago:20260228T090000
DTEND;TZID=America/Chicago:20260228T120000
DTSTAMP:20260425T114958
CREATED:20260208T020239Z
LAST-MODIFIED:20260208T020518Z
UID:10012381-1772269200-1772280000@ruralnewfamilies.com
SUMMARY:🧑‍🌾🧅🍞 Wausau Winter Market
DESCRIPTION:Come to the Indoor Winter Farmers Market.   \n\n\n\nMushrooms\, Fresh Greens via Aquaponics\, Blueberries\, honey\, coffee\, fresh bakery\, pastries\, meat\, eggs\, cheese\, vegetables\, Brunch and MORE! \n\n\n\nThings to Know Before you go – There is a $2 fee for any debit/credit transaction. \n\n\n\nFor more information
URL:https://ruralnewfamilies.com/event/wausau-winter-market/2026-02-28/
LOCATION:John Marshall Elementary School\, 1918 Lamont St\, Wausau\, Wisconsin\, 54403\, United States
CATEGORIES:Community Events & Parades,Craft/Vendor Shows,Farmers Markets,FREE,Indoor Event,Shopping
GEO:44.9369784;-89.6245761
X-APPLE-STRUCTURED-LOCATION;VALUE=URI;X-ADDRESS=John Marshall Elementary School 1918 Lamont St Wausau Wisconsin 54403 United States;X-APPLE-RADIUS=500;X-TITLE=1918 Lamont St:geo:-89.6245761,44.9369784
END:VEVENT
BEGIN:VEVENT
DTSTART;TZID=America/Chicago:20260228T090000
DTEND;TZID=America/Chicago:20260228T160000
DTSTAMP:20260425T114958
CREATED:20260227T202235Z
LAST-MODIFIED:20260227T202237Z
UID:10012768-1772269200-1772294400@ruralnewfamilies.com
SUMMARY:Manawa Snodeo
DESCRIPTION:
URL:https://ruralnewfamilies.com/event/manawa-snodeo/
LOCATION:Bear Lake Resort\, State Road 22 110 N4715\, Manawa\, Wisconsin\, 54949\, United States
CATEGORIES:Community Events & Parades,FREE
GEO:44.408961;-88.938405
X-APPLE-STRUCTURED-LOCATION;VALUE=URI;X-ADDRESS=Bear Lake Resort State Road 22 110 N4715 Manawa Wisconsin 54949 United States;X-APPLE-RADIUS=500;X-TITLE=State Road 22 110 N4715:geo:-88.938405,44.408961
END:VEVENT
BEGIN:VEVENT
DTSTART;TZID=America/Chicago:20260228T110000
DTEND;TZID=America/Chicago:20260228T120000
DTSTAMP:20260425T114958
CREATED:20260208T060445Z
LAST-MODIFIED:20260208T060446Z
UID:10012474-1772276400-1772280000@ruralnewfamilies.com
SUMMARY:🐊Doc's Zoo - Alligator Feeding
DESCRIPTION:Come on out and visit Doc’s Zoo!  Alligators get fed every Saturday at 11am (sharp).  You’ll want to get there early enough to park and find your spot.  Leave enough time to wander around the zoo and see ALL the amazing animals.  If you run early – check out Doc’s Amazing Breakfast at Doc’s Timeline Saloon served from 7-11. \n\n\n\nBe sure to visit the indoor and outdoor animals.  If you have older kids\, be sure to check out Doc’s Museum as well.
URL:https://ruralnewfamilies.com/event/%f0%9f%90%8adocs-zoo-alligator-feeding-19/2026-02-28/
LOCATION:Doc’s Harley-Davidson\, Wisconsin 29 w2709\, Bonduel\, WI\, 54107\, United States
CATEGORIES:FREE,Kids Outdoors,Zoo
GEO:44.704505;-88.374849
X-APPLE-STRUCTURED-LOCATION;VALUE=URI;X-ADDRESS=Doc’s Harley-Davidson Wisconsin 29 w2709 Bonduel WI 54107 United States;X-APPLE-RADIUS=500;X-TITLE=Wisconsin 29 w2709:geo:-88.374849,44.704505
END:VEVENT
BEGIN:VEVENT
DTSTART;TZID=America/Chicago:20260228T110000
DTEND;TZID=America/Chicago:20260228T140000
DTSTAMP:20260425T114958
CREATED:20260228T071431Z
LAST-MODIFIED:20260228T071433Z
UID:10012749-1772276400-1772287200@ruralnewfamilies.com
SUMMARY:Aber Suzuki Performs at Heritage Park
DESCRIPTION:​Join us for a special live performance by Aber Suzuki Center at Heritage Park on Saturday\, February 28 from 11:00am–1:00pm in our featured exhibit space.This inspiring concert is FREE with $5 paid admission to Rhythms of the River: The History of Music in Portage County\, making it the perfect opportunity to experience live music while exploring the rich musical heritage of our community.For 59 years\, the Aber Suzuki Center (ASC) has served children and adults throughout Central Wisconsin\, offering private lessons\, group classes\, chamber music coaching\, and early childhood classes for ages 0–4. ASC provides instruction in cello\, guitar\, harp\, piano\, viola\, violin\, and voice. Rooted in the Suzuki philosophy\, the Center emphasizes character development through musical study. Their highly trained faculty hold advanced degrees and bring extensive experience in Suzuki instruction.Through the support of the American Suzuki Foundation\, both merit scholarships and tuition assistance are available to qualifying students who have studied at the Center for at least one semester.Come celebrate the power of music\, education\, and community with this special performance in our featured exhibit space!
URL:https://ruralnewfamilies.com/event/aber-suzuki-performs-at-heritage-park/
LOCATION:Heritage Park – Plover\, 2700 Madison Ave\, Plover\, Wisconsin\, 54467\, United States
CATEGORIES:Concert/Performances,FREE,Live Music,Music, Arts, Culture, & Tours,Youth & Family Programs
GEO:44.4568871;-89.5409081
X-APPLE-STRUCTURED-LOCATION;VALUE=URI;X-ADDRESS=Heritage Park – Plover 2700 Madison Ave Plover Wisconsin 54467 United States;X-APPLE-RADIUS=500;X-TITLE=2700 Madison Ave:geo:-89.5409081,44.4568871
END:VEVENT
END:VCALENDAR